BEGIN:VCALENDAR
VERSION:2.0
PRODID:-//https://www.denbighchristianacademy.com//NONSGML kigkonsult.se iC
 alcreator 2.29.29//
CALSCALE:GREGORIAN
METHOD:PUBLISH
UID:ede013a5-4f37-47b8-b952-a8a108338730
X-WR-CALNAME:JCal Pro Calendar
X-WR-CALDESC:Your online events calendar
X-WR-TIMEZONE:UTC
BEGIN:VTIMEZONE
TZID:UTC
END:VTIMEZONE
BEGIN:VEVENT
UID:20251124T150000UTC-1698EjRVvn@https://www.denbighchristianacademy.com/
DTSTAMP:20260424T194425Z
CATEGORIES:School Menu
DESCRIPTION:<p><span style='text-decoration: underline\;'><strong>Breakfast
 </strong></span></p>\n<p><br />1/4-1/2 cup&nbsp\;Oatmeal<br />1/4-1/2 cup 
 Fruit<br />1/4-1/2 cup Cereal (optional)<br />6 oz. 1% Milk (8 oz for ages
  6-12)</p>\n<p><br /><span style='text-decoration: underline\;'><strong>AM
  Snack</strong></span></p>\n<p>3.9 oz Applesauce<br />2 oz Graham Crackers
 <br />4 oz Water (8 oz for ages 6-12)</p>\n<p><br /><span style='text-deco
 ration: underline\;'><strong>Lunch</strong></span></p>\n<p>1/2 - 1 cup Mac
  &amp\; Cheese<br />WW Bread<br />1/4-1/2 cup Mixed Vegetables<br />1/4 cu
 p Fruit<br />6 oz.1% Milk (ages 6-12 8 oz)</p>\n<p><br /><span style='text
 -decoration: underline\;'><strong>PM Snack</strong></span></p>\n<p>1 oz ba
 g WW Cheez-it Crackers<br />4 oz 1% Milk (8 oz for ages 6-12)</p>
DTSTART:20251124T000000Z
DTEND:20251124T235959Z
SUMMARY:Monday
URL:https://www.denbighchristianacademy.com/index.php/school-calendar/lunch
 -menu/10-school-menu/1944-monday
X-ALT-DESC;FMTTYPE=TEXT/HTML:<p><span style='text-decoration: underline\;'>
 <strong>Breakfast</strong></span></p>\n<p><br />1/4-1/2 cup&nbsp\;Oatmeal<
 br />1/4-1/2 cup Fruit<br />1/4-1/2 cup Cereal (optional)<br />6 oz. 1% Mi
 lk (8 oz for ages 6-12)</p>\n<p><br /><span style='text-decoration: underl
 ine\;'><strong>AM Snack</strong></span></p>\n<p>3.9 oz Applesauce<br />2 o
 z Graham Crackers<br />4 oz Water (8 oz for ages 6-12)</p>\n<p><br /><span
  style='text-decoration: underline\;'><strong>Lunch</strong></span></p>\n<
 p>1/2 - 1 cup Mac &amp\; Cheese<br />WW Bread<br />1/4-1/2 cup Mixed Veget
 ables<br />1/4 cup Fruit<br />6 oz.1% Milk (ages 6-12 8 oz)</p>\n<p><br />
 <span style='text-decoration: underline\;'><strong>PM Snack</strong></span
 ></p>\n<p>1 oz bag WW Cheez-it Crackers<br />4 oz 1% Milk (8 oz for ages 6
 -12)</p>
END:VEVENT
BEGIN:VEVENT
UID:20251125T150000UTC-4727p9vi8O@https://www.denbighchristianacademy.com/
DTSTAMP:20260424T194425Z
CATEGORIES:School Menu
DESCRIPTION:<p><span style='text-decoration: underline\;'><strong>Breakfast
 </strong></span></p>\n<p><br />1 - 2 oz Waffles<br />1/4-1/2 cup Fruit<br 
 />1/4-1/2 cup Cereal (optional)<br />6 oz. 1% Milk (8 oz for ages 6-12)</p
 >\n<p><br /><span style='text-decoration: underline\;'><strong>AM Snack</s
 trong></span></p>\n<p>1 oz bag Gold Fish Crackers<br />4 oz 1% Milk (8 oz 
 for ages 6-12)</p>\n<p><br /><span style='text-decoration: underline\;'><s
 trong>Lunch</strong></span></p>\n<p>1/4-1/2 cup Roast Turkey<br />1/4-1/2 
 cup MIxed Vegetables<br />1/4-1/2 cup Baked Apples &amp\; <br />Sweet Pota
 toes<br />1/4-1/2 cup Bread Stuffing<br />WW Roll<br />1/4 cup Fruit<br />
 6 oz.1% Milk (ages 6-12 8 oz)</p>\n<p><br /><span style='text-decoration: 
 underline\;'><strong>PM Snack</strong></span></p>\n<p>1 oz bag Assorted Co
 okies<br />4 oz 1% Milk (8 oz for ages 6-12)</p>
DTSTART:20251125T000000Z
DTEND:20251125T235959Z
SUMMARY:Tuesday
URL:https://www.denbighchristianacademy.com/index.php/school-calendar/lunch
 -menu/10-school-menu/1945-tuesday
X-ALT-DESC;FMTTYPE=TEXT/HTML:<p><span style='text-decoration: underline\;'>
 <strong>Breakfast</strong></span></p>\n<p><br />1 - 2 oz Waffles<br />1/4-
 1/2 cup Fruit<br />1/4-1/2 cup Cereal (optional)<br />6 oz. 1% Milk (8 oz 
 for ages 6-12)</p>\n<p><br /><span style='text-decoration: underline\;'><s
 trong>AM Snack</strong></span></p>\n<p>1 oz bag Gold Fish Crackers<br />4 
 oz 1% Milk (8 oz for ages 6-12)</p>\n<p><br /><span style='text-decoration
 : underline\;'><strong>Lunch</strong></span></p>\n<p>1/4-1/2 cup Roast Tur
 key<br />1/4-1/2 cup MIxed Vegetables<br />1/4-1/2 cup Baked Apples &amp\;
  <br />Sweet Potatoes<br />1/4-1/2 cup Bread Stuffing<br />WW Roll<br />1/
 4 cup Fruit<br />6 oz.1% Milk (ages 6-12 8 oz)</p>\n<p><br /><span style='
 text-decoration: underline\;'><strong>PM Snack</strong></span></p>\n<p>1 o
 z bag Assorted Cookies<br />4 oz 1% Milk (8 oz for ages 6-12)</p>
END:VEVENT
BEGIN:VEVENT
UID:20251126T150000UTC-13480hH8cA@https://www.denbighchristianacademy.com/
DTSTAMP:20260424T194425Z
CATEGORIES:School Menu
DESCRIPTION:<p><span style='text-decoration: underline\;'><strong>Breakfast
 </strong></span></p>\n<p><br />1/2 oz Blueberry Muffin<br />1/4-1/2 cup Fr
 uit<br />1/4-1/2 cup Cereal (optional)<br />6 oz. 1% Milk (8 oz for ages 6
 -12)</p>\n<p><br /><span style='text-decoration: underline\;'><strong>AM S
 nack</strong></span></p>\n<p>1 oz Ftruit Pop Tart<br />4 oz 1% Milk (8 oz 
 for ages 6-12)</p>\n<p><br /><span style='text-decoration: underline\;'><s
 trong>Lunch</strong></span></p>\n<p>2 - 4 oz Corn Dog Nuggets<br />1/4-1/2
  cup Mixed Vegetables<br />1/4 cup Fruit<br />6 oz.1% Milk (ages 6-12 8 oz
 )</p>\n<p><br /><span style='text-decoration: underline\;'><strong>PM Snac
 k</strong></span></p>\n<p>1 oz Ritz Bits Crackers w/Cheese<br />4 oz 1% Mi
 lk (8 oz for ages 6-12)</p>
DTSTART:20251126T000000Z
DTEND:20251126T235959Z
SUMMARY:Wednesday
URL:https://www.denbighchristianacademy.com/index.php/school-calendar/lunch
 -menu/10-school-menu/1946-wednesday
X-ALT-DESC;FMTTYPE=TEXT/HTML:<p><span style='text-decoration: underline\;'>
 <strong>Breakfast</strong></span></p>\n<p><br />1/2 oz Blueberry Muffin<br
  />1/4-1/2 cup Fruit<br />1/4-1/2 cup Cereal (optional)<br />6 oz. 1% Milk
  (8 oz for ages 6-12)</p>\n<p><br /><span style='text-decoration: underlin
 e\;'><strong>AM Snack</strong></span></p>\n<p>1 oz Ftruit Pop Tart<br />4 
 oz 1% Milk (8 oz for ages 6-12)</p>\n<p><br /><span style='text-decoration
 : underline\;'><strong>Lunch</strong></span></p>\n<p>2 - 4 oz Corn Dog Nug
 gets<br />1/4-1/2 cup Mixed Vegetables<br />1/4 cup Fruit<br />6 oz.1% Mil
 k (ages 6-12 8 oz)</p>\n<p><br /><span style='text-decoration: underline\;
 '><strong>PM Snack</strong></span></p>\n<p>1 oz Ritz Bits Crackers w/Chees
 e<br />4 oz 1% Milk (8 oz for ages 6-12)</p>
END:VEVENT
END:VCALENDAR
