BEGIN:VCALENDAR
VERSION:2.0
PRODID:-//https://www.denbighchristianacademy.com//NONSGML kigkonsult.se iC
 alcreator 2.29.29//
CALSCALE:GREGORIAN
METHOD:PUBLISH
UID:1935efd4-5abb-4b4c-8e91-f4c04cc9faab
X-WR-CALNAME:JCal Pro Calendar
X-WR-CALDESC:Your online events calendar
X-WR-TIMEZONE:UTC
BEGIN:VTIMEZONE
TZID:UTC
END:VTIMEZONE
BEGIN:VEVENT
UID:20250526T180000UTC-6351H7rSUK@https://www.denbighchristianacademy.com/
DTSTAMP:20260424T194435Z
CATEGORIES:School Menu
DESCRIPTION:<p>All of DCA is closed Monday for Memorial Day.</p>
DTSTART:20250526T000000Z
DTEND:20250526T235959Z
SUMMARY:Monday - Closed for Memorial Day
URL:https://www.denbighchristianacademy.com/index.php/school-calendar/lunch
 -menu/10-school-menu/1761-monday-closed-for-memorial-day
X-ALT-DESC;FMTTYPE=TEXT/HTML:<p>All of DCA is closed Monday for Memorial Da
 y.</p>
END:VEVENT
BEGIN:VEVENT
UID:20250527T180000UTC-4510DcNZoV@https://www.denbighchristianacademy.com/
DTSTAMP:20260424T194435Z
CATEGORIES:School Menu
DESCRIPTION:<p><span style='text-decoration: underline\;'><strong>Breakfast
 </strong></span></p>\n<p><br />1/4-1/2 cup&nbsp\;Oatmeal<br />1/4-1/2 cup 
 Fruit<br />1/4-1/2 cup Cereal (optional)<br />6 oz. 1% Milk (8 oz for ages
  6-12)</p>\n<p><br /><span style='text-decoration: underline\;'><strong>AM
  Snack</strong></span></p>\n<p>1/2 - 1 whole Banana<br />2 oz Graham Crack
 ers<br />4 oz Water (8 oz for ages 6-12)</p>\n<p><br /><span style='text-d
 ecoration: underline\;'><strong>Lunch</strong></span></p>\n<p>1 1/2 - 3 oz
  Hamburger Steak in Gravy<br />WW Roll<br />1/4-1/2 cup Mashed Potatoes<br
  />1/4-1/2 cup Green Beans<br />1/4 cup Fruit<br />6 oz.1% Milk (ages 6-12
  8 oz)</p>\n<p><br /><span style='text-decoration: underline\;'><strong>PM
  Snack</strong></span></p>\n<p>1 oz bag Cheez-it Crackers<br />4 oz 1% Mil
 k (8 oz for ages 6-12)</p>
DTSTART:20250527T000000Z
DTEND:20250527T235959Z
SUMMARY:Tuesday
URL:https://www.denbighchristianacademy.com/index.php/school-calendar/lunch
 -menu/10-school-menu/1762-tuesday
X-ALT-DESC;FMTTYPE=TEXT/HTML:<p><span style='text-decoration: underline\;'>
 <strong>Breakfast</strong></span></p>\n<p><br />1/4-1/2 cup&nbsp\;Oatmeal<
 br />1/4-1/2 cup Fruit<br />1/4-1/2 cup Cereal (optional)<br />6 oz. 1% Mi
 lk (8 oz for ages 6-12)</p>\n<p><br /><span style='text-decoration: underl
 ine\;'><strong>AM Snack</strong></span></p>\n<p>1/2 - 1 whole Banana<br />
 2 oz Graham Crackers<br />4 oz Water (8 oz for ages 6-12)</p>\n<p><br /><s
 pan style='text-decoration: underline\;'><strong>Lunch</strong></span></p>
 \n<p>1 1/2 - 3 oz Hamburger Steak in Gravy<br />WW Roll<br />1/4-1/2 cup M
 ashed Potatoes<br />1/4-1/2 cup Green Beans<br />1/4 cup Fruit<br />6 oz.1
 % Milk (ages 6-12 8 oz)</p>\n<p><br /><span style='text-decoration: underl
 ine\;'><strong>PM Snack</strong></span></p>\n<p>1 oz bag Cheez-it Crackers
 <br />4 oz 1% Milk (8 oz for ages 6-12)</p>
END:VEVENT
BEGIN:VEVENT
UID:20250528T180000UTC-8005RxMCdA@https://www.denbighchristianacademy.com/
DTSTAMP:20260424T194435Z
CATEGORIES:School Menu
DESCRIPTION:<p><span style='text-decoration: underline\;'><strong>Breakfast
 </strong></span></p>\n<p><br />1 1/2 oz Waffles<br />1/4-1/2 cup Fruit<br 
 />1/4-1/2 cup Cereal (optional)<br />6 oz. 1% Milk (8 oz for ages 6-12)</p
 >\n<p><br /><span style='text-decoration: underline\;'><strong>AM Snack</s
 trong></span></p>\n<p>3.9 oz Applesauce<br />2 oz Ritz Crackers<br />4 oz 
 Water (8 oz for ages 6-12)</p>\n<p><br /><span style='text-decoration: und
 erline\;'><strong>Lunch</strong></span></p>\n<p>2 - 4 oz Fish Sticks<br />
 WW Roll<br />1/4-1/2 cup Brown Rice<br />1/4-1/2 cup Peas Carrots<br />1/4
  cup Fruit<br />6 oz.1% Milk (ages 6-12 8 oz)</p>\n<p><br /><span style='t
 ext-decoration: underline\;'><strong>PM Snack</strong></span></p>\n<p>1 oz
  Ritz Bits Crackers w/Cheese<br />4 oz 1% Milk (8 oz for ages 6-12)</p>
DTSTART:20250528T000000Z
DTEND:20250528T235959Z
SUMMARY:Wednesday
URL:https://www.denbighchristianacademy.com/index.php/school-calendar/lunch
 -menu/10-school-menu/1763-wednesday
X-ALT-DESC;FMTTYPE=TEXT/HTML:<p><span style='text-decoration: underline\;'>
 <strong>Breakfast</strong></span></p>\n<p><br />1 1/2 oz Waffles<br />1/4-
 1/2 cup Fruit<br />1/4-1/2 cup Cereal (optional)<br />6 oz. 1% Milk (8 oz 
 for ages 6-12)</p>\n<p><br /><span style='text-decoration: underline\;'><s
 trong>AM Snack</strong></span></p>\n<p>3.9 oz Applesauce<br />2 oz Ritz Cr
 ackers<br />4 oz Water (8 oz for ages 6-12)</p>\n<p><br /><span style='tex
 t-decoration: underline\;'><strong>Lunch</strong></span></p>\n<p>2 - 4 oz 
 Fish Sticks<br />WW Roll<br />1/4-1/2 cup Brown Rice<br />1/4-1/2 cup Peas
  Carrots<br />1/4 cup Fruit<br />6 oz.1% Milk (ages 6-12 8 oz)</p>\n<p><br
  /><span style='text-decoration: underline\;'><strong>PM Snack</strong></s
 pan></p>\n<p>1 oz Ritz Bits Crackers w/Cheese<br />4 oz 1% Milk (8 oz for 
 ages 6-12)</p>
END:VEVENT
BEGIN:VEVENT
UID:20250521T180000UTC-8714Uwo0sJ@https://www.denbighchristianacademy.com/
DTSTAMP:20260424T194435Z
CATEGORIES:School Menu
DESCRIPTION:<p><span style='text-decoration: underline\;'><strong>Breakfast
 </strong></span></p>\n<p><br />1/4-1/2 cup Blueberry Muffin<br />1/4-1/2 c
 up Fruit<br />1/4-1/2 cup Cereal (optional)<br />6 oz. 1% Milk (8 oz for a
 ges 6-12)</p>\n<p><br /><span style='text-decoration: underline\;'><strong
 >AM Snack</strong></span></p>\n<p>1/2 -1 whole Orange<br />2 oz Saltine Cr
 ackers<br />4 oz Water (8 oz for ages 6-12)</p>\n<p><br /><span style='tex
 t-decoration: underline\;'><strong>Lunch</strong></span></p>\n<p>1 1/2 - 3
  oz Chicken Nuggets<br />WW Bread<br />1/4-1/2 cup Corn<br />1/4 cup Fruit
 y Jello<br />6 oz.1% Milk (ages 6-12 8 oz)</p>\n<p><br /><span style='text
 -decoration: underline\;'><strong>PM Snack</strong></span></p>\n<p>1.3 oz 
 Nutri Grain Bar<br />4 oz 1% Milk (8 oz for ages 6-12)</p>
DTSTART:20250529T000000Z
DTEND:20250529T235959Z
SUMMARY:Thursday
URL:https://www.denbighchristianacademy.com/index.php/school-calendar/lunch
 -menu/10-school-menu/1764-thursday
X-ALT-DESC;FMTTYPE=TEXT/HTML:<p><span style='text-decoration: underline\;'>
 <strong>Breakfast</strong></span></p>\n<p><br />1/4-1/2 cup Blueberry Muff
 in<br />1/4-1/2 cup Fruit<br />1/4-1/2 cup Cereal (optional)<br />6 oz. 1%
  Milk (8 oz for ages 6-12)</p>\n<p><br /><span style='text-decoration: und
 erline\;'><strong>AM Snack</strong></span></p>\n<p>1/2 -1 whole Orange<br 
 />2 oz Saltine Crackers<br />4 oz Water (8 oz for ages 6-12)</p>\n<p><br /
 ><span style='text-decoration: underline\;'><strong>Lunch</strong></span><
 /p>\n<p>1 1/2 - 3 oz Chicken Nuggets<br />WW Bread<br />1/4-1/2 cup Corn<b
 r />1/4 cup Fruity Jello<br />6 oz.1% Milk (ages 6-12 8 oz)</p>\n<p><br />
 <span style='text-decoration: underline\;'><strong>PM Snack</strong></span
 ></p>\n<p>1.3 oz Nutri Grain Bar<br />4 oz 1% Milk (8 oz for ages 6-12)</p
 >
END:VEVENT
BEGIN:VEVENT
UID:20250530T180000UTC-1920KNBehI@https://www.denbighchristianacademy.com/
DTSTAMP:20260424T194435Z
CATEGORIES:School Menu
DESCRIPTION:<p><span style='text-decoration: underline\;'><strong>Breakfast
 </strong></span></p>\n<p><br />1 1/2 oz Biscuit w/Turkey Sausage<br />1/4-
 1/2 cup Fruit<br />1/4-1/2 cup Cereal (optional)<br />6 oz. 1% Milk (8 oz 
 for ages 6-12)</p>\n<p><br /><span style='text-decoration: underline\;'><s
 trong>AM Snack</strong></span></p>\n<p>2 oz Seedless Grapes<br />2 oz Grah
 am Crackers<br />4 oz Water (8 oz for ages 6-12)</p>\n<p><br /><span style
 ='text-decoration: underline\;'><strong>Lunch</strong></span></p>\n<p>1/2 
 - 1 cup Beef &amp\; Macaroni in<br />Tomato Sauce<br />WW Bread<br />1/4-1
 /2 cup Broccoli<br />1/4 cup Fruit<br />6 oz.1% Milk (ages 6-12 8 oz)</p>
 \n<p><br /><span style='text-decoration: underline\;'><strong>PM Snack</st
 rong></span></p>\n<p>1 oz Fig Newton Bar<br />4 oz 1% Milk (8 oz for ages 
 6-12)</p>
DTSTART:20250530T000000Z
DTEND:20250530T235959Z
SUMMARY:Friday
URL:https://www.denbighchristianacademy.com/index.php/school-calendar/lunch
 -menu/10-school-menu/1765-friday
X-ALT-DESC;FMTTYPE=TEXT/HTML:<p><span style='text-decoration: underline\;'>
 <strong>Breakfast</strong></span></p>\n<p><br />1 1/2 oz Biscuit w/Turkey 
 Sausage<br />1/4-1/2 cup Fruit<br />1/4-1/2 cup Cereal (optional)<br />6 o
 z. 1% Milk (8 oz for ages 6-12)</p>\n<p><br /><span style='text-decoration
 : underline\;'><strong>AM Snack</strong></span></p>\n<p>2 oz Seedless Grap
 es<br />2 oz Graham Crackers<br />4 oz Water (8 oz for ages 6-12)</p>\n<p>
 <br /><span style='text-decoration: underline\;'><strong>Lunch</strong></s
 pan></p>\n<p>1/2 - 1 cup Beef &amp\; Macaroni in<br />Tomato Sauce<br />WW
  Bread<br />1/4-1/2 cup Broccoli<br />1/4 cup Fruit<br />6 oz.1% Milk (age
 s 6-12 8 oz)</p>\n<p><br /><span style='text-decoration: underline\;'><str
 ong>PM Snack</strong></span></p>\n<p>1 oz Fig Newton Bar<br />4 oz 1% Milk
  (8 oz for ages 6-12)</p>
END:VEVENT
END:VCALENDAR
