BEGIN:VCALENDAR
VERSION:2.0
PRODID:-//https://www.denbighchristianacademy.com//NONSGML kigkonsult.se iC
 alcreator 2.29.29//
CALSCALE:GREGORIAN
METHOD:PUBLISH
UID:c4722400-ce41-4bc7-b0be-fba1b55dc5e6
X-WR-CALNAME:JCal Pro Calendar
X-WR-CALDESC:Your online events calendar
X-WR-TIMEZONE:UTC
BEGIN:VTIMEZONE
TZID:UTC
END:VTIMEZONE
BEGIN:VEVENT
UID:20250217T180000UTC-1413s6x0gu@https://www.denbighchristianacademy.com/
DTSTAMP:20260424T175126Z
CATEGORIES:School Menu
DESCRIPTION:<p>All of DCA is Closed for President's Day.</p>
DTSTART:20250217T000000Z
DTEND:20250217T235959Z
SUMMARY:Monday - Closed for President's Day
URL:https://www.denbighchristianacademy.com/index.php/school-calendar/lunch
 -menu/10-school-menu/1691-monday-closed-for-president-s-day
X-ALT-DESC;FMTTYPE=TEXT/HTML:<p>All of DCA is Closed for President's Day.</
 p>
END:VEVENT
BEGIN:VEVENT
UID:20250218T180000UTC-4936e78XcI@https://www.denbighchristianacademy.com/
DTSTAMP:20260424T175126Z
CATEGORIES:School Menu
DESCRIPTION:<p><span style='text-decoration: underline\;'><strong>Breakfast
 </strong></span></p>\n<p><br />1 1/2 oz Biscui9t w/Turkey Sausage<br />1/4
 -1/2 cup Fruit<br />1/4-1/2 cup Cereal (optional)<br />6 oz. 1% Milk (8 oz
  for ages 6-12)</p>\n<p><br /><span style='text-decoration: underline\;'><
 strong>AM Snack</strong></span></p>\n<p>1/2 - 1 Orange<br />2 oz Ritz Crac
 kers<br />4 oz Water (8 oz for ages 6-12)</p>\n<p><br /><span style='text-
 decoration: underline\;'><strong>Lunch</strong></span></p>\n<p>1/2 - 1 cup
  Macaroni &amp\; Cheese<br />WW Roll<br />1/4-1/2 cup Peas &amp\; Carrots<
 br />1/4 cup Fruit<br />6 oz.1% Milk (ages 6-12 8 oz)</p>\n<p><br /><span 
 style='text-decoration: underline\;'><strong>PM Snack</strong></span></p>
 \n<p>1 oz bag of Cheez-it Crackers<br />4 oz 1% Milk (8 oz for ages 6-12)<
 /p>
DTSTART:20250218T000000Z
DTEND:20250218T235959Z
SUMMARY:Tuesday
URL:https://www.denbighchristianacademy.com/index.php/school-calendar/lunch
 -menu/10-school-menu/1692-tuesday
X-ALT-DESC;FMTTYPE=TEXT/HTML:<p><span style='text-decoration: underline\;'>
 <strong>Breakfast</strong></span></p>\n<p><br />1 1/2 oz Biscui9t w/Turkey
  Sausage<br />1/4-1/2 cup Fruit<br />1/4-1/2 cup Cereal (optional)<br />6 
 oz. 1% Milk (8 oz for ages 6-12)</p>\n<p><br /><span style='text-decoratio
 n: underline\;'><strong>AM Snack</strong></span></p>\n<p>1/2 - 1 Orange<br
  />2 oz Ritz Crackers<br />4 oz Water (8 oz for ages 6-12)</p>\n<p><br /><
 span style='text-decoration: underline\;'><strong>Lunch</strong></span></p
 >\n<p>1/2 - 1 cup Macaroni &amp\; Cheese<br />WW Roll<br />1/4-1/2 cup Pea
 s &amp\; Carrots<br />1/4 cup Fruit<br />6 oz.1% Milk (ages 6-12 8 oz)</p>
 \n<p><br /><span style='text-decoration: underline\;'><strong>PM Snack</st
 rong></span></p>\n<p>1 oz bag of Cheez-it Crackers<br />4 oz 1% Milk (8 oz
  for ages 6-12)</p>
END:VEVENT
BEGIN:VEVENT
UID:20250219T180000UTC-3137D66HnG@https://www.denbighchristianacademy.com/
DTSTAMP:20260424T175126Z
CATEGORIES:School Menu
DESCRIPTION:<p><span style='text-decoration: underline\;'><strong>Breakfast
 </strong></span></p>\n<p><br />1/4-1/2 cup&nbsp\;Oatmeal<br />1/4-1/2 cup 
 Pears<br />1/4-1/2 cup Cereal (optional)<br />6 oz. 1% Milk (8 oz for ages
  6-12)</p>\n<p><br /><span style='text-decoration: underline\;'><strong>AM
  Snack</strong></span></p>\n<p>3.9 oz Applesauce<br />2 oz Graham Crackers
 <br />4 oz Water (8 oz for ages 6-12)</p>\n<p><br /><span style='text-deco
 ration: underline\;'><strong>Lunch</strong></span></p>\n<p>1 1/2 - 2 oz Ch
 icken Nuggets<br />WW Roll<br />1/4-1/2 cup Mixed Vegetables<br />1/4 cup 
 Fruit<br />6 oz.1% Milk (ages 6-12 8 oz)</p>\n<p><br /><span style='text-d
 ecoration: underline\;'><strong>PM Snack</strong></span></p>\n<p>1 oz Ritz
  Bits Crackers w/Cheese<br />4 oz 1% Milk (8 oz for ages 6-12)</p>
DTSTART:20250219T000000Z
DTEND:20250219T235959Z
SUMMARY:Wednesday
URL:https://www.denbighchristianacademy.com/index.php/school-calendar/lunch
 -menu/10-school-menu/1693-wednesday
X-ALT-DESC;FMTTYPE=TEXT/HTML:<p><span style='text-decoration: underline\;'>
 <strong>Breakfast</strong></span></p>\n<p><br />1/4-1/2 cup&nbsp\;Oatmeal<
 br />1/4-1/2 cup Pears<br />1/4-1/2 cup Cereal (optional)<br />6 oz. 1% Mi
 lk (8 oz for ages 6-12)</p>\n<p><br /><span style='text-decoration: underl
 ine\;'><strong>AM Snack</strong></span></p>\n<p>3.9 oz Applesauce<br />2 o
 z Graham Crackers<br />4 oz Water (8 oz for ages 6-12)</p>\n<p><br /><span
  style='text-decoration: underline\;'><strong>Lunch</strong></span></p>\n<
 p>1 1/2 - 2 oz Chicken Nuggets<br />WW Roll<br />1/4-1/2 cup Mixed Vegetab
 les<br />1/4 cup Fruit<br />6 oz.1% Milk (ages 6-12 8 oz)</p>\n<p><br /><s
 pan style='text-decoration: underline\;'><strong>PM Snack</strong></span><
 /p>\n<p>1 oz Ritz Bits Crackers w/Cheese<br />4 oz 1% Milk (8 oz for ages 
 6-12)</p>
END:VEVENT
BEGIN:VEVENT
UID:20250220T180000UTC-6996aVd5La@https://www.denbighchristianacademy.com/
DTSTAMP:20260424T175126Z
CATEGORIES:School Menu
DESCRIPTION:<p><span style='text-decoration: underline\;'><strong>Breakfast
 </strong></span></p>\n<p><br />1 1/2 oz Blueberry Muffin<br />1/4-1/2 cup 
 Peaches<br />1/4-1/2 cup Cereal (optional)<br />6 oz. 1% Milk (8 oz for ag
 es 6-12)</p>\n<p><br /><span style='text-decoration: underline\;'><strong>
 AM Snack</strong></span></p>\n<p>2 oz Seedless Grapes<br />2 oz Saltine Cr
 ackers<br />4 oz Water (8 oz for ages 6-12)</p>\n<p><br /><span style='tex
 t-decoration: underline\;'><strong>Lunch</strong></span></p>\n<p>1 1/2 - 3
  oz Hamburger Steak in Gravy<br />WW Bread<br />1/4-1/2 cup Mashed Potatoe
 <br />1/4-1/2 cup Green Beans<br />1/4 cup Fruit<br />6 oz.1% Milk (ages 6
 -12 8 oz)</p>\n<p><br /><span style='text-decoration: underline\;'><strong
 >PM Snack</strong></span></p>\n<p>1.3 oz Nutri Grain Bar<br />4 oz 1% Milk
  (8 oz for ages 6-12)</p>
DTSTART:20250220T000000Z
DTEND:20250220T235959Z
SUMMARY:Thursday
URL:https://www.denbighchristianacademy.com/index.php/school-calendar/lunch
 -menu/10-school-menu/1694-thursday
X-ALT-DESC;FMTTYPE=TEXT/HTML:<p><span style='text-decoration: underline\;'>
 <strong>Breakfast</strong></span></p>\n<p><br />1 1/2 oz Blueberry Muffin<
 br />1/4-1/2 cup Peaches<br />1/4-1/2 cup Cereal (optional)<br />6 oz. 1% 
 Milk (8 oz for ages 6-12)</p>\n<p><br /><span style='text-decoration: unde
 rline\;'><strong>AM Snack</strong></span></p>\n<p>2 oz Seedless Grapes<br 
 />2 oz Saltine Crackers<br />4 oz Water (8 oz for ages 6-12)</p>\n<p><br /
 ><span style='text-decoration: underline\;'><strong>Lunch</strong></span><
 /p>\n<p>1 1/2 - 3 oz Hamburger Steak in Gravy<br />WW Bread<br />1/4-1/2 c
 up Mashed Potatoe<br />1/4-1/2 cup Green Beans<br />1/4 cup Fruit<br />6 o
 z.1% Milk (ages 6-12 8 oz)</p>\n<p><br /><span style='text-decoration: und
 erline\;'><strong>PM Snack</strong></span></p>\n<p>1.3 oz Nutri Grain Bar<
 br />4 oz 1% Milk (8 oz for ages 6-12)</p>
END:VEVENT
BEGIN:VEVENT
UID:20250221T180000UTC-5778eZk0jX@https://www.denbighchristianacademy.com/
DTSTAMP:20260424T175126Z
CATEGORIES:School Menu
DESCRIPTION:<p><span style='text-decoration: underline\;'><strong>Breakfast
 </strong></span></p>\n<p><br />1 - 2 oz Waffles<br />1/4-1/2 cup Mixed Fru
 it<br />1/4-1/2 cup Cereal (optional)<br />6 oz. 1% Milk (8 oz for ages 6-
 12)</p>\n<p><br /><span style='text-decoration: underline\;'><strong>AM Sn
 ack</strong></span></p>\n<p>1 oz Cheese<br />2 oz Ritz Crackers<br />4 oz 
 Water (8 oz for ages 6-12)</p>\n<p><br /><span style='text-decoration: und
 erline\;'><strong>Lunch</strong></span></p>\n<p>2 oz Beef Hot Dog on Bun<b
 r />1/4-1/2 cup Baked Beans<br />1/4 cup Fruit<br />6 oz.1% Milk (ages 6-1
 2 8 oz)</p>\n<p><br /><span style='text-decoration: underline\;'><strong>P
 M Snack</strong></span></p>\n<p>1 oz Fig Newton Bar<br />4 oz 1% Milk (8 o
 z for ages 6-12)</p>
DTSTART:20250221T000000Z
DTEND:20250221T235959Z
SUMMARY:Friday
URL:https://www.denbighchristianacademy.com/index.php/school-calendar/lunch
 -menu/10-school-menu/1695-friday
X-ALT-DESC;FMTTYPE=TEXT/HTML:<p><span style='text-decoration: underline\;'>
 <strong>Breakfast</strong></span></p>\n<p><br />1 - 2 oz Waffles<br />1/4-
 1/2 cup Mixed Fruit<br />1/4-1/2 cup Cereal (optional)<br />6 oz. 1% Milk 
 (8 oz for ages 6-12)</p>\n<p><br /><span style='text-decoration: underline
 \;'><strong>AM Snack</strong></span></p>\n<p>1 oz Cheese<br />2 oz Ritz Cr
 ackers<br />4 oz Water (8 oz for ages 6-12)</p>\n<p><br /><span style='tex
 t-decoration: underline\;'><strong>Lunch</strong></span></p>\n<p>2 oz Beef
  Hot Dog on Bun<br />1/4-1/2 cup Baked Beans<br />1/4 cup Fruit<br />6 oz.
 1% Milk (ages 6-12 8 oz)</p>\n<p><br /><span style='text-decoration: under
 line\;'><strong>PM Snack</strong></span></p>\n<p>1 oz Fig Newton Bar<br />
 4 oz 1% Milk (8 oz for ages 6-12)</p>
END:VEVENT
END:VCALENDAR
