BEGIN:VCALENDAR
VERSION:2.0
PRODID:-//https://www.denbighchristianacademy.com//NONSGML kigkonsult.se iC
 alcreator 2.29.29//
CALSCALE:GREGORIAN
METHOD:PUBLISH
UID:5f35f0a3-5e2e-45d7-94be-c808803fdfb7
X-WR-CALNAME:JCal Pro Calendar
X-WR-CALDESC:Your online events calendar
X-WR-TIMEZONE:UTC
BEGIN:VTIMEZONE
TZID:UTC
END:VTIMEZONE
BEGIN:VEVENT
UID:20250203T140000UTC-00805CUNal@https://www.denbighchristianacademy.com/
DTSTAMP:20260424T175253Z
CATEGORIES:School Menu
DESCRIPTION:<p><span style='text-decoration: underline\;'><strong>Breakfast
 </strong></span></p>\n<p>1/4-1/2 cup Oatmeal<br />1/4-1/2 cup Pineapple<br
  />1/4-1/2 cup Cereal (optional)<br />6 oz. Water (8 oz for ages 6-12)</p>
 \n<p><br /><span style='text-decoration: underline\;'><strong>AM Snack</st
 rong></span></p>\n<p>1 oz Cheese Stick<br />2 oz Ritz Crackers<br />4 oz W
 ater (8 oz for ages 6-12)</p>\n<p><br /><span style='text-decoration: unde
 rline\;'><strong>Lunch</strong></span></p>\n<p>1 1/2 - 3 oz Cheese Pizza<b
 r />1/4-1/2 cup Tossed Salad w/Dressing<br />1/4 cup Pineapple<br />6 oz.1
 % Milk (ages 6-12 8 oz)</p>\n<p><br /><span style='text-decoration: underl
 ine\;'><strong>PM Snack</strong></span></p>\n<p>3.9 oz Applesauce<br />4 o
 z 1% Milk (8 oz for ages 6-12)</p>
DTSTART:20250203T000000Z
DTEND:20250203T235959Z
SUMMARY:Monday
URL:https://www.denbighchristianacademy.com/index.php/school-calendar/lunch
 -menu/10-school-menu/1681-monday
X-ALT-DESC;FMTTYPE=TEXT/HTML:<p><span style='text-decoration: underline\;'>
 <strong>Breakfast</strong></span></p>\n<p>1/4-1/2 cup Oatmeal<br />1/4-1/2
  cup Pineapple<br />1/4-1/2 cup Cereal (optional)<br />6 oz. Water (8 oz f
 or ages 6-12)</p>\n<p><br /><span style='text-decoration: underline\;'><st
 rong>AM Snack</strong></span></p>\n<p>1 oz Cheese Stick<br />2 oz Ritz Cra
 ckers<br />4 oz Water (8 oz for ages 6-12)</p>\n<p><br /><span style='text
 -decoration: underline\;'><strong>Lunch</strong></span></p>\n<p>1 1/2 - 3 
 oz Cheese Pizza<br />1/4-1/2 cup Tossed Salad w/Dressing<br />1/4 cup Pine
 apple<br />6 oz.1% Milk (ages 6-12 8 oz)</p>\n<p><br /><span style='text-d
 ecoration: underline\;'><strong>PM Snack</strong></span></p>\n<p>3.9 oz Ap
 plesauce<br />4 oz 1% Milk (8 oz for ages 6-12)</p>
END:VEVENT
BEGIN:VEVENT
UID:20250204T150000UTC-84299frULC@https://www.denbighchristianacademy.com/
DTSTAMP:20260424T175253Z
CATEGORIES:School Menu
DESCRIPTION:<p><span style='text-decoration: underline\;'><strong>Breakfast
 </strong></span></p>\n<p>1 oz Turkey Sausage Biscuit<br />1/4-1/2 cup Oatm
 eal<br />6 oz. Water (8 oz for ages 6-12)</p>\n<p><br /><span style='text-
 decoration: underline\;'><strong>AM Snack</strong></span></p>\n<p>1/2 - 1 
 Orange<br />2 oz Saltine Crackers<br />4 oz Water (8 oz for ages 6-12)</p>
 \n<p><br /><span style='text-decoration: underline\;'><strong>Lunch</stron
 g></span></p>\n<p>1/2 cup Mac &amp\; Cheese<br />WW Roll<br />1/4-1/2 cup 
 Green Beans<br />1/4 cup Peaches<br />6 oz.1% Milk (ages 6-12 8 oz)</p>\n<
 p><br /><span style='text-decoration: underline\;'><strong>PM Snack</stron
 g></span></p>\n<p>1/2 to 1 whole Banana<br />4 oz 1% Milk (8 oz for ages 6
 -12)</p>
DTSTART:20250204T000000Z
DTEND:20250204T235959Z
SUMMARY:Tuesday
URL:https://www.denbighchristianacademy.com/index.php/school-calendar/lunch
 -menu/10-school-menu/1682-tuesday
X-ALT-DESC;FMTTYPE=TEXT/HTML:<p><span style='text-decoration: underline\;'>
 <strong>Breakfast</strong></span></p>\n<p>1 oz Turkey Sausage Biscuit<br /
 >1/4-1/2 cup Oatmeal<br />6 oz. Water (8 oz for ages 6-12)</p>\n<p><br /><
 span style='text-decoration: underline\;'><strong>AM Snack</strong></span>
 </p>\n<p>1/2 - 1 Orange<br />2 oz Saltine Crackers<br />4 oz Water (8 oz f
 or ages 6-12)</p>\n<p><br /><span style='text-decoration: underline\;'><st
 rong>Lunch</strong></span></p>\n<p>1/2 cup Mac &amp\; Cheese<br />WW Roll<
 br />1/4-1/2 cup Green Beans<br />1/4 cup Peaches<br />6 oz.1% Milk (ages 
 6-12 8 oz)</p>\n<p><br /><span style='text-decoration: underline\;'><stron
 g>PM Snack</strong></span></p>\n<p>1/2 to 1 whole Banana<br />4 oz 1% Milk
  (8 oz for ages 6-12)</p>
END:VEVENT
BEGIN:VEVENT
UID:20250205T150000UTC-5266OKUNvD@https://www.denbighchristianacademy.com/
DTSTAMP:20260424T175253Z
CATEGORIES:School Menu
DESCRIPTION:<p><span style='text-decoration: underline\;'><strong>Breakfast
 </strong></span></p>\n<p>1 ½ oz Blueberry Muffins<br />1/4-1/2 cup Pears<b
 r />6 oz. Water (8 oz for ages 6-12)</p>\n<p><br /><span style='text-decor
 ation: underline\;'><strong>AM Snack</strong></span></p>\n<p>3.9 oz Apples
 auce<br />4 oz Water (8 oz for ages 6-12)</p>\n<p><br /><span style='text-
 decoration: underline\;'><strong>Lunch</strong></span></p>\n<p>&nbsp\;2 - 
 4 oz Chicken Nuggets<br />1/4-1/2 cup Mixed Vegetables<br />1/4 cup Pears<
 br />6 oz.1% Milk (ages 6-12 8 oz)</p>\n<p><br /><span style='text-decorat
 ion: underline\;'><strong>PM Snack</strong></span></p>\n<p>1 oz pk Mini Pr
 etzels<br />4 oz 1% Milk (8 oz for ages 6-12)</p>
DTSTART:20250205T000000Z
DTEND:20250205T235959Z
SUMMARY:Wednesday
URL:https://www.denbighchristianacademy.com/index.php/school-calendar/lunch
 -menu/10-school-menu/1683-wednesday
X-ALT-DESC;FMTTYPE=TEXT/HTML:<p><span style='text-decoration: underline\;'>
 <strong>Breakfast</strong></span></p>\n<p>1 ½ oz Blueberry Muffins<br />1/
 4-1/2 cup Pears<br />6 oz. Water (8 oz for ages 6-12)</p>\n<p><br /><span 
 style='text-decoration: underline\;'><strong>AM Snack</strong></span></p>
 \n<p>3.9 oz Applesauce<br />4 oz Water (8 oz for ages 6-12)</p>\n<p><br />
 <span style='text-decoration: underline\;'><strong>Lunch</strong></span></
 p>\n<p>&nbsp\;2 - 4 oz Chicken Nuggets<br />1/4-1/2 cup Mixed Vegetables<b
 r />1/4 cup Pears<br />6 oz.1% Milk (ages 6-12 8 oz)</p>\n<p><br /><span s
 tyle='text-decoration: underline\;'><strong>PM Snack</strong></span></p>\n
 <p>1 oz pk Mini Pretzels<br />4 oz 1% Milk (8 oz for ages 6-12)</p>
END:VEVENT
BEGIN:VEVENT
UID:20250206T150000UTC-2323gW97vV@https://www.denbighchristianacademy.com/
DTSTAMP:20260424T175253Z
CATEGORIES:School Menu
DESCRIPTION:<p><span style='text-decoration: underline\;'><strong>Breakfast
 </strong></span></p>\n<p>1 ½ oz (2) Pancakes<br />1/4-1/2 cup Fruit Cockta
 il<br />6 oz. Water (8 oz for ages 6-12)</p>\n<p><br /><span style='text-d
 ecoration: underline\;'><strong>AM Snack</strong></span></p>\n<p>2 oz Seed
 less Grapes<br />2 oz Graham Crackers<br />4 oz Water (8 oz for ages 6-12)
 </p>\n<p><br /><span style='text-decoration: underline\;'><strong>Lunch</s
 trong></span></p>\n<p>1 1/2 - 2 oz Meatloaf w/Brown Gravy<br />WW Roll<br 
 />1/4-1/2 cup Broccoli<br />1/4-1/2 cup WG Brown Rice<br />1/4 cup Fruit<b
 r />6 oz.1% Milk (ages 6-12 8 oz)</p>\n<p><br /><span style='text-decorati
 on: underline\;'><strong>PM Snack</strong></span></p>\n<p>1.3 oz Nutri Gra
 in Bar<br />4 oz 1% Milk (8 oz for ages 6-12)</p>
DTSTART:20250206T000000Z
DTEND:20250206T235959Z
SUMMARY:Thursday
URL:https://www.denbighchristianacademy.com/index.php/school-calendar/lunch
 -menu/10-school-menu/1684-thursday
X-ALT-DESC;FMTTYPE=TEXT/HTML:<p><span style='text-decoration: underline\;'>
 <strong>Breakfast</strong></span></p>\n<p>1 ½ oz (2) Pancakes<br />1/4-1/2
  cup Fruit Cocktail<br />6 oz. Water (8 oz for ages 6-12)</p>\n<p><br /><s
 pan style='text-decoration: underline\;'><strong>AM Snack</strong></span><
 /p>\n<p>2 oz Seedless Grapes<br />2 oz Graham Crackers<br />4 oz Water (8 
 oz for ages 6-12)</p>\n<p><br /><span style='text-decoration: underline\;'
 ><strong>Lunch</strong></span></p>\n<p>1 1/2 - 2 oz Meatloaf w/Brown Gravy
 <br />WW Roll<br />1/4-1/2 cup Broccoli<br />1/4-1/2 cup WG Brown Rice<br 
 />1/4 cup Fruit<br />6 oz.1% Milk (ages 6-12 8 oz)</p>\n<p><br /><span sty
 le='text-decoration: underline\;'><strong>PM Snack</strong></span></p>\n<p
 >1.3 oz Nutri Grain Bar<br />4 oz 1% Milk (8 oz for ages 6-12)</p>
END:VEVENT
BEGIN:VEVENT
UID:20250207T150000UTC-8477UKojU6@https://www.denbighchristianacademy.com/
DTSTAMP:20260424T175253Z
CATEGORIES:School Menu
DESCRIPTION:<p><span style='text-decoration: underline\;'><strong>Breakfast
 </strong></span></p>\n<p>1/4-1/2 cup Cream of Wheat<br />1/4-1/2 cup Mixed
  Fruit<br />1/4-1/2 cup Cereal (optional)<br />6 oz. Water (8 oz for ages 
 6-12)</p>\n<p><br /><span style='text-decoration: underline\;'><strong>AM 
 Snack</strong></span></p>\n<p>1/2 - 1 Banana<br />2 oz Vanilla Waffers<br 
 />4 oz Water (8 oz for ages 6-12)</p>\n<p><br /><span style='text-decorati
 on: underline\;'><strong>Lunch</strong></span></p>\n<p>1 1/2 - 2 oz Corn D
 ogs&nbsp\;<br />w/WW Breading<br />1/4-1/2 cup Mixed Vegetables<br />1/4 c
 up Mixed Fruit<br />6 oz.1% Milk (ages 6-12 8 oz)</p>\n<p><br /><span styl
 e='text-decoration: underline\;'><strong>PM Snack</strong></span></p>\n<p>
 1 oz pk Ritz Bits Crackers w/Cheese<br />4 oz 1% Milk (8 oz for ages 6-12)
 </p>
DTSTART:20250207T000000Z
DTEND:20250207T235959Z
SUMMARY:Friday
URL:https://www.denbighchristianacademy.com/index.php/school-calendar/lunch
 -menu/10-school-menu/1685-friday
X-ALT-DESC;FMTTYPE=TEXT/HTML:<p><span style='text-decoration: underline\;'>
 <strong>Breakfast</strong></span></p>\n<p>1/4-1/2 cup Cream of Wheat<br />
 1/4-1/2 cup Mixed Fruit<br />1/4-1/2 cup Cereal (optional)<br />6 oz. Wate
 r (8 oz for ages 6-12)</p>\n<p><br /><span style='text-decoration: underli
 ne\;'><strong>AM Snack</strong></span></p>\n<p>1/2 - 1 Banana<br />2 oz Va
 nilla Waffers<br />4 oz Water (8 oz for ages 6-12)</p>\n<p><br /><span sty
 le='text-decoration: underline\;'><strong>Lunch</strong></span></p>\n<p>1 
 1/2 - 2 oz Corn Dogs&nbsp\;<br />w/WW Breading<br />1/4-1/2 cup Mixed Vege
 tables<br />1/4 cup Mixed Fruit<br />6 oz.1% Milk (ages 6-12 8 oz)</p>\n<p
 ><br /><span style='text-decoration: underline\;'><strong>PM Snack</strong
 ></span></p>\n<p>1 oz pk Ritz Bits Crackers w/Cheese<br />4 oz 1% Milk (8 
 oz for ages 6-12)</p>
END:VEVENT
END:VCALENDAR
