BEGIN:VCALENDAR
VERSION:2.0
PRODID:-//https://www.denbighchristianacademy.com//NONSGML kigkonsult.se iC
 alcreator 2.29.29//
CALSCALE:GREGORIAN
METHOD:PUBLISH
UID:7793c210-4c26-4502-9b62-bdb2288bc95a
X-WR-CALNAME:JCal Pro Calendar
X-WR-CALDESC:Your online events calendar
X-WR-TIMEZONE:UTC
BEGIN:VTIMEZONE
TZID:UTC
END:VTIMEZONE
BEGIN:VEVENT
UID:20241111T180000UTC-3303NSwoa0@https://www.denbighchristianacademy.com/
DTSTAMP:20260425T000730Z
CATEGORIES:School Menu
DESCRIPTION:<p><span style='text-decoration: underline\;'><strong>Breakfast
 </strong></span></p>\n<p>1/4-1/2 cup Oatmeal<br />1/4-1/2 cup Peaches<br /
 >1/4-1/2 cup Cereal (optional)<br />6 oz. 1% Milk (8 oz for ages 6-12)</p>
 \n<p><br /><span style='text-decoration: underline\;'><strong>AM Snack</st
 rong></span></p>\n<p>2 oz Saltine Crackers<br />3.9 oz Applesauce<br />4 o
 z Water (8 oz for ages 6-12)</p>\n<p><br /><span style='text-decoration: u
 nderline\;'><strong>Lunch</strong></span></p>\n<p>1/2-1 cup Chicken &amp\;
  Dumplings<br />WW Roll<br />1/4-1/2 cup Peas &amp\; Carrots<br />1/4 cup 
 Fruit<br />6 oz.1% Milk (ages 6-12 8 oz)</p>\n<p><br /><span style='text-d
 ecoration: underline\;'><strong>PM Snack</strong></span></p>\n<p>1.3 oz Fi
 g Newton Bar<br />4 oz 1% Milk (8 oz for ages 6-12)</p>
DTSTART:20241111T000000Z
DTEND:20241111T235959Z
SUMMARY:Monday
URL:https://www.denbighchristianacademy.com/index.php/school-calendar/lunch
 -menu/10-school-menu/1638-monday
X-ALT-DESC;FMTTYPE=TEXT/HTML:<p><span style='text-decoration: underline\;'>
 <strong>Breakfast</strong></span></p>\n<p>1/4-1/2 cup Oatmeal<br />1/4-1/2
  cup Peaches<br />1/4-1/2 cup Cereal (optional)<br />6 oz. 1% Milk (8 oz f
 or ages 6-12)</p>\n<p><br /><span style='text-decoration: underline\;'><st
 rong>AM Snack</strong></span></p>\n<p>2 oz Saltine Crackers<br />3.9 oz Ap
 plesauce<br />4 oz Water (8 oz for ages 6-12)</p>\n<p><br /><span style='t
 ext-decoration: underline\;'><strong>Lunch</strong></span></p>\n<p>1/2-1 c
 up Chicken &amp\; Dumplings<br />WW Roll<br />1/4-1/2 cup Peas &amp\; Carr
 ots<br />1/4 cup Fruit<br />6 oz.1% Milk (ages 6-12 8 oz)</p>\n<p><br /><s
 pan style='text-decoration: underline\;'><strong>PM Snack</strong></span><
 /p>\n<p>1.3 oz Fig Newton Bar<br />4 oz 1% Milk (8 oz for ages 6-12)</p>
END:VEVENT
BEGIN:VEVENT
UID:20241112T180000UTC-00911HcbEi@https://www.denbighchristianacademy.com/
DTSTAMP:20260425T000730Z
CATEGORIES:School Menu
DESCRIPTION:<p><span style='text-decoration: underline\;'><strong>Breakfast
 </strong></span></p>\n<p>1/2 oz Blueberry Muffin<br />1/4-1/2 cup Apple Sa
 uce<br />1/4-1/2 cup Cereal (optional)<br />6 oz. 1% Milk (8 oz for ages 6
 -12)</p>\n<p><br /><span style='text-decoration: underline\;'><strong>AM S
 nack</strong></span></p>\n<p>2 oz WG Ritz Crackers<br />Orange Slices<br /
 >4 oz Water (8 oz for ages 6-12)</p>\n<p><br /><span style='text-decoratio
 n: underline\;'><strong>Lunch</strong></span></p>\n<p>2 oz Corn Dog Nugget
 s<br />1/4-1/2 cup Baked Beans<br />1/4 cup Fruit<br />6 oz.1% Milk (ages 
 6-12 8 oz)</p>\n<p><br /><span style='text-decoration: underline\;'><stron
 g>PM Snack</strong></span></p>\n<p>1.3 oz Nutri Grain Bar<br />4 oz 1% Mil
 k (8 oz for ages 6-12)</p>
DTSTART:20241112T000000Z
DTEND:20241112T235959Z
SUMMARY:Tuesday
URL:https://www.denbighchristianacademy.com/index.php/school-calendar/lunch
 -menu/10-school-menu/1639-tuesday
X-ALT-DESC;FMTTYPE=TEXT/HTML:<p><span style='text-decoration: underline\;'>
 <strong>Breakfast</strong></span></p>\n<p>1/2 oz Blueberry Muffin<br />1/4
 -1/2 cup Apple Sauce<br />1/4-1/2 cup Cereal (optional)<br />6 oz. 1% Milk
  (8 oz for ages 6-12)</p>\n<p><br /><span style='text-decoration: underlin
 e\;'><strong>AM Snack</strong></span></p>\n<p>2 oz WG Ritz Crackers<br />O
 range Slices<br />4 oz Water (8 oz for ages 6-12)</p>\n<p><br /><span styl
 e='text-decoration: underline\;'><strong>Lunch</strong></span></p>\n<p>2 o
 z Corn Dog Nuggets<br />1/4-1/2 cup Baked Beans<br />1/4 cup Fruit<br />6 
 oz.1% Milk (ages 6-12 8 oz)</p>\n<p><br /><span style='text-decoration: un
 derline\;'><strong>PM Snack</strong></span></p>\n<p>1.3 oz Nutri Grain Bar
 <br />4 oz 1% Milk (8 oz for ages 6-12)</p>
END:VEVENT
BEGIN:VEVENT
UID:20241113T190000UTC-7743uWiBng@https://www.denbighchristianacademy.com/
DTSTAMP:20260425T000730Z
CATEGORIES:School Menu
DESCRIPTION:<p><span style='text-decoration: underline\;'><strong>Breakfast
 </strong></span></p>\n<p>1 ½ oz Belgium Waffles<br />1/4-1/2 cup Pineapple
 s<br />1/4-1/2 cup Cereal (optional)<br />6 oz. 1% Milk (8 oz for ages 6-1
 2)</p>\n<p><br /><span style='text-decoration: underline\;'><strong>AM Sna
 ck</strong></span></p>\n<p>2 oz Seedless Grapes<br />2 oz Graham Crackers<
 br />4 oz Water (8 oz for ages 6-12)</p>\n<p><br /><span style='text-decor
 ation: underline\;'><strong>Lunch</strong></span></p>\n<p>1 - 2 oz Fish St
 icks<br />WW Roll<br />1/4-1/2 cup Green Beans<br />1/4-1/2 cup Cole Slaw<
 br />1/4 cup Fruit<br />6 oz.1% Milk (ages 6-12 8 oz)</p>\n<p><br /><span 
 style='text-decoration: underline\;'><strong>PM Snack</strong></span></p>
 \n<p>1 oz bag Pretzels<br />4 oz 1% Milk (8 oz for ages 6-12)</p>
DTSTART:20241113T000000Z
DTEND:20241113T235959Z
SUMMARY:Wednesday
URL:https://www.denbighchristianacademy.com/index.php/school-calendar/lunch
 -menu/10-school-menu/1640-wednesday
X-ALT-DESC;FMTTYPE=TEXT/HTML:<p><span style='text-decoration: underline\;'>
 <strong>Breakfast</strong></span></p>\n<p>1 ½ oz Belgium Waffles<br />1/4-
 1/2 cup Pineapples<br />1/4-1/2 cup Cereal (optional)<br />6 oz. 1% Milk (
 8 oz for ages 6-12)</p>\n<p><br /><span style='text-decoration: underline\
 ;'><strong>AM Snack</strong></span></p>\n<p>2 oz Seedless Grapes<br />2 oz
  Graham Crackers<br />4 oz Water (8 oz for ages 6-12)</p>\n<p><br /><span 
 style='text-decoration: underline\;'><strong>Lunch</strong></span></p>\n<p
 >1 - 2 oz Fish Sticks<br />WW Roll<br />1/4-1/2 cup Green Beans<br />1/4-1
 /2 cup Cole Slaw<br />1/4 cup Fruit<br />6 oz.1% Milk (ages 6-12 8 oz)</p>
 \n<p><br /><span style='text-decoration: underline\;'><strong>PM Snack</st
 rong></span></p>\n<p>1 oz bag Pretzels<br />4 oz 1% Milk (8 oz for ages 6-
 12)</p>
END:VEVENT
BEGIN:VEVENT
UID:20241114T190000UTC-9528PuUusz@https://www.denbighchristianacademy.com/
DTSTAMP:20260425T000730Z
CATEGORIES:School Menu
DESCRIPTION:<p><span style='text-decoration: underline\;'><strong>Breakfast
 </strong></span></p>\n<p>1/2 oz Biscuit w/Turkey Sausage<br />1/4-1/2 cup 
 Peaches<br />1/4-1/2 cup Cereal (optional)<br />6 oz. 1% Milk (8 oz for ag
 es 6-12)</p>\n<p><br /><span style='text-decoration: underline\;'><strong>
 AM Snack</strong></span></p>\n<p>2 oz WG Ritz Crackers w/<br />Apple Slice
 s<br />4 oz Water (8 oz for ages 6-12)</p>\n<p><br /><span style='text-dec
 oration: underline\;'><strong>Lunch</strong></span></p>\n<p>1/2-1 cup Maca
 roni &amp\; Cheese<br />WW Roll<br />1/4-1/2 cup Mixed Vegetables<br />1/4
  cup Fruit<br />6 oz.1% Milk (ages 6-12 8 oz)</p>\n<p><br /><span style='t
 ext-decoration: underline\;'><strong>PM Snack</strong></span></p>\n<p>1 oz
  pk Ritz Bits w/Cheese<br />4 oz 1% Milk (8 oz for ages 6</p>
DTSTART:20241114T000000Z
DTEND:20241114T235959Z
SUMMARY:Thursday
URL:https://www.denbighchristianacademy.com/index.php/school-calendar/lunch
 -menu/10-school-menu/1641-thursday
X-ALT-DESC;FMTTYPE=TEXT/HTML:<p><span style='text-decoration: underline\;'>
 <strong>Breakfast</strong></span></p>\n<p>1/2 oz Biscuit w/Turkey Sausage<
 br />1/4-1/2 cup Peaches<br />1/4-1/2 cup Cereal (optional)<br />6 oz. 1% 
 Milk (8 oz for ages 6-12)</p>\n<p><br /><span style='text-decoration: unde
 rline\;'><strong>AM Snack</strong></span></p>\n<p>2 oz WG Ritz Crackers w/
 <br />Apple Slices<br />4 oz Water (8 oz for ages 6-12)</p>\n<p><br /><spa
 n style='text-decoration: underline\;'><strong>Lunch</strong></span></p>\n
 <p>1/2-1 cup Macaroni &amp\; Cheese<br />WW Roll<br />1/4-1/2 cup Mixed Ve
 getables<br />1/4 cup Fruit<br />6 oz.1% Milk (ages 6-12 8 oz)</p>\n<p><br
  /><span style='text-decoration: underline\;'><strong>PM Snack</strong></s
 pan></p>\n<p>1 oz pk Ritz Bits w/Cheese<br />4 oz 1% Milk (8 oz for ages 6
 </p>
END:VEVENT
BEGIN:VEVENT
UID:20241115T190000UTC-94901wS2WE@https://www.denbighchristianacademy.com/
DTSTAMP:20260425T000730Z
CATEGORIES:School Menu
DESCRIPTION:<p><span style='text-decoration: underline\;'><strong>Breakfast
 </strong></span></p>\n<p>1/4-1/2 cup Cream of Wheat<br />1/4-1/2 cup Mixed
  Fruit<br />1/4-1/2 cup Cereal (optional)<br />WW Toast<br />6 oz. 1% Milk
  (8 oz for ages 6-12)</p>\n<p><br /><span style='text-decoration: underlin
 e\;'><strong>AM Snack</strong></span></p>\n<p>1 oz String Cheese<br />2 oz
  Saltine Crackers<br />4 oz Water (8 oz for ages 6-12)</p>\n<p><br /><span
  style='text-decoration: underline\;'><strong>Lunch</strong></span></p>\n<
 p>1 1/2 - 3 oz Hamburger/Cheeseburger on<br />WW Bun<br />1/4-1/2 cup Corn
 <br />1/4 cup Fruit<br />6 oz.1% Milk (ages 6-12 8 oz)</p>\n<p><br /><span
  style='text-decoration: underline\;'><strong>PM Snack</strong></span></p>
 \n<p>1 oz bag of Cheez-its<br />4 oz 1% Milk (8 oz for ages 6-12)</p>
DTSTART:20241115T000000Z
DTEND:20241115T235959Z
SUMMARY:Friday
URL:https://www.denbighchristianacademy.com/index.php/school-calendar/lunch
 -menu/10-school-menu/1642-friday
X-ALT-DESC;FMTTYPE=TEXT/HTML:<p><span style='text-decoration: underline\;'>
 <strong>Breakfast</strong></span></p>\n<p>1/4-1/2 cup Cream of Wheat<br />
 1/4-1/2 cup Mixed Fruit<br />1/4-1/2 cup Cereal (optional)<br />WW Toast<b
 r />6 oz. 1% Milk (8 oz for ages 6-12)</p>\n<p><br /><span style='text-dec
 oration: underline\;'><strong>AM Snack</strong></span></p>\n<p>1 oz String
  Cheese<br />2 oz Saltine Crackers<br />4 oz Water (8 oz for ages 6-12)</p
 >\n<p><br /><span style='text-decoration: underline\;'><strong>Lunch</stro
 ng></span></p>\n<p>1 1/2 - 3 oz Hamburger/Cheeseburger on<br />WW Bun<br /
 >1/4-1/2 cup Corn<br />1/4 cup Fruit<br />6 oz.1% Milk (ages 6-12 8 oz)</p
 >\n<p><br /><span style='text-decoration: underline\;'><strong>PM Snack</s
 trong></span></p>\n<p>1 oz bag of Cheez-its<br />4 oz 1% Milk (8 oz for ag
 es 6-12)</p>
END:VEVENT
END:VCALENDAR
