BEGIN:VCALENDAR
VERSION:2.0
PRODID:-//https://www.denbighchristianacademy.com//NONSGML kigkonsult.se iC
 alcreator 2.29.29//
CALSCALE:GREGORIAN
METHOD:PUBLISH
UID:ba45c03c-9289-4d4c-ac37-64a463846533
X-WR-CALNAME:JCal Pro Calendar
X-WR-CALDESC:Your online events calendar
X-WR-TIMEZONE:UTC
BEGIN:VTIMEZONE
TZID:UTC
END:VTIMEZONE
BEGIN:VEVENT
UID:20241014T120000UTC-0970lBHVRv@https://www.denbighchristianacademy.com/
DTSTAMP:20260424T223323Z
CATEGORIES:School Menu
DESCRIPTION:<p><span style='text-decoration: underline\;'><strong>Breakfast
 </strong></span></p>\n<p>1/4-1/2 cup Oatmeal<br />1/4-1/2 cup Peaches<br /
 >1/4-1/2 cup Cereal (optional)<br />6 oz. 1% Milk (8 oz for ages 6-12)</p>
 \n<p><br /><span style='text-decoration: underline\;'><strong>AM Snack</st
 rong></span></p>\n<p>2 oz Saltine Crackers<br />1/4 cup Seedless Grapes<br
  />4 oz Water (8 oz for ages 6-12)</p>\n<p><br /><span style='text-decorat
 ion: underline\;'><strong>Lunch</strong></span></p>\n<p>1/4-1/2 cup Macaro
 ni and Cheese<br />WW Roll<br />1/4-1/2 cup Broccoli<br />1/4 cup Applesau
 ce<br />6 oz.1% Milk (ages 6-12 8 oz)</p>\n<p><br /><span style='text-deco
 ration: underline\;'><strong>PM Snack</strong></span></p>\n<p>1.3 oz Fig N
 ewton Bar<br />4 oz 1% Milk (8 oz for ages 6-12)</p>
DTSTART:20241014T000000Z
DTEND:20241014T235959Z
SUMMARY:Monday
URL:https://www.denbighchristianacademy.com/index.php/school-calendar/lunch
 -menu/10-school-menu/1616-monday
X-ALT-DESC;FMTTYPE=TEXT/HTML:<p><span style='text-decoration: underline\;'>
 <strong>Breakfast</strong></span></p>\n<p>1/4-1/2 cup Oatmeal<br />1/4-1/2
  cup Peaches<br />1/4-1/2 cup Cereal (optional)<br />6 oz. 1% Milk (8 oz f
 or ages 6-12)</p>\n<p><br /><span style='text-decoration: underline\;'><st
 rong>AM Snack</strong></span></p>\n<p>2 oz Saltine Crackers<br />1/4 cup S
 eedless Grapes<br />4 oz Water (8 oz for ages 6-12)</p>\n<p><br /><span st
 yle='text-decoration: underline\;'><strong>Lunch</strong></span></p>\n<p>1
 /4-1/2 cup Macaroni and Cheese<br />WW Roll<br />1/4-1/2 cup Broccoli<br /
 >1/4 cup Applesauce<br />6 oz.1% Milk (ages 6-12 8 oz)</p>\n<p><br /><span
  style='text-decoration: underline\;'><strong>PM Snack</strong></span></p>
 \n<p>1.3 oz Fig Newton Bar<br />4 oz 1% Milk (8 oz for ages 6-12)</p>
END:VEVENT
BEGIN:VEVENT
UID:20241015T120000UTC-0820JoAe1w@https://www.denbighchristianacademy.com/
DTSTAMP:20260424T223323Z
CATEGORIES:School Menu
DESCRIPTION:<p><span style='text-decoration: underline\;'><strong>Breakfast
 </strong></span></p>\n<p>1/2 oz Chicken Biscuit<br />1/4-1/2 cup Applesauc
 e<br />1/4-1/2 cup Cereal (optional)<br />6 oz. 1% Milk (8 oz for ages 6-1
 2)</p>\n<p><br /><span style='text-decoration: underline\;'><strong>AM Sna
 ck</strong></span></p>\n<p>1 - 2 oz WG Ritz Crackers<br />Orange Slices<br
  />4 oz Water (8 oz for ages 6-12)</p>\n<p><br /><span style='text-decorat
 ion: underline\;'><strong>Lunch</strong></span></p>\n<p>2 oz Beef Hotdog o
 n Bun<br />1/4-1/2 cup Baked Beans<br />1/4 cup Fruit<br />6 oz.1% Milk (a
 ges 6-12 8 oz)</p>\n<p><br /><span style='text-decoration: underline\;'><s
 trong>PM Snack</strong></span></p>\n<p>1 (.78 oz)&nbsp\; pk Oreo Cookies<b
 r />4 oz 1% Milk (8 oz for ages 6-12)</p>
DTSTART:20241015T000000Z
DTEND:20241015T235959Z
SUMMARY:Tuesday
URL:https://www.denbighchristianacademy.com/index.php/school-calendar/lunch
 -menu/10-school-menu/1617-tuesday
X-ALT-DESC;FMTTYPE=TEXT/HTML:<p><span style='text-decoration: underline\;'>
 <strong>Breakfast</strong></span></p>\n<p>1/2 oz Chicken Biscuit<br />1/4-
 1/2 cup Applesauce<br />1/4-1/2 cup Cereal (optional)<br />6 oz. 1% Milk (
 8 oz for ages 6-12)</p>\n<p><br /><span style='text-decoration: underline\
 ;'><strong>AM Snack</strong></span></p>\n<p>1 - 2 oz WG Ritz Crackers<br /
 >Orange Slices<br />4 oz Water (8 oz for ages 6-12)</p>\n<p><br /><span st
 yle='text-decoration: underline\;'><strong>Lunch</strong></span></p>\n<p>2
  oz Beef Hotdog on Bun<br />1/4-1/2 cup Baked Beans<br />1/4 cup Fruit<br 
 />6 oz.1% Milk (ages 6-12 8 oz)</p>\n<p><br /><span style='text-decoration
 : underline\;'><strong>PM Snack</strong></span></p>\n<p>1 (.78 oz)&nbsp\; 
 pk Oreo Cookies<br />4 oz 1% Milk (8 oz for ages 6-12)</p>
END:VEVENT
BEGIN:VEVENT
UID:20241016T130000UTC-8746auuUDr@https://www.denbighchristianacademy.com/
DTSTAMP:20260424T223323Z
CATEGORIES:School Menu
DESCRIPTION:<p><span style='text-decoration: underline\;'><strong>Breakfast
 </strong></span></p>\n<p>1 ½ oz Belgium Waffles<br />1/4-1/2 cup Pineapple
 s<br />1/4-1/2 cup Cereal (optional)<br />6 oz. 1% Milk (8 oz for ages 6-1
 2)</p>\n<p><br /><span style='text-decoration: underline\;'><strong>AM Sna
 ck</strong></span></p>\n<p>1/2 - 1 whole Banana<br />2 oz Graham Crackers<
 br />4 oz Water (8 oz for ages 6-12)</p>\n<p><br /><span style='text-decor
 ation: underline\;'><strong>Lunch</strong></span></p>\n<p>1/4-1/2 cup BBQ 
 Chicken on<br />Bun w/Cole Slaw<br />1/4-1/2 cup Green Beans<br />1/4 cup 
 Fruit<br />6 oz.1% Milk (ages 6-12 8 oz)</p>\n<p><br /><span style='text-d
 ecoration: underline\;'><strong>PM Snack</strong></span></p>\n<p>1.3 oz Nu
 tri Grain Bar<br />4 oz 1% Milk (8 oz for ages 6-12)</p>
DTSTART:20241016T000000Z
DTEND:20241016T235959Z
SUMMARY:Wednesday
URL:https://www.denbighchristianacademy.com/index.php/school-calendar/lunch
 -menu/10-school-menu/1618-wednesday
X-ALT-DESC;FMTTYPE=TEXT/HTML:<p><span style='text-decoration: underline\;'>
 <strong>Breakfast</strong></span></p>\n<p>1 ½ oz Belgium Waffles<br />1/4-
 1/2 cup Pineapples<br />1/4-1/2 cup Cereal (optional)<br />6 oz. 1% Milk (
 8 oz for ages 6-12)</p>\n<p><br /><span style='text-decoration: underline\
 ;'><strong>AM Snack</strong></span></p>\n<p>1/2 - 1 whole Banana<br />2 oz
  Graham Crackers<br />4 oz Water (8 oz for ages 6-12)</p>\n<p><br /><span 
 style='text-decoration: underline\;'><strong>Lunch</strong></span></p>\n<p
 >1/4-1/2 cup BBQ Chicken on<br />Bun w/Cole Slaw<br />1/4-1/2 cup Green Be
 ans<br />1/4 cup Fruit<br />6 oz.1% Milk (ages 6-12 8 oz)</p>\n<p><br /><s
 pan style='text-decoration: underline\;'><strong>PM Snack</strong></span><
 /p>\n<p>1.3 oz Nutri Grain Bar<br />4 oz 1% Milk (8 oz for ages 6-12)</p>
END:VEVENT
BEGIN:VEVENT
UID:20241017T130000UTC-3162s95Nv5@https://www.denbighchristianacademy.com/
DTSTAMP:20260424T223323Z
CATEGORIES:School Menu
DESCRIPTION:<p><span style='text-decoration: underline\;'><strong>Breakfast
 </strong></span></p>\n<p>1/2 oz Biscuit w/Turkey Bacon<br />1/4-1/2 cup Pe
 aches<br />1/4-1/2 cup Cereal (optional)<br />6 oz. 1% Milk (8 oz for ages
  6-12)</p>\n<p><br /><span style='text-decoration: underline\;'><strong>AM
  Snack</strong></span></p>\n<p>1 - 2 oz Ritz Crackers&nbsp\;<br />3.9 oz A
 pplesauce<br />4 oz Water (8 oz for ages 6-12)</p>\n<p><br /><span style='
 text-decoration: underline\;'><strong>Lunch</strong></span></p>\n<p>1/2 - 
 1 cup Chicken Noodle Soup<br />1/2-1 whole Turkey Sandwich on<br />WW Brea
 d<br />1/4 cup Fruit<br />6 oz.1% Milk (ages 6-12 8 oz)</p>\n<p><br /><spa
 n style='text-decoration: underline\;'><strong>PM Snack</strong></span></p
 >\n<p>1 oz pk Ritz Bits w/Cheese<br />4 oz 1% Milk (8 oz for ages 6-12)</p
 >
DTSTART:20241017T000000Z
DTEND:20241017T235959Z
SUMMARY:Thursday
URL:https://www.denbighchristianacademy.com/index.php/school-calendar/lunch
 -menu/10-school-menu/1619-thursday
X-ALT-DESC;FMTTYPE=TEXT/HTML:<p><span style='text-decoration: underline\;'>
 <strong>Breakfast</strong></span></p>\n<p>1/2 oz Biscuit w/Turkey Bacon<br
  />1/4-1/2 cup Peaches<br />1/4-1/2 cup Cereal (optional)<br />6 oz. 1% Mi
 lk (8 oz for ages 6-12)</p>\n<p><br /><span style='text-decoration: underl
 ine\;'><strong>AM Snack</strong></span></p>\n<p>1 - 2 oz Ritz Crackers&nbs
 p\;<br />3.9 oz Applesauce<br />4 oz Water (8 oz for ages 6-12)</p>\n<p><b
 r /><span style='text-decoration: underline\;'><strong>Lunch</strong></spa
 n></p>\n<p>1/2 - 1 cup Chicken Noodle Soup<br />1/2-1 whole Turkey Sandwic
 h on<br />WW Bread<br />1/4 cup Fruit<br />6 oz.1% Milk (ages 6-12 8 oz)</
 p>\n<p><br /><span style='text-decoration: underline\;'><strong>PM Snack</
 strong></span></p>\n<p>1 oz pk Ritz Bits w/Cheese<br />4 oz 1% Milk (8 oz 
 for ages 6-12)</p>
END:VEVENT
BEGIN:VEVENT
UID:20241018T130000UTC-4550piZaS3@https://www.denbighchristianacademy.com/
DTSTAMP:20260424T223323Z
CATEGORIES:School Menu
DESCRIPTION:<p><span style='text-decoration: underline\;'><strong>Breakfast
 </strong></span></p>\n<p>1/4-1/2 cup Cream of Wheat<br />1/4-1/2 cup Mixed
  Fruit<br />1/4-1/2 cup Cereal (optional)<br />WW Toast<br />6 oz. 1% Milk
  (8 oz for ages 6-12)</p>\n<p><br /><span style='text-decoration: underlin
 e\;'><strong>AM Snack</strong></span></p>\n<p>1 oz String Cheese<br />2 oz
  Saltine Crackers<br />4 oz Water (8 oz for ages 6-12)</p>\n<p><br /><span
  style='text-decoration: underline\;'><strong>Lunch</strong></span></p>\n<
 p>1 1/2 - 2 oz Fish Sticks<br />WW Roll<br />1/4-1/2 cup Corn<br />1/4 cup
  Fruit<br />6 oz.1% Milk (ages 6-12 8 oz)</p>\n<p><br /><span style='text-
 decoration: underline\;'><strong>PM Snack</strong></span></p>\n<p>1 oz Bag
  Cheez-its&nbsp\;<strong>OR&nbsp\;</strong>Pretzels<br />4 oz 1% Milk (8 o
 z for ages 6-12)</p>
DTSTART:20241018T000000Z
DTEND:20241018T235959Z
SUMMARY:Friday
URL:https://www.denbighchristianacademy.com/index.php/school-calendar/lunch
 -menu/10-school-menu/1620-friday
X-ALT-DESC;FMTTYPE=TEXT/HTML:<p><span style='text-decoration: underline\;'>
 <strong>Breakfast</strong></span></p>\n<p>1/4-1/2 cup Cream of Wheat<br />
 1/4-1/2 cup Mixed Fruit<br />1/4-1/2 cup Cereal (optional)<br />WW Toast<b
 r />6 oz. 1% Milk (8 oz for ages 6-12)</p>\n<p><br /><span style='text-dec
 oration: underline\;'><strong>AM Snack</strong></span></p>\n<p>1 oz String
  Cheese<br />2 oz Saltine Crackers<br />4 oz Water (8 oz for ages 6-12)</p
 >\n<p><br /><span style='text-decoration: underline\;'><strong>Lunch</stro
 ng></span></p>\n<p>1 1/2 - 2 oz Fish Sticks<br />WW Roll<br />1/4-1/2 cup 
 Corn<br />1/4 cup Fruit<br />6 oz.1% Milk (ages 6-12 8 oz)</p>\n<p><br /><
 span style='text-decoration: underline\;'><strong>PM Snack</strong></span>
 </p>\n<p>1 oz Bag Cheez-its&nbsp\;<strong>OR&nbsp\;</strong>Pretzels<br />
 4 oz 1% Milk (8 oz for ages 6-12)</p>
END:VEVENT
END:VCALENDAR
