BEGIN:VCALENDAR
VERSION:2.0
PRODID:-//https://www.denbighchristianacademy.com//NONSGML kigkonsult.se iC
 alcreator 2.29.29//
CALSCALE:GREGORIAN
METHOD:PUBLISH
UID:b436c679-c50c-45a3-9e92-b9733dfa920d
X-WR-CALNAME:JCal Pro Calendar
X-WR-CALDESC:Your online events calendar
X-WR-TIMEZONE:UTC
BEGIN:VTIMEZONE
TZID:UTC
END:VTIMEZONE
BEGIN:VEVENT
UID:20240902T190000UTC-6127taMFLe@https://www.denbighchristianacademy.com/
DTSTAMP:20260424T181032Z
CATEGORIES:School Menu
DESCRIPTION:<p>All of DCA Closed for Labor Day.</p>
DTSTART:20240902T000000Z
DTEND:20240902T235959Z
SUMMARY:Monday - Closed for Labor Day
URL:https://www.denbighchristianacademy.com/index.php/school-calendar/lunch
 -menu/10-school-menu/1586-monday-closed-for-labor-day
X-ALT-DESC;FMTTYPE=TEXT/HTML:<p>All of DCA Closed for Labor Day.</p>
END:VEVENT
BEGIN:VEVENT
UID:20240903T190000UTC-0398DM6GtI@https://www.denbighchristianacademy.com/
DTSTAMP:20260424T181032Z
CATEGORIES:School Menu
DESCRIPTION:<p><span style='text-decoration: underline\;'><strong>Breakfast
 </strong></span></p>\n<p>1/2 cup Oatmeal<br />1/4-1/2 cup Peaches<br />1/4
 -1/2 cup Cereal (optional)<br />6 oz. 1% Milk (8 oz for ages 6-12)</p>\n<p
 ><br /><span style='text-decoration: underline\;'><strong>AM Snack</strong
 ></span></p>\n<p>1 Fruit Pop Tart<br />4 oz 1% Milk (8 oz for ages 6-12)</
 p>\n<p><br /><span style='text-decoration: underline\;'><strong>Lunch</str
 ong></span></p>\n<p>1 1/2 oz Chicken Leg<br />\WW Roll<br />1/4-1/2 cup Sw
 eet Corn<br />1/4 cup Applesauce<br />6 oz.1% Milk (ages 6-12 8 oz)</p>\n<
 p><br /><span style='text-decoration: underline\;'><strong>PM Snack</stron
 g></span></p>\n<p>1 1/2 oz pk Lorne Doone Cookies<br />4 oz 1% Milk (8 oz 
 for ages 6-12)</p>
DTSTART:20240903T000000Z
DTEND:20240903T235959Z
SUMMARY:Tuesday
URL:https://www.denbighchristianacademy.com/index.php/school-calendar/lunch
 -menu/10-school-menu/1587-tuesday
X-ALT-DESC;FMTTYPE=TEXT/HTML:<p><span style='text-decoration: underline\;'>
 <strong>Breakfast</strong></span></p>\n<p>1/2 cup Oatmeal<br />1/4-1/2 cup
  Peaches<br />1/4-1/2 cup Cereal (optional)<br />6 oz. 1% Milk (8 oz for a
 ges 6-12)</p>\n<p><br /><span style='text-decoration: underline\;'><strong
 >AM Snack</strong></span></p>\n<p>1 Fruit Pop Tart<br />4 oz 1% Milk (8 oz
  for ages 6-12)</p>\n<p><br /><span style='text-decoration: underline\;'><
 strong>Lunch</strong></span></p>\n<p>1 1/2 oz Chicken Leg<br />\WW Roll<br
  />1/4-1/2 cup Sweet Corn<br />1/4 cup Applesauce<br />6 oz.1% Milk (ages 
 6-12 8 oz)</p>\n<p><br /><span style='text-decoration: underline\;'><stron
 g>PM Snack</strong></span></p>\n<p>1 1/2 oz pk Lorne Doone Cookies<br />4 
 oz 1% Milk (8 oz for ages 6-12)</p>
END:VEVENT
BEGIN:VEVENT
UID:20240904T190000UTC-9189s1Xkt3@https://www.denbighchristianacademy.com/
DTSTAMP:20260424T181032Z
CATEGORIES:School Menu
DESCRIPTION:<p><span style='text-decoration: underline\;'><strong>Breakfast
 </strong></span></p>\n<p>1 ½ oz Waffles<br />1/4-1/2 cup Pineapples<br />1
 /4-1/2 cup Cereal (optional)<br />6 oz. 1% Milk (8 oz for ages 6-12)</p>\n
 <p><br /><span style='text-decoration: underline\;'><strong>AM Snack</stro
 ng></span></p>\n<p>1/2 - 1 Banana<br />4 oz 1% Milk (8 oz for ages 6-12)</
 p>\n<p><br /><span style='text-decoration: underline\;'><strong>Lunch</str
 ong></span></p>\n<p>1 1/2 oz Hot Dog on<br />WW Bun<br />1/4-1/2 cup Mixed
  Vegetables<br />1/4 cup Peaches<br />6 oz.1% Milk (ages 6-12 8 oz)</p>\n<
 p><br /><span style='text-decoration: underline\;'><strong>PM Snack</stron
 g></span></p>\n<p>1.62 oz Asst. Fruit Snacks<br />4 oz 1% Milk (8 oz for a
 ges 6-12)</p>
DTSTART:20240904T000000Z
DTEND:20240904T235959Z
SUMMARY:Wednesday
URL:https://www.denbighchristianacademy.com/index.php/school-calendar/lunch
 -menu/10-school-menu/1588-wednesday
X-ALT-DESC;FMTTYPE=TEXT/HTML:<p><span style='text-decoration: underline\;'>
 <strong>Breakfast</strong></span></p>\n<p>1 ½ oz Waffles<br />1/4-1/2 cup 
 Pineapples<br />1/4-1/2 cup Cereal (optional)<br />6 oz. 1% Milk (8 oz for
  ages 6-12)</p>\n<p><br /><span style='text-decoration: underline\;'><stro
 ng>AM Snack</strong></span></p>\n<p>1/2 - 1 Banana<br />4 oz 1% Milk (8 oz
  for ages 6-12)</p>\n<p><br /><span style='text-decoration: underline\;'><
 strong>Lunch</strong></span></p>\n<p>1 1/2 oz Hot Dog on<br />WW Bun<br />
 1/4-1/2 cup Mixed Vegetables<br />1/4 cup Peaches<br />6 oz.1% Milk (ages 
 6-12 8 oz)</p>\n<p><br /><span style='text-decoration: underline\;'><stron
 g>PM Snack</strong></span></p>\n<p>1.62 oz Asst. Fruit Snacks<br />4 oz 1%
  Milk (8 oz for ages 6-12)</p>
END:VEVENT
BEGIN:VEVENT
UID:20240905T190000UTC-4750VZjv5u@https://www.denbighchristianacademy.com/
DTSTAMP:20260424T181032Z
CATEGORIES:School Menu
DESCRIPTION:<p><span style='text-decoration: underline\;'><strong>Breakfast
 </strong></span></p>\n<p>1/4-1/2 cup Cream of Wheat<br />1/4-1/2 cup Fruit
  Cocktail<br />1/4-1/2 cup Cereal (optional)<br />6 oz. 1% Milk (8 oz for 
 ages 6-12)</p>\n<p><br /><span style='text-decoration: underline\;'><stron
 g>AM Snack</strong></span></p>\n<p>1.3 oz Niutri Grain Bar<br />4 oz 1% Mi
 lk (8 oz for ages 6-12)</p>\n<p><br /><span style='text-decoration: underl
 ine\;'><strong>Lunch</strong></span></p>\n<p>1/4-1/2 cup Beef &amp\; Macar
 oni in<br />Tomato Sauce<br />1/4-1/2 cup Peas &amp\; Carrots<br />1/4 cup
  Mixed Fruit<br />6 oz.1% Milk (ages 6-12 8 oz)</p>\n<p><br /><span style=
 'text-decoration: underline\;'><strong>PM Snack</strong></span></p>\n<p>1/
 4-1/2 cup Animal Crackers<br />4 oz 1% Milk (8 oz for ages 6-12)</p>
DTSTART:20240905T000000Z
DTEND:20240905T235959Z
SUMMARY:Thursday
URL:https://www.denbighchristianacademy.com/index.php/school-calendar/lunch
 -menu/10-school-menu/1589-thursday
X-ALT-DESC;FMTTYPE=TEXT/HTML:<p><span style='text-decoration: underline\;'>
 <strong>Breakfast</strong></span></p>\n<p>1/4-1/2 cup Cream of Wheat<br />
 1/4-1/2 cup Fruit Cocktail<br />1/4-1/2 cup Cereal (optional)<br />6 oz. 1
 % Milk (8 oz for ages 6-12)</p>\n<p><br /><span style='text-decoration: un
 derline\;'><strong>AM Snack</strong></span></p>\n<p>1.3 oz Niutri Grain Ba
 r<br />4 oz 1% Milk (8 oz for ages 6-12)</p>\n<p><br /><span style='text-d
 ecoration: underline\;'><strong>Lunch</strong></span></p>\n<p>1/4-1/2 cup 
 Beef &amp\; Macaroni in<br />Tomato Sauce<br />1/4-1/2 cup Peas &amp\; Car
 rots<br />1/4 cup Mixed Fruit<br />6 oz.1% Milk (ages 6-12 8 oz)</p>\n<p><
 br /><span style='text-decoration: underline\;'><strong>PM Snack</strong><
 /span></p>\n<p>1/4-1/2 cup Animal Crackers<br />4 oz 1% Milk (8 oz for age
 s 6-12)</p>
END:VEVENT
BEGIN:VEVENT
UID:20240906T190000UTC-9992lx1XrG@https://www.denbighchristianacademy.com/
DTSTAMP:20260424T181032Z
CATEGORIES:School Menu
DESCRIPTION:<p><span style='text-decoration: underline\;'><strong>Breakfast
 </strong></span></p>\n<p>1 oz Turkey Bacon Biscuit<br />1/4-1/2 cup Peache
 s<br />1/4-1/2 cup Cereal (optional)<br />6 oz. 1% Milk (8 oz for ages 6-1
 2)</p>\n<p><br /><span style='text-decoration: underline\;'><strong>AM Sna
 ck</strong></span></p>\n<p>1/4 cup WG Ritz Crackers with Cheese Cubes<br /
 >4 oz Water (8 oz for ages 6-12)</p>\n<p><br /><span style='text-decoratio
 n: underline\;'><strong>Lunch</strong></span></p>\n<p>1 1/2 oz Chicken Ten
 ders<br />WW Roll<br />1/4-1/2 cup Green Beans<br />1/4 cup Fruit Cocktail
 <br />6 oz.1% Milk (ages 6-12 8 oz)</p>\n<p><br /><span style='text-decora
 tion: underline\;'><strong>PM Snack</strong></span></p>\n<p>1 oz bag of Pr
 etzels<br />4 oz 1% Milk (8 oz for ages 6-12)</p>
DTSTART:20240906T000000Z
DTEND:20240906T235959Z
SUMMARY:Friday
URL:https://www.denbighchristianacademy.com/index.php/school-calendar/lunch
 -menu/10-school-menu/1590-friday
X-ALT-DESC;FMTTYPE=TEXT/HTML:<p><span style='text-decoration: underline\;'>
 <strong>Breakfast</strong></span></p>\n<p>1 oz Turkey Bacon Biscuit<br />1
 /4-1/2 cup Peaches<br />1/4-1/2 cup Cereal (optional)<br />6 oz. 1% Milk (
 8 oz for ages 6-12)</p>\n<p><br /><span style='text-decoration: underline\
 ;'><strong>AM Snack</strong></span></p>\n<p>1/4 cup WG Ritz Crackers with 
 Cheese Cubes<br />4 oz Water (8 oz for ages 6-12)</p>\n<p><br /><span styl
 e='text-decoration: underline\;'><strong>Lunch</strong></span></p>\n<p>1 1
 /2 oz Chicken Tenders<br />WW Roll<br />1/4-1/2 cup Green Beans<br />1/4 c
 up Fruit Cocktail<br />6 oz.1% Milk (ages 6-12 8 oz)</p>\n<p><br /><span s
 tyle='text-decoration: underline\;'><strong>PM Snack</strong></span></p>\n
 <p>1 oz bag of Pretzels<br />4 oz 1% Milk (8 oz for ages 6-12)</p>
END:VEVENT
END:VCALENDAR
