BEGIN:VCALENDAR
VERSION:2.0
PRODID:-//https://www.denbighchristianacademy.com//NONSGML kigkonsult.se iC
 alcreator 2.29.29//
CALSCALE:GREGORIAN
METHOD:PUBLISH
UID:37fcd912-1988-4348-95a0-449caa515190
X-WR-CALNAME:JCal Pro Calendar
X-WR-CALDESC:Your online events calendar
X-WR-TIMEZONE:UTC
BEGIN:VTIMEZONE
TZID:UTC
END:VTIMEZONE
BEGIN:VEVENT
UID:20240826T170000UTC-7668Bxvu83@https://www.denbighchristianacademy.com/
DTSTAMP:20260424T204759Z
CATEGORIES:School Menu
DESCRIPTION:<p><span style='text-decoration: underline\;'><strong>Breakfast
 </strong></span></p>\n<p>1/4-1/2 cup Cream of Wheat<br />1/4-1/2 cup Pears
 <br />1/4-1/2 cup Cereal (optional)<br />6 oz. 1% Milk (8 oz for ages 6-12
 )</p>\n<p><br /><span style='text-decoration: underline\;'><strong>AM Snac
 k</strong></span></p>\n<p>1.3 oz Nutri Grain Bar<br />4 oz 1% Milk (8 oz f
 or ages 6-12)</p>\n<p><br /><span style='text-decoration: underline\;'><st
 rong>Lunch</strong></span></p>\n<p>1 1/2 - 2 oz Chicken Nuggets<br />WW Ro
 ll<br />1/4-1/2 cup Mixed Vegetables<br />1/4 cup Applesauce<br />6 oz.1% 
 Milk (ages 6-12 8 oz)</p>\n<p><br /><span style='text-decoration: underlin
 e\;'><strong>PM Snack</strong></span></p>\n<p>2 - 3 oz Oreo Cookies<br />4
  oz 1% Milk (8 oz for ages 6-12)</p>
DTSTART:20240826T000000Z
DTEND:20240826T235959Z
SUMMARY:Monday
URL:https://www.denbighchristianacademy.com/index.php/school-calendar/lunch
 -menu/10-school-menu/1555-monday
X-ALT-DESC;FMTTYPE=TEXT/HTML:<p><span style='text-decoration: underline\;'>
 <strong>Breakfast</strong></span></p>\n<p>1/4-1/2 cup Cream of Wheat<br />
 1/4-1/2 cup Pears<br />1/4-1/2 cup Cereal (optional)<br />6 oz. 1% Milk (8
  oz for ages 6-12)</p>\n<p><br /><span style='text-decoration: underline\;
 '><strong>AM Snack</strong></span></p>\n<p>1.3 oz Nutri Grain Bar<br />4 o
 z 1% Milk (8 oz for ages 6-12)</p>\n<p><br /><span style='text-decoration:
  underline\;'><strong>Lunch</strong></span></p>\n<p>1 1/2 - 2 oz Chicken N
 uggets<br />WW Roll<br />1/4-1/2 cup Mixed Vegetables<br />1/4 cup Applesa
 uce<br />6 oz.1% Milk (ages 6-12 8 oz)</p>\n<p><br /><span style='text-dec
 oration: underline\;'><strong>PM Snack</strong></span></p>\n<p>2 - 3 oz Or
 eo Cookies<br />4 oz 1% Milk (8 oz for ages 6-12)</p>
END:VEVENT
BEGIN:VEVENT
UID:20240827T170000UTC-7246Pve79D@https://www.denbighchristianacademy.com/
DTSTAMP:20260424T204759Z
CATEGORIES:School Menu
DESCRIPTION:<p><span style='text-decoration: underline\;'><strong>Breakfast
 </strong></span></p>\n<p>1 ½ oz Belgium Wafles<br />1/4-1/2 cup Peaches<br
  />1/4-1/2 cup Cereal (optional)<br />6 oz. 1% Milk (8 oz for ages 6-12)</
 p>\n<p><br /><span style='text-decoration: underline\;'><strong>AM Snack</
 strong></span></p>\n<p>1 - 2 oz WG Ritz Crackers w/Cheese Cubes<br />4 oz 
 Water (8 oz for ages 6-12)</p>\n<p><br /><span style='text-decoration: und
 erline\;'><strong>Lunch</strong></span></p>\n<p>1 1/2 oz Hamburger Steak i
 n Gravy<br />WW Roll<br />1/4-1/2 cup WG Brown Rice<br />1/4-1/2 cup Peas 
 &amp\; Carrots<br />1/4 cup Pineapple<br />6 oz.1% Milk (ages 6-12 8 oz)</
 p>\n<p><br /><span style='text-decoration: underline\;'><strong>PM Snack</
 strong></span></p>\n<p>1/4-1/2 cup Animal Crackers<br />4 oz 1% Milk (8 oz
  for ages 6-12)</p>
DTSTART:20240827T000000Z
DTEND:20240827T235959Z
SUMMARY:Tuesday
URL:https://www.denbighchristianacademy.com/index.php/school-calendar/lunch
 -menu/10-school-menu/1556-tuesday
X-ALT-DESC;FMTTYPE=TEXT/HTML:<p><span style='text-decoration: underline\;'>
 <strong>Breakfast</strong></span></p>\n<p>1 ½ oz Belgium Wafles<br />1/4-1
 /2 cup Peaches<br />1/4-1/2 cup Cereal (optional)<br />6 oz. 1% Milk (8 oz
  for ages 6-12)</p>\n<p><br /><span style='text-decoration: underline\;'><
 strong>AM Snack</strong></span></p>\n<p>1 - 2 oz WG Ritz Crackers w/Cheese
  Cubes<br />4 oz Water (8 oz for ages 6-12)</p>\n<p><br /><span style='tex
 t-decoration: underline\;'><strong>Lunch</strong></span></p>\n<p>1 1/2 oz 
 Hamburger Steak in Gravy<br />WW Roll<br />1/4-1/2 cup WG Brown Rice<br />
 1/4-1/2 cup Peas &amp\; Carrots<br />1/4 cup Pineapple<br />6 oz.1% Milk (
 ages 6-12 8 oz)</p>\n<p><br /><span style='text-decoration: underline\;'><
 strong>PM Snack</strong></span></p>\n<p>1/4-1/2 cup Animal Crackers<br />4
  oz 1% Milk (8 oz for ages 6-12)</p>
END:VEVENT
BEGIN:VEVENT
UID:20240828T180000UTC-1046xiuCJl@https://www.denbighchristianacademy.com/
DTSTAMP:20260424T204759Z
CATEGORIES:School Menu
DESCRIPTION:<p><span style='text-decoration: underline\;'><strong>Breakfast
 </strong></span></p>\n<p>1/2 oz Biscuit w/Turkey Bacon<br />1/4-1/2 cup Pi
 neapples<br />1/4-1/2 cup Cereal (optional)<br />6 oz. 1% Milk (8 oz for a
 ges 6-12)</p>\n<p><br /><span style='text-decoration: underline\;'><strong
 >AM Snack</strong></span></p>\n<p>1 bag of WG Cheez-its<br />4 oz 1% Milk 
 (8 oz for ages 6-12)</p>\n<p><br /><span style='text-decoration: underline
 \;'><strong>Lunch</strong></span></p>\n<p>1 1/2 - 2 oz Pizza<br />1/4-1/2 
 cup Tossed Salad<br />1/4 cup Mixed Fruit<br />6 oz.1% Milk (ages 6-12 8 o
 z)</p>\n<p><br /><span style='text-decoration: underline\;'><strong>PM Sna
 ck</strong></span></p>\n<p>2 (1.62 oz) pks asst. Fruit Snacks<br />4 oz 10
 0% Grape Juice (8 oz for ages 6-12)</p>
DTSTART:20240828T000000Z
DTEND:20240828T235959Z
SUMMARY:Wednesday
URL:https://www.denbighchristianacademy.com/index.php/school-calendar/lunch
 -menu/10-school-menu/1557-wednesday
X-ALT-DESC;FMTTYPE=TEXT/HTML:<p><span style='text-decoration: underline\;'>
 <strong>Breakfast</strong></span></p>\n<p>1/2 oz Biscuit w/Turkey Bacon<br
  />1/4-1/2 cup Pineapples<br />1/4-1/2 cup Cereal (optional)<br />6 oz. 1%
  Milk (8 oz for ages 6-12)</p>\n<p><br /><span style='text-decoration: und
 erline\;'><strong>AM Snack</strong></span></p>\n<p>1 bag of WG Cheez-its<b
 r />4 oz 1% Milk (8 oz for ages 6-12)</p>\n<p><br /><span style='text-deco
 ration: underline\;'><strong>Lunch</strong></span></p>\n<p>1 1/2 - 2 oz Pi
 zza<br />1/4-1/2 cup Tossed Salad<br />1/4 cup Mixed Fruit<br />6 oz.1% Mi
 lk (ages 6-12 8 oz)</p>\n<p><br /><span style='text-decoration: underline\
 ;'><strong>PM Snack</strong></span></p>\n<p>2 (1.62 oz) pks asst. Fruit Sn
 acks<br />4 oz 100% Grape Juice (8 oz for ages 6-12)</p>
END:VEVENT
BEGIN:VEVENT
UID:20240829T180000UTC-4287uEuhoP@https://www.denbighchristianacademy.com/
DTSTAMP:20260424T204759Z
CATEGORIES:School Menu
DESCRIPTION:<p><span style='text-decoration: underline\;'><strong>Breakfast
 </strong></span></p>\n<p>2 - 4 French Toast Sticks<br />1/4-1/2 cup Peache
 s<br />1/4-1/2 cup Cereal (optional)<br />6 oz. 1% Milk (8 oz for ages 6-1
 2)</p>\n<p><br /><span style='text-decoration: underline\;'><strong>AM Sna
 ck</strong></span></p>\n<p>1 oz bag Pretzels<br />4 oz 1% Milk (8 oz for a
 ges 6-12)</p>\n<p><br /><span style='text-decoration: underline\;'><strong
 >Lunch</strong></span></p>\n<p>1/4-1/2 cup Macaroni &amp\; Cheese<br />WW 
 Roll<br />1/4-1/2 cup Green Beans<br />1/4 cup Applesauce<br />6 oz.1% Mil
 k (ages 6-12 8 oz)</p>\n<p><br /><span style='text-decoration: underline\;
 '><strong>PM Snack</strong></span></p>\n<p>1 pk Lorne Doone Cookies 1.5 oz
 <br />4 oz 1% Milk (8 oz for ages 6-12)</p>
DTSTART:20240829T000000Z
DTEND:20240829T235959Z
SUMMARY:Thursday
URL:https://www.denbighchristianacademy.com/index.php/school-calendar/lunch
 -menu/10-school-menu/1558-thursday
X-ALT-DESC;FMTTYPE=TEXT/HTML:<p><span style='text-decoration: underline\;'>
 <strong>Breakfast</strong></span></p>\n<p>2 - 4 French Toast Sticks<br />1
 /4-1/2 cup Peaches<br />1/4-1/2 cup Cereal (optional)<br />6 oz. 1% Milk (
 8 oz for ages 6-12)</p>\n<p><br /><span style='text-decoration: underline\
 ;'><strong>AM Snack</strong></span></p>\n<p>1 oz bag Pretzels<br />4 oz 1%
  Milk (8 oz for ages 6-12)</p>\n<p><br /><span style='text-decoration: und
 erline\;'><strong>Lunch</strong></span></p>\n<p>1/4-1/2 cup Macaroni &amp\
 ; Cheese<br />WW Roll<br />1/4-1/2 cup Green Beans<br />1/4 cup Applesauce
 <br />6 oz.1% Milk (ages 6-12 8 oz)</p>\n<p><br /><span style='text-decora
 tion: underline\;'><strong>PM Snack</strong></span></p>\n<p>1 pk Lorne Doo
 ne Cookies 1.5 oz<br />4 oz 1% Milk (8 oz for ages 6-12)</p>
END:VEVENT
BEGIN:VEVENT
UID:20240830T180000UTC-7964NOmJdA@https://www.denbighchristianacademy.com/
DTSTAMP:20260424T204759Z
CATEGORIES:School Menu
DESCRIPTION:<p><span style='text-decoration: underline\;'><strong>Breakfast
 </strong></span></p>\n<p>1/4-1/2 cup Oatmeal<br />1/4-1/2 cup Mixed Fruit<
 br />1/4-1/2 cup Cereal (optional)<br />WW Toast<br />6 oz. 1% Milk (8 oz 
 for ages 6-12)</p>\n<p><br /><span style='text-decoration: underline\;'><s
 trong>AM Snack</strong></span></p>\n<p>1.3 oz bar WG Fig Newton<br />4 oz 
 1% Milk (8 oz for ages 6-12)</p>\n<p><br /><span style='text-decoration: u
 nderline\;'><strong>Lunch</strong></span></p>\n<p>1 1/2 - 2 oz Corn Dog<br
  />1/4-1/2 cup Baked Beans<br />1/4 cup Mixed Fruit<br />6 oz.1% Milk (age
 s 6-12 8 oz)</p>\n<p><br /><span style='text-decoration: underline\;'><str
 ong>PM Snack</strong></span></p>\n<p>1 oz pk Ritz Bits Crackers w/Cheese<b
 r />4 oz 1% Milk (8 oz for ages 6-12)</p>
DTSTART:20240830T000000Z
DTEND:20240830T235959Z
SUMMARY:Friday
URL:https://www.denbighchristianacademy.com/index.php/school-calendar/lunch
 -menu/10-school-menu/1559-friday
X-ALT-DESC;FMTTYPE=TEXT/HTML:<p><span style='text-decoration: underline\;'>
 <strong>Breakfast</strong></span></p>\n<p>1/4-1/2 cup Oatmeal<br />1/4-1/2
  cup Mixed Fruit<br />1/4-1/2 cup Cereal (optional)<br />WW Toast<br />6 o
 z. 1% Milk (8 oz for ages 6-12)</p>\n<p><br /><span style='text-decoration
 : underline\;'><strong>AM Snack</strong></span></p>\n<p>1.3 oz bar WG Fig 
 Newton<br />4 oz 1% Milk (8 oz for ages 6-12)</p>\n<p><br /><span style='t
 ext-decoration: underline\;'><strong>Lunch</strong></span></p>\n<p>1 1/2 -
  2 oz Corn Dog<br />1/4-1/2 cup Baked Beans<br />1/4 cup Mixed Fruit<br />
 6 oz.1% Milk (ages 6-12 8 oz)</p>\n<p><br /><span style='text-decoration: 
 underline\;'><strong>PM Snack</strong></span></p>\n<p>1 oz pk Ritz Bits Cr
 ackers w/Cheese<br />4 oz 1% Milk (8 oz for ages 6-12)</p>
END:VEVENT
END:VCALENDAR
