BEGIN:VCALENDAR
VERSION:2.0
PRODID:-//https://www.denbighchristianacademy.com//NONSGML kigkonsult.se iC
 alcreator 2.29.29//
CALSCALE:GREGORIAN
METHOD:PUBLISH
UID:291636c5-ac54-4d97-9c61-6ce909032677
X-WR-CALNAME:JCal Pro Calendar
X-WR-CALDESC:Your online events calendar
X-WR-TIMEZONE:UTC
BEGIN:VTIMEZONE
TZID:UTC
END:VTIMEZONE
BEGIN:VEVENT
UID:20240617T180000UTC-4941CPwMKW@https://www.denbighchristianacademy.com/
DTSTAMP:20260424T233133Z
CATEGORIES:School Menu
DESCRIPTION:<p><span style='text-decoration: underline\;'><strong>Breakfast
 </strong></span></p>\n<p>1 oz Turkey Bacon Biscuit<br />1/4-1/2 cup Pears<
 br />1/4-1/2 cup Cereal (optional)<br />6 oz. 1% Milk (8 oz for ages 6-12)
 </p>\n<p><br /><span style='text-decoration: underline\;'><strong>AM Snack
 </strong></span></p>\n<p>1.37 oz Captain's Wafers Crackers<br />4 oz Water
  (8 oz for ages 6-12)</p>\n<p><br /><span style='text-decoration: underlin
 e\;'><strong>Lunch</strong></span></p>\n<p>1 1/2 - 2 oz Chicken Tenders<br
  />1 WW Bun<br />1/4-1/2 cup Seasoned Corn<br />1/4 cup Mixed Fruit<br />6
  oz.1% Milk (ages 6-12 8 oz)</p>\n<p><br /><span style='text-decoration: u
 nderline\;'><strong>PM Snack</strong></span></p>\n<p>1 (.78 oz) Bar Rice K
 rispy Treat<br />4 oz 1% Milk (8 oz for ages 6-12)</p>
DTSTART:20240617T000000Z
DTEND:20240617T235959Z
SUMMARY:Monday
URL:https://www.denbighchristianacademy.com/index.php/school-calendar/lunch
 -menu/10-school-menu/1484-monday
X-ALT-DESC;FMTTYPE=TEXT/HTML:<p><span style='text-decoration: underline\;'>
 <strong>Breakfast</strong></span></p>\n<p>1 oz Turkey Bacon Biscuit<br />1
 /4-1/2 cup Pears<br />1/4-1/2 cup Cereal (optional)<br />6 oz. 1% Milk (8 
 oz for ages 6-12)</p>\n<p><br /><span style='text-decoration: underline\;'
 ><strong>AM Snack</strong></span></p>\n<p>1.37 oz Captain's Wafers Cracker
 s<br />4 oz Water (8 oz for ages 6-12)</p>\n<p><br /><span style='text-dec
 oration: underline\;'><strong>Lunch</strong></span></p>\n<p>1 1/2 - 2 oz C
 hicken Tenders<br />1 WW Bun<br />1/4-1/2 cup Seasoned Corn<br />1/4 cup M
 ixed Fruit<br />6 oz.1% Milk (ages 6-12 8 oz)</p>\n<p><br /><span style='t
 ext-decoration: underline\;'><strong>PM Snack</strong></span></p>\n<p>1 (.
 78 oz) Bar Rice Krispy Treat<br />4 oz 1% Milk (8 oz for ages 6-12)</p>
END:VEVENT
BEGIN:VEVENT
UID:20240618T180000UTC-4885fvWt9H@https://www.denbighchristianacademy.com/
DTSTAMP:20260424T233133Z
CATEGORIES:School Menu
DESCRIPTION:<p><span style='text-decoration: underline\;'><strong>Breakfast
 </strong></span></p>\n<p>1 ½ oz (2) Pancakes<br />1/4-1/2 cup Pineapple<br
  />1/4-1/2 cup Cereal (optional)<br />6 oz. 1% Milk (8 oz for ages 6-12)</
 p>\n<p><br /><span style='text-decoration: underline\;'><strong>AM Snack</
 strong></span></p>\n<p>1/4-1/2 cup WG Fig Newtons<br />4 oz 1% Milk (8 oz 
 for ages 6-12)</p>\n<p><br /><span style='text-decoration: underline\;'><s
 trong>Lunch</strong></span></p>\n<p>1 1/2 - 2 oz Pizza<br />1/4-1/2 cup Br
 occoli<br />1/4 cup Mixed Fruit<br />6 oz.1% Milk (ages 6-12 8 oz)</p>\n<p
 ><br /><span style='text-decoration: underline\;'><strong>PM Snack</strong
 ></span></p>\n<p>1/4-1/2 cup Oatmeal Cookies<br />4 oz 1% Milk (8 oz for a
 ges 6-12)</p>
DTSTART:20240618T000000Z
DTEND:20240618T235959Z
SUMMARY:Tuesday
URL:https://www.denbighchristianacademy.com/index.php/school-calendar/lunch
 -menu/10-school-menu/1485-tuesday
X-ALT-DESC;FMTTYPE=TEXT/HTML:<p><span style='text-decoration: underline\;'>
 <strong>Breakfast</strong></span></p>\n<p>1 ½ oz (2) Pancakes<br />1/4-1/2
  cup Pineapple<br />1/4-1/2 cup Cereal (optional)<br />6 oz. 1% Milk (8 oz
  for ages 6-12)</p>\n<p><br /><span style='text-decoration: underline\;'><
 strong>AM Snack</strong></span></p>\n<p>1/4-1/2 cup WG Fig Newtons<br />4 
 oz 1% Milk (8 oz for ages 6-12)</p>\n<p><br /><span style='text-decoration
 : underline\;'><strong>Lunch</strong></span></p>\n<p>1 1/2 - 2 oz Pizza<br
  />1/4-1/2 cup Broccoli<br />1/4 cup Mixed Fruit<br />6 oz.1% Milk (ages 6
 -12 8 oz)</p>\n<p><br /><span style='text-decoration: underline\;'><strong
 >PM Snack</strong></span></p>\n<p>1/4-1/2 cup Oatmeal Cookies<br />4 oz 1%
  Milk (8 oz for ages 6-12)</p>
END:VEVENT
BEGIN:VEVENT
UID:20240619T180000UTC-8905l4vPwF@https://www.denbighchristianacademy.com/
DTSTAMP:20260424T233133Z
CATEGORIES:School Menu
DESCRIPTION:<p>DCA Closed for Juneteenth.</p>
DTSTART:20240619T000000Z
DTEND:20240619T235959Z
SUMMARY:Wednesday - Closed for Juneteenth
URL:https://www.denbighchristianacademy.com/index.php/school-calendar/lunch
 -menu/10-school-menu/1486-wednesday-closed-for-juneteenth
X-ALT-DESC;FMTTYPE=TEXT/HTML:<p>DCA Closed for Juneteenth.</p>
END:VEVENT
BEGIN:VEVENT
UID:20240620T180000UTC-209125WGWp@https://www.denbighchristianacademy.com/
DTSTAMP:20260424T233133Z
CATEGORIES:School Menu
DESCRIPTION:<p><span style='text-decoration: underline\;'><strong>Breakfast
 </strong></span></p>\n<p>2 - 4 French Toast Sticks<br />1/4-1/2 cup Peache
 s<br />1/4-1/2 cup Cereal (optional)<br />6 oz. 1% Milk (8 oz for ages 6-1
 2)</p>\n<p><br /><span style='text-decoration: underline\;'><strong>AM Sna
 ck</strong></span></p>\n<p>1 - 2 oz WG Animal Crackers<br />4 oz 1% Milk (
 8 oz for ages 6-12)</p>\n<p><br /><span style='text-decoration: underline\
 ;'><strong>Lunch</strong></span></p>\n<p>1 1/2 - 2 oz Meat Loaf<br />WW Ro
 ll<br />1/4-1/2 cup Mashed Potatoes<br />1/4-1/2 cup Green Beans<br />1/4 
 cup Fruit Cocktail<br />6 oz.1% Milk (ages 6-12 8 oz)</p>\n<p><br /><span 
 style='text-decoration: underline\;'><strong>PM Snack</strong></span></p>
 \n<p>1/4-1/2 cup WG Ritz Bits Crackers<br />4 oz 1% Milk (8 oz for ages 6-
 12)</p>
DTSTART:20240620T000000Z
DTEND:20240620T235959Z
SUMMARY:Thursday
URL:https://www.denbighchristianacademy.com/index.php/school-calendar/lunch
 -menu/10-school-menu/1487-thursday
X-ALT-DESC;FMTTYPE=TEXT/HTML:<p><span style='text-decoration: underline\;'>
 <strong>Breakfast</strong></span></p>\n<p>2 - 4 French Toast Sticks<br />1
 /4-1/2 cup Peaches<br />1/4-1/2 cup Cereal (optional)<br />6 oz. 1% Milk (
 8 oz for ages 6-12)</p>\n<p><br /><span style='text-decoration: underline\
 ;'><strong>AM Snack</strong></span></p>\n<p>1 - 2 oz WG Animal Crackers<br
  />4 oz 1% Milk (8 oz for ages 6-12)</p>\n<p><br /><span style='text-decor
 ation: underline\;'><strong>Lunch</strong></span></p>\n<p>1 1/2 - 2 oz Mea
 t Loaf<br />WW Roll<br />1/4-1/2 cup Mashed Potatoes<br />1/4-1/2 cup Gree
 n Beans<br />1/4 cup Fruit Cocktail<br />6 oz.1% Milk (ages 6-12 8 oz)</p>
 \n<p><br /><span style='text-decoration: underline\;'><strong>PM Snack</st
 rong></span></p>\n<p>1/4-1/2 cup WG Ritz Bits Crackers<br />4 oz 1% Milk (
 8 oz for ages 6-12)</p>
END:VEVENT
BEGIN:VEVENT
UID:20240621T180000UTC-1036CtAc4W@https://www.denbighchristianacademy.com/
DTSTAMP:20260424T233133Z
CATEGORIES:School Menu
DESCRIPTION:<p><span style='text-decoration: underline\;'><strong>Breakfast
 </strong></span></p>\n<p>1/4-1/2 cup Oatmeal<br />1/4-1/2 cup Mixed Fruit<
 br />1/4-1/2 cup Cereal (optional)<br />6 oz. 1% Milk (8 oz for ages 6-12)
 </p>\n<p><br /><span style='text-decoration: underline\;'><strong>AM Snack
 </strong></span></p>\n<p>1/4-1/2 cup WW Gold Fish Crackers<br />4 oz 1% Mi
 lk (8 oz for ages 6-12)</p>\n<p><br /><span style='text-decoration: underl
 ine\;'><strong>Lunch</strong></span></p>\n<p>1 1/2 - 2 oz Hamburger/Cheese
 burger<br />on WW Bun<br />1 oz bag Potato Chips<br />1/4 cup Jello Mixed 
 Fruit<br />6 oz.1% Milk (ages 6-12 8 oz)</p>\n<p><br /><span style='text-d
 ecoration: underline\;'><strong>PM Snack</strong></span></p>\n<p>3 oz Choc
 olate Chip Cookies<br />4 oz 1% Milk (8 oz for ages 6-12)</p>
DTSTART:20240621T000000Z
DTEND:20240621T235959Z
SUMMARY:Friday
URL:https://www.denbighchristianacademy.com/index.php/school-calendar/lunch
 -menu/10-school-menu/1488-friday
X-ALT-DESC;FMTTYPE=TEXT/HTML:<p><span style='text-decoration: underline\;'>
 <strong>Breakfast</strong></span></p>\n<p>1/4-1/2 cup Oatmeal<br />1/4-1/2
  cup Mixed Fruit<br />1/4-1/2 cup Cereal (optional)<br />6 oz. 1% Milk (8 
 oz for ages 6-12)</p>\n<p><br /><span style='text-decoration: underline\;'
 ><strong>AM Snack</strong></span></p>\n<p>1/4-1/2 cup WW Gold Fish Cracker
 s<br />4 oz 1% Milk (8 oz for ages 6-12)</p>\n<p><br /><span style='text-d
 ecoration: underline\;'><strong>Lunch</strong></span></p>\n<p>1 1/2 - 2 oz
  Hamburger/Cheeseburger<br />on WW Bun<br />1 oz bag Potato Chips<br />1/4
  cup Jello Mixed Fruit<br />6 oz.1% Milk (ages 6-12 8 oz)</p>\n<p><br /><s
 pan style='text-decoration: underline\;'><strong>PM Snack</strong></span><
 /p>\n<p>3 oz Chocolate Chip Cookies<br />4 oz 1% Milk (8 oz for ages 6-12)
 </p>
END:VEVENT
END:VCALENDAR
