BEGIN:VCALENDAR
VERSION:2.0
PRODID:-//https://www.denbighchristianacademy.com//NONSGML kigkonsult.se iC
 alcreator 2.29.29//
CALSCALE:GREGORIAN
METHOD:PUBLISH
UID:c7b0d9c3-fc5a-4954-a07e-04f411795c61
X-WR-CALNAME:JCal Pro Calendar
X-WR-CALDESC:Your online events calendar
X-WR-TIMEZONE:UTC
BEGIN:VTIMEZONE
TZID:UTC
END:VTIMEZONE
BEGIN:VEVENT
UID:20240527T180000UTC-2388N22XB2@https://www.denbighchristianacademy.com/
DTSTAMP:20260424T233132Z
CATEGORIES:School Menu
DESCRIPTION:<p>DCA is Closed for Memorial Day</p>
DTSTART:20240527T000000Z
DTEND:20240527T235959Z
SUMMARY:Monday - Closed for Memorial Day
URL:https://www.denbighchristianacademy.com/index.php/school-calendar/lunch
 -menu/10-school-menu/1469-monday-closed-for-memorial-day
X-ALT-DESC;FMTTYPE=TEXT/HTML:<p>DCA is Closed for Memorial Day</p>
END:VEVENT
BEGIN:VEVENT
UID:20240528T180000UTC-0217JgBeE0@https://www.denbighchristianacademy.com/
DTSTAMP:20260424T233132Z
CATEGORIES:School Menu
DESCRIPTION:<p><span style='text-decoration: underline\;'><strong>Breakfast
 </strong></span></p>\n<p>1 ½ oz (2) Pancakes<br />1/4-1/2 cup Pineapple<br
  />1/4-1/2 cup Cereal (optional)<br />6 oz. 1% Milk (8 oz for ages 6-12)</
 p>\n<p><br /><span style='text-decoration: underline\;'><strong>AM Snack</
 strong></span></p>\n<p>1 - 2 oz WG Ritz Crackers w/Cheese<br />4 oz Water 
 (8 oz for ages 6-12)</p>\n<p><br /><span style='text-decoration: underline
 \;'><strong>Lunch</strong></span></p>\n<p>1 1/2 - 2 oz Beef Franks on WW B
 un<br />1/4-1/2 cup Baked Beans<br />1/4 cup Mixed Fruit<br />6 oz.1% Milk
  (ages 6-12 8 oz)</p>\n<p><br /><span style='text-decoration: underline\;'
 ><strong>PM Snack</strong></span></p>\n<p>1/4-1/2 cup Animal Crackers<br /
 >4 oz 1% Milk (8 oz for ages 6-12)</p>
DTSTART:20240528T000000Z
DTEND:20240528T235959Z
SUMMARY:Tuesday
URL:https://www.denbighchristianacademy.com/index.php/school-calendar/lunch
 -menu/10-school-menu/1470-tuesday
X-ALT-DESC;FMTTYPE=TEXT/HTML:<p><span style='text-decoration: underline\;'>
 <strong>Breakfast</strong></span></p>\n<p>1 ½ oz (2) Pancakes<br />1/4-1/2
  cup Pineapple<br />1/4-1/2 cup Cereal (optional)<br />6 oz. 1% Milk (8 oz
  for ages 6-12)</p>\n<p><br /><span style='text-decoration: underline\;'><
 strong>AM Snack</strong></span></p>\n<p>1 - 2 oz WG Ritz Crackers w/Cheese
 <br />4 oz Water (8 oz for ages 6-12)</p>\n<p><br /><span style='text-deco
 ration: underline\;'><strong>Lunch</strong></span></p>\n<p>1 1/2 - 2 oz Be
 ef Franks on WW Bun<br />1/4-1/2 cup Baked Beans<br />1/4 cup Mixed Fruit<
 br />6 oz.1% Milk (ages 6-12 8 oz)</p>\n<p><br /><span style='text-decorat
 ion: underline\;'><strong>PM Snack</strong></span></p>\n<p>1/4-1/2 cup Ani
 mal Crackers<br />4 oz 1% Milk (8 oz for ages 6-12)</p>
END:VEVENT
BEGIN:VEVENT
UID:20240529T180000UTC-3153UhuHuj@https://www.denbighchristianacademy.com/
DTSTAMP:20260424T233132Z
CATEGORIES:School Menu
DESCRIPTION:<p><span style='text-decoration: underline\;'><strong>Breakfast
 </strong></span></p>\n<p>1 ½ oz&nbsp\; Bagels w/Cream Cheese<br />1/4-1/2 
 cup Fruit Cocktail<br />1/4-1/2 cup Cereal (optional)<br />6 oz. 1% Milk (
 8 oz for ages 6-12)</p>\n<p><br /><span style='text-decoration: underline\
 ;'><strong>AM Snack</strong></span></p>\n<p>WG Nutri Grain Bar 1.3 oz<br /
 >4 oz 1% Milk (8 oz for ages 6-12)</p>\n<p><br /><span style='text-decorat
 ion: underline\;'><strong>Lunch</strong></span></p>\n<p>1 1/2 - 2 oz Chick
 en Tenders<br />1/4-1/2 cup Salad Mix &amp\; Dressing<br />1/4 cup Mixed F
 ruit<br />6 oz.1% Milk (ages 6-12 8 oz)</p>\n<p><br /><span style='text-de
 coration: underline\;'><strong>PM Snack</strong></span></p>\n<p>1/4-1/2 cu
 p Pretzels<br />4 oz 100% Grape Juice (8 oz for ages 6-12)</p>
DTSTART:20240529T000000Z
DTEND:20240529T235959Z
SUMMARY:Wednesday
URL:https://www.denbighchristianacademy.com/index.php/school-calendar/lunch
 -menu/10-school-menu/1471-wednesday
X-ALT-DESC;FMTTYPE=TEXT/HTML:<p><span style='text-decoration: underline\;'>
 <strong>Breakfast</strong></span></p>\n<p>1 ½ oz&nbsp\; Bagels w/Cream Che
 ese<br />1/4-1/2 cup Fruit Cocktail<br />1/4-1/2 cup Cereal (optional)<br 
 />6 oz. 1% Milk (8 oz for ages 6-12)</p>\n<p><br /><span style='text-decor
 ation: underline\;'><strong>AM Snack</strong></span></p>\n<p>WG Nutri Grai
 n Bar 1.3 oz<br />4 oz 1% Milk (8 oz for ages 6-12)</p>\n<p><br /><span st
 yle='text-decoration: underline\;'><strong>Lunch</strong></span></p>\n<p>1
  1/2 - 2 oz Chicken Tenders<br />1/4-1/2 cup Salad Mix &amp\; Dressing<br 
 />1/4 cup Mixed Fruit<br />6 oz.1% Milk (ages 6-12 8 oz)</p>\n<p><br /><sp
 an style='text-decoration: underline\;'><strong>PM Snack</strong></span></
 p>\n<p>1/4-1/2 cup Pretzels<br />4 oz 100% Grape Juice (8 oz for ages 6-12
 )</p>
END:VEVENT
BEGIN:VEVENT
UID:20240530T180000UTC-15353jo84T@https://www.denbighchristianacademy.com/
DTSTAMP:20260424T233132Z
CATEGORIES:School Menu
DESCRIPTION:<p><span style='text-decoration: underline\;'><strong>Breakfast
 </strong></span></p>\n<p>2 - 4 French Toast Sticks<br />1/4-1/2 cup Peache
 s<br />1/4-1/2 cup Cereal (optional)<br />6 oz. 1% Milk (8 oz for ages 6-1
 2)</p>\n<p><br /><span style='text-decoration: underline\;'><strong>AM Sna
 ck</strong></span></p>\n<p>1/4-1/2 cup WG Ritz Bitz Cheese Crackers<br />4
  oz Water (8 oz for ages 6-12)</p>\n<p><br /><span style='text-decoration:
  underline\;'><strong>Lunch</strong></span></p>\n<p>1 1/2 - 2 oz Meat Ball
 s<br />WW Roll<br />1/4-1/2 cup WG Brown Rice<br />1/4-1/2 cup Peas &amp\;
  Carrots<br />1/4 cup Fruit Cocktail<br />6 oz.1% Milk (ages 6-12 8 oz)</p
 >\n<p><br /><span style='text-decoration: underline\;'><strong>PM Snack</s
 trong></span></p>\n<p>1 pk Lorne Doone Cookies 1.5 oz<br />4 oz 1% Milk (8
  oz for ages 6-12)</p>
DTSTART:20240530T000000Z
DTEND:20240530T235959Z
SUMMARY:Thursday
URL:https://www.denbighchristianacademy.com/index.php/school-calendar/lunch
 -menu/10-school-menu/1472-thursday
X-ALT-DESC;FMTTYPE=TEXT/HTML:<p><span style='text-decoration: underline\;'>
 <strong>Breakfast</strong></span></p>\n<p>2 - 4 French Toast Sticks<br />1
 /4-1/2 cup Peaches<br />1/4-1/2 cup Cereal (optional)<br />6 oz. 1% Milk (
 8 oz for ages 6-12)</p>\n<p><br /><span style='text-decoration: underline\
 ;'><strong>AM Snack</strong></span></p>\n<p>1/4-1/2 cup WG Ritz Bitz Chees
 e Crackers<br />4 oz Water (8 oz for ages 6-12)</p>\n<p><br /><span style=
 'text-decoration: underline\;'><strong>Lunch</strong></span></p>\n<p>1 1/2
  - 2 oz Meat Balls<br />WW Roll<br />1/4-1/2 cup WG Brown Rice<br />1/4-1/
 2 cup Peas &amp\; Carrots<br />1/4 cup Fruit Cocktail<br />6 oz.1% Milk (a
 ges 6-12 8 oz)</p>\n<p><br /><span style='text-decoration: underline\;'><s
 trong>PM Snack</strong></span></p>\n<p>1 pk Lorne Doone Cookies 1.5 oz<br 
 />4 oz 1% Milk (8 oz for ages 6-12)</p>
END:VEVENT
BEGIN:VEVENT
UID:20240531T180000UTC-9429N62pUx@https://www.denbighchristianacademy.com/
DTSTAMP:20260424T233132Z
CATEGORIES:School Menu
DESCRIPTION:<p><span style='text-decoration: underline\;'><strong>Breakfast
 </strong></span></p>\n<p>1/4-1/2 cup Oatmeal<br />1/4-1/2 cup Mixed Fruit<
 br />WW Toast<br />1/4-1/2 cup Cereal (optional)<br />6 oz. 1% Milk (8 oz 
 for ages 6-12)</p>\n<p><br /><span style='text-decoration: underline\;'><s
 trong>AM Snack</strong></span></p>\n<p>1/4-1/2 cup WW Bug Bites Crackers<b
 r />4 oz 1% Milk (8 oz for ages 6-12)</p>\n<p><br /><span style='text-deco
 ration: underline\;'><strong>Lunch</strong></span></p>\n<p>1 1/2 - 2 oz Co
 rn Dogs<br />1/4-1/2 cup Mixed Veggies<br />1/4 cup Jello Fruit Cocktail<b
 r />6 oz.1% Milk (ages 6-12 8 oz)</p>\n<p><br /><span style='text-decorati
 on: underline\;'><strong>PM Snack</strong></span></p>\n<p>1/4-1/2 cup Fig 
 Newtons<br />4 oz 1% Milk (8 oz for ages 6-12)</p>
DTSTART:20240531T000000Z
DTEND:20240531T235959Z
SUMMARY:Friday
URL:https://www.denbighchristianacademy.com/index.php/school-calendar/lunch
 -menu/10-school-menu/1473-friday
X-ALT-DESC;FMTTYPE=TEXT/HTML:<p><span style='text-decoration: underline\;'>
 <strong>Breakfast</strong></span></p>\n<p>1/4-1/2 cup Oatmeal<br />1/4-1/2
  cup Mixed Fruit<br />WW Toast<br />1/4-1/2 cup Cereal (optional)<br />6 o
 z. 1% Milk (8 oz for ages 6-12)</p>\n<p><br /><span style='text-decoration
 : underline\;'><strong>AM Snack</strong></span></p>\n<p>1/4-1/2 cup WW Bug
  Bites Crackers<br />4 oz 1% Milk (8 oz for ages 6-12)</p>\n<p><br /><span
  style='text-decoration: underline\;'><strong>Lunch</strong></span></p>\n<
 p>1 1/2 - 2 oz Corn Dogs<br />1/4-1/2 cup Mixed Veggies<br />1/4 cup Jello
  Fruit Cocktail<br />6 oz.1% Milk (ages 6-12 8 oz)</p>\n<p><br /><span sty
 le='text-decoration: underline\;'><strong>PM Snack</strong></span></p>\n<p
 >1/4-1/2 cup Fig Newtons<br />4 oz 1% Milk (8 oz for ages 6-12)</p>
END:VEVENT
END:VCALENDAR
