BEGIN:VCALENDAR
VERSION:2.0
PRODID:-//https://www.denbighchristianacademy.com//NONSGML kigkonsult.se iC
 alcreator 2.29.29//
CALSCALE:GREGORIAN
METHOD:PUBLISH
UID:d266de4e-afbc-4ac6-8545-efbaaa142dc7
X-WR-CALNAME:JCal Pro Calendar
X-WR-CALDESC:Your online events calendar
X-WR-TIMEZONE:UTC
BEGIN:VTIMEZONE
TZID:UTC
END:VTIMEZONE
BEGIN:VEVENT
UID:20240520T180000UTC-8148lChnHo@https://www.denbighchristianacademy.com/
DTSTAMP:20260425T010140Z
CATEGORIES:School Menu
DESCRIPTION:<p><span style='text-decoration: underline\;'><strong>Breakfast
 </strong></span></p>\n<p>1 oz Turkey Sausage Biscuit<br />1/4-1/2 cup Pear
 s<br />1/4-1/2 cup Cereal (optional)<br />6 oz. 1% Milk (8 oz for ages 6-1
 2)</p>\n<p><br /><span style='text-decoration: underline\;'><strong>AM Sna
 ck</strong></span></p>\n<p>1/4-1/2 cup Graham Crackers<br />4 oz 1% Milk (
 8 oz for ages 6-12)</p>\n<p><br /><span style='text-decoration: underline\
 ;'><strong>Lunch</strong></span></p>\n<p>1 1/2 - 2 oz Grilled Cheese<br />
 on WW Bread<br />1/4-1/2 cup Salad w/Dressing<br />1/4 cup Mixed Fruit<br 
 />6 oz.1% Milk (ages 6-12 8 oz)</p>\n<p><br /><span style='text-decoration
 : underline\;'><strong>PM Snack</strong></span></p>\n<p>1 (.78 oz) Bar Ric
 e Krispy Treat<br />4 oz 1% Milk (8 oz for ages 6-12)</p>
DTSTART:20240520T000000Z
DTEND:20240520T235959Z
SUMMARY:Monday
URL:https://www.denbighchristianacademy.com/index.php/school-calendar/lunch
 -menu/10-school-menu/1464-monday
X-ALT-DESC;FMTTYPE=TEXT/HTML:<p><span style='text-decoration: underline\;'>
 <strong>Breakfast</strong></span></p>\n<p>1 oz Turkey Sausage Biscuit<br /
 >1/4-1/2 cup Pears<br />1/4-1/2 cup Cereal (optional)<br />6 oz. 1% Milk (
 8 oz for ages 6-12)</p>\n<p><br /><span style='text-decoration: underline\
 ;'><strong>AM Snack</strong></span></p>\n<p>1/4-1/2 cup Graham Crackers<br
  />4 oz 1% Milk (8 oz for ages 6-12)</p>\n<p><br /><span style='text-decor
 ation: underline\;'><strong>Lunch</strong></span></p>\n<p>1 1/2 - 2 oz Gri
 lled Cheese<br />on WW Bread<br />1/4-1/2 cup Salad w/Dressing<br />1/4 cu
 p Mixed Fruit<br />6 oz.1% Milk (ages 6-12 8 oz)</p>\n<p><br /><span style
 ='text-decoration: underline\;'><strong>PM Snack</strong></span></p>\n<p>1
  (.78 oz) Bar Rice Krispy Treat<br />4 oz 1% Milk (8 oz for ages 6-12)</p>
END:VEVENT
BEGIN:VEVENT
UID:20240521T180000UTC-1447a3GVCe@https://www.denbighchristianacademy.com/
DTSTAMP:20260425T010140Z
CATEGORIES:School Menu
DESCRIPTION:<p><span style='text-decoration: underline\;'><strong>Breakfast
 </strong></span></p>\n<p>1 ½ oz (2) Pancakes<br />1/4-1/2 cup Pineapple<br
  />1/4-1/2 cup Cereal (optional)<br />6 oz. 1% Milk (8 oz for ages 6-12)</
 p>\n<p><br /><span style='text-decoration: underline\;'><strong>AM Snack</
 strong></span></p>\n<p>1/4-1/2 cup WG Fig Newtons<br />4 oz 1% Milk (8 oz 
 for ages 6-12)</p>\n<p><br /><span style='text-decoration: underline\;'><s
 trong>Lunch</strong></span></p>\n<p>1 1/2 - 2 oz Pizza<br />1/4-1/2 cup Br
 occoli<br />1/4 cup Mixed Fruit<br />6 oz.1% Milk (ages 6-12 8 oz)</p>\n<p
 ><br /><span style='text-decoration: underline\;'><strong>PM Snack</strong
 ></span></p>\n<p>1/4-1/2 cup Oatmeal Cookies<br />4 oz 1% Milk (8 oz for a
 ges 6-12)</p>
DTSTART:20240521T000000Z
DTEND:20240521T235959Z
SUMMARY:Tuesday
URL:https://www.denbighchristianacademy.com/index.php/school-calendar/lunch
 -menu/10-school-menu/1465-tuesday
X-ALT-DESC;FMTTYPE=TEXT/HTML:<p><span style='text-decoration: underline\;'>
 <strong>Breakfast</strong></span></p>\n<p>1 ½ oz (2) Pancakes<br />1/4-1/2
  cup Pineapple<br />1/4-1/2 cup Cereal (optional)<br />6 oz. 1% Milk (8 oz
  for ages 6-12)</p>\n<p><br /><span style='text-decoration: underline\;'><
 strong>AM Snack</strong></span></p>\n<p>1/4-1/2 cup WG Fig Newtons<br />4 
 oz 1% Milk (8 oz for ages 6-12)</p>\n<p><br /><span style='text-decoration
 : underline\;'><strong>Lunch</strong></span></p>\n<p>1 1/2 - 2 oz Pizza<br
  />1/4-1/2 cup Broccoli<br />1/4 cup Mixed Fruit<br />6 oz.1% Milk (ages 6
 -12 8 oz)</p>\n<p><br /><span style='text-decoration: underline\;'><strong
 >PM Snack</strong></span></p>\n<p>1/4-1/2 cup Oatmeal Cookies<br />4 oz 1%
  Milk (8 oz for ages 6-12)</p>
END:VEVENT
BEGIN:VEVENT
UID:20240522T180000UTC-3886iNi9XP@https://www.denbighchristianacademy.com/
DTSTAMP:20260425T010140Z
CATEGORIES:School Menu
DESCRIPTION:<p><span style='text-decoration: underline\;'><strong>Breakfast
 </strong></span></p>\n<p>1 ½ oz Bagel w/Cream Cheese<br />1/4-1/2 cup Frui
 t Cocktail<br />1/4-1/2 cup Cereal (optional)<br />6 oz. 1% Milk (8 oz for
  ages 6-12)</p>\n<p><br /><span style='text-decoration: underline\;'><stro
 ng>AM Snack</strong></span></p>\n<p>1/4-1/2 cup WG Nutri Grain Bar<br />4 
 oz 1% Milk (8 oz for ages 6-12)</p>\n<p><br /><span style='text-decoration
 : underline\;'><strong>Lunch</strong></span></p>\n<p>1 1/2 - 2 oz Chicken 
 Nuggets<br />WW Bread<br />1/4-1/2 cup Mixed Veggies<br />1/4 cup Mixed Fr
 uit&nbsp\;<br />6 oz.1% Milk (ages 6-12 8 oz)</p>\n<p><br /><span style='t
 ext-decoration: underline\;'><strong>PM Snack</strong></span></p>\n<p>1.37
  oz Captain's Wafers Crackers<br />4 oz Water (8 oz for ages 6-12)</p>
DTSTART:20240522T000000Z
DTEND:20240522T235959Z
SUMMARY:Wednesday
URL:https://www.denbighchristianacademy.com/index.php/school-calendar/lunch
 -menu/10-school-menu/1466-wednesday
X-ALT-DESC;FMTTYPE=TEXT/HTML:<p><span style='text-decoration: underline\;'>
 <strong>Breakfast</strong></span></p>\n<p>1 ½ oz Bagel w/Cream Cheese<br /
 >1/4-1/2 cup Fruit Cocktail<br />1/4-1/2 cup Cereal (optional)<br />6 oz. 
 1% Milk (8 oz for ages 6-12)</p>\n<p><br /><span style='text-decoration: u
 nderline\;'><strong>AM Snack</strong></span></p>\n<p>1/4-1/2 cup WG Nutri 
 Grain Bar<br />4 oz 1% Milk (8 oz for ages 6-12)</p>\n<p><br /><span style
 ='text-decoration: underline\;'><strong>Lunch</strong></span></p>\n<p>1 1/
 2 - 2 oz Chicken Nuggets<br />WW Bread<br />1/4-1/2 cup Mixed Veggies<br /
 >1/4 cup Mixed Fruit&nbsp\;<br />6 oz.1% Milk (ages 6-12 8 oz)</p>\n<p><br
  /><span style='text-decoration: underline\;'><strong>PM Snack</strong></s
 pan></p>\n<p>1.37 oz Captain's Wafers Crackers<br />4 oz Water (8 oz for a
 ges 6-12)</p>
END:VEVENT
BEGIN:VEVENT
UID:20240523T180000UTC-9633RswP4G@https://www.denbighchristianacademy.com/
DTSTAMP:20260425T010140Z
CATEGORIES:School Menu
DESCRIPTION:<p><span style='text-decoration: underline\;'><strong>Breakfast
 </strong></span></p>\n<p>2 - 4 French Toast Sticks<br />1/4-1/2 cup Peache
 s<br />1/4-1/2 cup Cereal (optional)<br />6 oz. 1% Milk (8 oz for ages 6-1
 2)</p>\n<p><br /><span style='text-decoration: underline\;'><strong>AM Sna
 ck</strong></span></p>\n<p>1 Banana<br />4 oz 1% Milk (8 oz for ages 6-12)
 </p>\n<p><br /><span style='text-decoration: underline\;'><strong>Lunch</s
 trong></span></p>\n<p>1 1/2 - 2 oz Meat Loaf<br />WW Roll<br />1/4-1/2 cup
  Mashed Potatoes<br />1/4-1/2 cup Green Beans<br />1/4 cup Fruit Cocktail<
 br />6 oz.1% Milk (ages 6-12 8 oz)</p>\n<p><br /><span style='text-decorat
 ion: underline\;'><strong>PM Snack</strong></span></p>\n<p>1/4-1/2 cup WG 
 Ritz Bits Crackers<br />4 oz 1% Milk (8 oz for ages 6-12)</p>
DTSTART:20240523T000000Z
DTEND:20240523T235959Z
SUMMARY:Thursday
URL:https://www.denbighchristianacademy.com/index.php/school-calendar/lunch
 -menu/10-school-menu/1467-thursday
X-ALT-DESC;FMTTYPE=TEXT/HTML:<p><span style='text-decoration: underline\;'>
 <strong>Breakfast</strong></span></p>\n<p>2 - 4 French Toast Sticks<br />1
 /4-1/2 cup Peaches<br />1/4-1/2 cup Cereal (optional)<br />6 oz. 1% Milk (
 8 oz for ages 6-12)</p>\n<p><br /><span style='text-decoration: underline\
 ;'><strong>AM Snack</strong></span></p>\n<p>1 Banana<br />4 oz 1% Milk (8 
 oz for ages 6-12)</p>\n<p><br /><span style='text-decoration: underline\;'
 ><strong>Lunch</strong></span></p>\n<p>1 1/2 - 2 oz Meat Loaf<br />WW Roll
 <br />1/4-1/2 cup Mashed Potatoes<br />1/4-1/2 cup Green Beans<br />1/4 cu
 p Fruit Cocktail<br />6 oz.1% Milk (ages 6-12 8 oz)</p>\n<p><br /><span st
 yle='text-decoration: underline\;'><strong>PM Snack</strong></span></p>\n<
 p>1/4-1/2 cup WG Ritz Bits Crackers<br />4 oz 1% Milk (8 oz for ages 6-12)
 </p>
END:VEVENT
BEGIN:VEVENT
UID:20240524T180000UTC-1507pJoccZ@https://www.denbighchristianacademy.com/
DTSTAMP:20260425T010140Z
CATEGORIES:School Menu
DESCRIPTION:<p><span style='text-decoration: underline\;'><strong>Breakfast
 </strong></span></p>\n<p>1/4-1/2 cup Oatmeal<br />1/4-1/2 cup Mixed Fruit<
 br />1/4-1/2 cup Cereal (optional)<br />6 oz. 1% Milk (8 oz for ages 6-12)
 </p>\n<p><br /><span style='text-decoration: underline\;'><strong>AM Snack
 </strong></span></p>\n<p>1/4-1/2 cup WW Gold Fish Crackers<br />4 oz 1% Mi
 lk (8 oz for ages 6-12)</p>\n<p><br /><span style='text-decoration: underl
 ine\;'><strong>Lunch</strong></span></p>\n<p>1 1/2 - 2 oz Hamburger/Cheese
 burger<br />on WW Bun<br />1 oz bag Potato Chips<br />1/4 cup Jello Mixed 
 Fruit<br />6 oz.1% Milk (ages 6-12 8 oz)</p>\n<p><br /><span style='text-d
 ecoration: underline\;'><strong>PM Snack</strong></span></p>\n<p>3 oz Choc
 olate Chip Cookies<br />4 oz 1% Milk (8 oz for ages 6-12)</p>
DTSTART:20240524T000000Z
DTEND:20240524T235959Z
SUMMARY:Friday
URL:https://www.denbighchristianacademy.com/index.php/school-calendar/lunch
 -menu/10-school-menu/1468-friday
X-ALT-DESC;FMTTYPE=TEXT/HTML:<p><span style='text-decoration: underline\;'>
 <strong>Breakfast</strong></span></p>\n<p>1/4-1/2 cup Oatmeal<br />1/4-1/2
  cup Mixed Fruit<br />1/4-1/2 cup Cereal (optional)<br />6 oz. 1% Milk (8 
 oz for ages 6-12)</p>\n<p><br /><span style='text-decoration: underline\;'
 ><strong>AM Snack</strong></span></p>\n<p>1/4-1/2 cup WW Gold Fish Cracker
 s<br />4 oz 1% Milk (8 oz for ages 6-12)</p>\n<p><br /><span style='text-d
 ecoration: underline\;'><strong>Lunch</strong></span></p>\n<p>1 1/2 - 2 oz
  Hamburger/Cheeseburger<br />on WW Bun<br />1 oz bag Potato Chips<br />1/4
  cup Jello Mixed Fruit<br />6 oz.1% Milk (ages 6-12 8 oz)</p>\n<p><br /><s
 pan style='text-decoration: underline\;'><strong>PM Snack</strong></span><
 /p>\n<p>3 oz Chocolate Chip Cookies<br />4 oz 1% Milk (8 oz for ages 6-12)
 </p>
END:VEVENT
END:VCALENDAR
