BEGIN:VCALENDAR
VERSION:2.0
PRODID:-//https://www.denbighchristianacademy.com//NONSGML kigkonsult.se iC
 alcreator 2.29.29//
CALSCALE:GREGORIAN
METHOD:PUBLISH
UID:e0e71c54-90af-4c81-b68d-b47083b9f4f6
X-WR-CALNAME:JCal Pro Calendar
X-WR-CALDESC:Your online events calendar
X-WR-TIMEZONE:UTC
BEGIN:VTIMEZONE
TZID:UTC
END:VTIMEZONE
BEGIN:VEVENT
UID:20240513T150000UTC-9047utLncv@https://www.denbighchristianacademy.com/
DTSTAMP:20260425T023143Z
CATEGORIES:School Menu
DESCRIPTION:<p><span style='text-decoration: underline\;'><strong>Breakfast
 </strong></span></p>\n<p>1 ½ oz French Toast Sticks<br />1/4-1/2 cup Dices
  Pears<br />1/4-1/2 cup Cereal (optional)<br />6 oz. 1% Milk (8 oz for age
 s 6-12)</p>\n<p><br /><span style='text-decoration: underline\;'><strong>A
 M Snack</strong></span></p>\n<p>1/4-1/2 cup Nilla Wafers<br />4 oz Water (
 8 oz for ages 6-12)</p>\n<p><br /><span style='text-decoration: underline\
 ;'><strong>Lunch</strong></span></p>\n<p>1 1/2 - 2 oz Mac &amp\; Cheese<br
  />WW Bread<br />1/4-1/2 cup Broccoli<br />1/4 cup Mixed Fruit<br />6 oz.1
 % Milk (ages 6-12 8 oz)</p>\n<p><br /><span style='text-decoration: underl
 ine\;'><strong>PM Snack</strong></span></p>\n<p>1/4-1/2 cup Oatmeal Cookie
 s<br />4 oz 1% Milk (8 oz for ages 6-12)</p>
DTSTART:20240513T000000Z
DTEND:20240513T235959Z
SUMMARY:Monday
URL:https://www.denbighchristianacademy.com/index.php/school-calendar/lunch
 -menu/10-school-menu/1459-monday
X-ALT-DESC;FMTTYPE=TEXT/HTML:<p><span style='text-decoration: underline\;'>
 <strong>Breakfast</strong></span></p>\n<p>1 ½ oz French Toast Sticks<br />
 1/4-1/2 cup Dices Pears<br />1/4-1/2 cup Cereal (optional)<br />6 oz. 1% M
 ilk (8 oz for ages 6-12)</p>\n<p><br /><span style='text-decoration: under
 line\;'><strong>AM Snack</strong></span></p>\n<p>1/4-1/2 cup Nilla Wafers<
 br />4 oz Water (8 oz for ages 6-12)</p>\n<p><br /><span style='text-decor
 ation: underline\;'><strong>Lunch</strong></span></p>\n<p>1 1/2 - 2 oz Mac
  &amp\; Cheese<br />WW Bread<br />1/4-1/2 cup Broccoli<br />1/4 cup Mixed 
 Fruit<br />6 oz.1% Milk (ages 6-12 8 oz)</p>\n<p><br /><span style='text-d
 ecoration: underline\;'><strong>PM Snack</strong></span></p>\n<p>1/4-1/2 c
 up Oatmeal Cookies<br />4 oz 1% Milk (8 oz for ages 6-12)</p>
END:VEVENT
BEGIN:VEVENT
UID:20240514T160000UTC-5906xzUUCH@https://www.denbighchristianacademy.com/
DTSTAMP:20260425T023143Z
CATEGORIES:School Menu
DESCRIPTION:<p><span style='text-decoration: underline\;'><strong>Breakfast
 </strong></span></p>\n<p>3.5 oz Biscuit<br />1 - 2 oz Turkey Bacon<br />1/
 4-1/2 cup Applesauce<br />1/4-1/2 cup Cereal (optional)<br />6 oz. 1% Milk
  (8 oz for ages 6-12)</p>\n<p><br /><span style='text-decoration: underlin
 e\;'><strong>AM Snack</strong></span></p>\n<p>1 - 2 oz WG Teddy Graham Cra
 ckers<br />4 oz 1% Milk (8 oz for ages 6-12)</p>\n<p><br /><span style='te
 xt-decoration: underline\;'><strong>Lunch</strong></span></p>\n<p>1 1/2 - 
 2 oz Chicken Drumsticks<br />WW Bread<br />1/4-1/2 cup Peas &amp\; Casrrot
 s<br />1/4 cup Mixed Fruit<br />6 oz.1% Milk (ages 6-12 8 oz)</p>\n<p><br 
 /><span style='text-decoration: underline\;'><strong>PM Snack</strong></sp
 an></p>\n<p>1/4-1/2 cup Pretzels<br />4 oz 100% Grape Juice (8 oz for ages
  6-12)</p>
DTSTART:20240514T000000Z
DTEND:20240514T235959Z
SUMMARY:Tuesday
URL:https://www.denbighchristianacademy.com/index.php/school-calendar/lunch
 -menu/10-school-menu/1460-tuesday
X-ALT-DESC;FMTTYPE=TEXT/HTML:<p><span style='text-decoration: underline\;'>
 <strong>Breakfast</strong></span></p>\n<p>3.5 oz Biscuit<br />1 - 2 oz Tur
 key Bacon<br />1/4-1/2 cup Applesauce<br />1/4-1/2 cup Cereal (optional)<b
 r />6 oz. 1% Milk (8 oz for ages 6-12)</p>\n<p><br /><span style='text-dec
 oration: underline\;'><strong>AM Snack</strong></span></p>\n<p>1 - 2 oz WG
  Teddy Graham Crackers<br />4 oz 1% Milk (8 oz for ages 6-12)</p>\n<p><br 
 /><span style='text-decoration: underline\;'><strong>Lunch</strong></span>
 </p>\n<p>1 1/2 - 2 oz Chicken Drumsticks<br />WW Bread<br />1/4-1/2 cup Pe
 as &amp\; Casrrots<br />1/4 cup Mixed Fruit<br />6 oz.1% Milk (ages 6-12 8
  oz)</p>\n<p><br /><span style='text-decoration: underline\;'><strong>PM S
 nack</strong></span></p>\n<p>1/4-1/2 cup Pretzels<br />4 oz 100% Grape Jui
 ce (8 oz for ages 6-12)</p>
END:VEVENT
BEGIN:VEVENT
UID:20240515T160000UTC-1684bUmPVv@https://www.denbighchristianacademy.com/
DTSTAMP:20260425T023143Z
CATEGORIES:School Menu
DESCRIPTION:<p><span style='text-decoration: underline\;'><strong>Breakfast
 </strong></span></p>\n<p>1 ½ oz (2) Pancakes<br />1/4-1/2 cup Fruit Cockta
 il<br />1/4-1/2 cup Cereal (optional)<br />6 oz. 1% Milk (8 oz for ages 6-
 12)</p>\n<p><br /><span style='text-decoration: underline\;'><strong>AM Sn
 ack</strong></span></p>\n<p>1/4-1/2 cup WG Cheez-it Crackers<br />4 oz 1% 
 Milk (8 oz for ages 6-12)</p>\n<p><br /><span style='text-decoration: unde
 rline\;'><strong>Lunch</strong></span></p>\n<p>1 1/2 - 2 oz Spaghetti w/Me
 at Sauce<br />1/4-1/2 cp Tossed Salad w/Dressing<br />1/2 - 1 Garlic Bread
  Stick<br />1/4 cup Mixed Fruit<br />6 oz.1% Milk (ages 6-12 8 oz)</p>\n<p
 ><br /><span style='text-decoration: underline\;'><strong>PM Snack</strong
 ></span></p>\n<p>3 oz (3 each) Oreo Cookies<br />4 oz 1% Milk (8 oz for ag
 es 6-12)</p>
DTSTART:20240515T000000Z
DTEND:20240515T235959Z
SUMMARY:Wednesday
URL:https://www.denbighchristianacademy.com/index.php/school-calendar/lunch
 -menu/10-school-menu/1461-wednesday
X-ALT-DESC;FMTTYPE=TEXT/HTML:<p><span style='text-decoration: underline\;'>
 <strong>Breakfast</strong></span></p>\n<p>1 ½ oz (2) Pancakes<br />1/4-1/2
  cup Fruit Cocktail<br />1/4-1/2 cup Cereal (optional)<br />6 oz. 1% Milk 
 (8 oz for ages 6-12)</p>\n<p><br /><span style='text-decoration: underline
 \;'><strong>AM Snack</strong></span></p>\n<p>1/4-1/2 cup WG Cheez-it Crack
 ers<br />4 oz 1% Milk (8 oz for ages 6-12)</p>\n<p><br /><span style='text
 -decoration: underline\;'><strong>Lunch</strong></span></p>\n<p>1 1/2 - 2 
 oz Spaghetti w/Meat Sauce<br />1/4-1/2 cp Tossed Salad w/Dressing<br />1/2
  - 1 Garlic Bread Stick<br />1/4 cup Mixed Fruit<br />6 oz.1% Milk (ages 6
 -12 8 oz)</p>\n<p><br /><span style='text-decoration: underline\;'><strong
 >PM Snack</strong></span></p>\n<p>3 oz (3 each) Oreo Cookies<br />4 oz 1% 
 Milk (8 oz for ages 6-12)</p>
END:VEVENT
BEGIN:VEVENT
UID:20240516T160000UTC-8507ke1brv@https://www.denbighchristianacademy.com/
DTSTAMP:20260425T023143Z
CATEGORIES:School Menu
DESCRIPTION:<p><span style='text-decoration: underline\;'><strong>Breakfast
 </strong></span></p>\n<p>1 ½ - 2 oz Oatmeal<br />1/4-1/2 cup Peaches<br />
 1/4-1/2 cup Cereal (optional)<br />6 oz. 1% Milk (8 oz for ages 6-12)</p>
 \n<p><br /><span style='text-decoration: underline\;'><strong>AM Snack</st
 rong></span></p>\n<p>1/4-1/2 cup WG Ritz Bits Crackers<br />4 oz Water (8 
 oz for ages 6-12)</p>\n<p><br /><span style='text-decoration: underline\;'
 ><strong>Lunch</strong></span></p>\n<p>1 1/2 - 2 oz Veggie Pasta Salad<br 
 />w/Chicken<br />WW Roll<br />1/4 cup Fruit Cocktail<br />6 oz.1% Milk (ag
 es 6-12 8 oz)</p>\n<p><br /><span style='text-decoration: underline\;'><st
 rong>PM Snack</strong></span></p>\n<p>1 (.78 oz) Bar Rice Krispy Treat<br 
 />4 oz 1% Milk (8 oz for ages 6-12)</p>
DTSTART:20240516T000000Z
DTEND:20240516T235959Z
SUMMARY:Thursday
URL:https://www.denbighchristianacademy.com/index.php/school-calendar/lunch
 -menu/10-school-menu/1462-thursday
X-ALT-DESC;FMTTYPE=TEXT/HTML:<p><span style='text-decoration: underline\;'>
 <strong>Breakfast</strong></span></p>\n<p>1 ½ - 2 oz Oatmeal<br />1/4-1/2 
 cup Peaches<br />1/4-1/2 cup Cereal (optional)<br />6 oz. 1% Milk (8 oz fo
 r ages 6-12)</p>\n<p><br /><span style='text-decoration: underline\;'><str
 ong>AM Snack</strong></span></p>\n<p>1/4-1/2 cup WG Ritz Bits Crackers<br 
 />4 oz Water (8 oz for ages 6-12)</p>\n<p><br /><span style='text-decorati
 on: underline\;'><strong>Lunch</strong></span></p>\n<p>1 1/2 - 2 oz Veggie
  Pasta Salad<br />w/Chicken<br />WW Roll<br />1/4 cup Fruit Cocktail<br />
 6 oz.1% Milk (ages 6-12 8 oz)</p>\n<p><br /><span style='text-decoration: 
 underline\;'><strong>PM Snack</strong></span></p>\n<p>1 (.78 oz) Bar Rice 
 Krispy Treat<br />4 oz 1% Milk (8 oz for ages 6-12)</p>
END:VEVENT
BEGIN:VEVENT
UID:20240517T160000UTC-4372fnpgwZ@https://www.denbighchristianacademy.com/
DTSTAMP:20260425T023143Z
CATEGORIES:School Menu
DESCRIPTION:<p><span style='text-decoration: underline\;'><strong>Breakfast
 </strong></span></p>\n<p>1 oz Turkey Sausage w/WW Toast<br />1/4-1/2 cup M
 ixed Fruit<br />1/4-1/2 cup Cereal (optional)<br />6 oz. 1% Milk (8 oz for
  ages 6-12)</p>\n<p><br /><span style='text-decoration: underline\;'><stro
 ng>AM Snack</strong></span></p>\n<p>1/4-1/2 cup WW Gold Fish Crackers<br /
 >4 oz 1% Milk (8 oz for ages 6-12)</p>\n<p><br /><span style='text-decorat
 ion: underline\;'><strong>Lunch</strong></span></p>\n<p>1 1/2 - 2 oz Turke
 y &amp\; Cheese Sandwich<br />on WW Bread<br />1 oz Tater Tots<br />1/4 cu
 p Mixed Fruit<br />6 oz.1% Milk (ages 6-12 8 oz)</p>\n<p><br /><span style
 ='text-decoration: underline\;'><strong>PM Snack</strong></span></p>\n<p>1
  (.78 oz) Bar Rice Krispy Treat<br />4 oz 1% Milk (8 oz for ages 6-12)</p>
DTSTART:20240517T000000Z
DTEND:20240517T235959Z
SUMMARY:Friday
URL:https://www.denbighchristianacademy.com/index.php/school-calendar/lunch
 -menu/10-school-menu/1463-friday
X-ALT-DESC;FMTTYPE=TEXT/HTML:<p><span style='text-decoration: underline\;'>
 <strong>Breakfast</strong></span></p>\n<p>1 oz Turkey Sausage w/WW Toast<b
 r />1/4-1/2 cup Mixed Fruit<br />1/4-1/2 cup Cereal (optional)<br />6 oz. 
 1% Milk (8 oz for ages 6-12)</p>\n<p><br /><span style='text-decoration: u
 nderline\;'><strong>AM Snack</strong></span></p>\n<p>1/4-1/2 cup WW Gold F
 ish Crackers<br />4 oz 1% Milk (8 oz for ages 6-12)</p>\n<p><br /><span st
 yle='text-decoration: underline\;'><strong>Lunch</strong></span></p>\n<p>1
  1/2 - 2 oz Turkey &amp\; Cheese Sandwich<br />on WW Bread<br />1 oz Tater
  Tots<br />1/4 cup Mixed Fruit<br />6 oz.1% Milk (ages 6-12 8 oz)</p>\n<p>
 <br /><span style='text-decoration: underline\;'><strong>PM Snack</strong>
 </span></p>\n<p>1 (.78 oz) Bar Rice Krispy Treat<br />4 oz 1% Milk (8 oz f
 or ages 6-12)</p>
END:VEVENT
END:VCALENDAR
