BEGIN:VCALENDAR
VERSION:2.0
PRODID:-//https://www.denbighchristianacademy.com//NONSGML kigkonsult.se iC
 alcreator 2.29.29//
CALSCALE:GREGORIAN
METHOD:PUBLISH
UID:2b68778f-09fb-42e9-906c-932a04f18b8e
X-WR-CALNAME:JCal Pro Calendar
X-WR-CALDESC:Your online events calendar
X-WR-TIMEZONE:UTC
BEGIN:VTIMEZONE
TZID:UTC
END:VTIMEZONE
BEGIN:VEVENT
UID:20230717T150000UTC-4883n0UPR2@https://www.denbighchristianacademy.com/
DTSTAMP:20260425T211531Z
CATEGORIES:School Menu
DESCRIPTION:<p><span style='text-decoration: underline\;'><strong>Breakfast
 </strong></span></p>\n<p>1 1/2 oz Belgian Waffle<br />1/4-1/2 cup Pineappl
 e<br />1/4-1/2 cup Cereal (optional)<br />6 oz. 1% Milk (8 oz for ages 6-1
 2)</p>\n<p><br /><span style='text-decoration: underline\;'><strong>AM Sna
 ck</strong></span></p>\n<p>1/4-1/2 Teddy Graham Crackers<br />4 oz 1% Milk
  (8 oz for ages 6-12)</p>\n<p><br /><span style='text-decoration: underlin
 e\;'><strong>Lunch</strong></span></p>\n<p>1 1/2 - 2 oz Chicken Tenders<br
  />WW Roll<br />1/4-1/2 cup Mixed Vegetables<br />1/4 cup Tropical Fruit<b
 r />6 oz.1% Milk (ages 6-12 8 oz)</p>\n<p><br /><span style='text-decorati
 on: underline\;'><strong>PM Snack</strong></span></p>\n<p>1/4-1/2 cup Bug 
 Bites Crackers<br />4 oz 1% Milk (8 oz for ages 6-12)</p>
DTSTART:20230717T000000Z
DTEND:20230717T235959Z
SUMMARY:Monday
URL:https://www.denbighchristianacademy.com/index.php/school-calendar/lunch
 -menu/10-school-menu/1245-monday
X-ALT-DESC;FMTTYPE=TEXT/HTML:<p><span style='text-decoration: underline\;'>
 <strong>Breakfast</strong></span></p>\n<p>1 1/2 oz Belgian Waffle<br />1/4
 -1/2 cup Pineapple<br />1/4-1/2 cup Cereal (optional)<br />6 oz. 1% Milk (
 8 oz for ages 6-12)</p>\n<p><br /><span style='text-decoration: underline\
 ;'><strong>AM Snack</strong></span></p>\n<p>1/4-1/2 Teddy Graham Crackers<
 br />4 oz 1% Milk (8 oz for ages 6-12)</p>\n<p><br /><span style='text-dec
 oration: underline\;'><strong>Lunch</strong></span></p>\n<p>1 1/2 - 2 oz C
 hicken Tenders<br />WW Roll<br />1/4-1/2 cup Mixed Vegetables<br />1/4 cup
  Tropical Fruit<br />6 oz.1% Milk (ages 6-12 8 oz)</p>\n<p><br /><span sty
 le='text-decoration: underline\;'><strong>PM Snack</strong></span></p>\n<p
 >1/4-1/2 cup Bug Bites Crackers<br />4 oz 1% Milk (8 oz for ages 6-12)</p>
END:VEVENT
BEGIN:VEVENT
UID:20230718T150000UTC-4694Me1PTt@https://www.denbighchristianacademy.com/
DTSTAMP:20260425T211531Z
CATEGORIES:School Menu
DESCRIPTION:<p><span style='text-decoration: underline\;'><strong>Breakfast
 </strong></span></p>\n<p>1/2 - 1 Bagel w/Cream Cheese<br />1/4-1/2 cup Pea
 ches<br />1/4-1/2 cup Cereal (optional)<br />6 oz. 1% Milk (8 oz for ages 
 6-12)</p>\n<p><br /><span style='text-decoration: underline\;'><strong>AM 
 Snack</strong></span></p>\n<p>1/4-1/2 cup Captain Wafer Sandwich Crackers<
 br />4 oz 1% Milk (8 oz for ages 6-12)</p>\n<p><br /><span style='text-dec
 oration: underline\;'><strong>Lunch</strong></span></p>\n<p>1 1/2 - 2 oz M
 eat Sauce Nachos<br />w/.5 oz WW Tortillas<br />1/4-1/2 cup Seasoned Corn<
 br />1/4 cup Mixed Fruit<br />6 oz.1% Milk (ages 6-12 8 oz)</p>\n<p><br />
 <span style='text-decoration: underline\;'><strong>PM Snack</strong></span
 ></p>\n<p>1.62 oz asst. Fruit Snacks (2 pks)<br />4 oz 1% Milk (8 oz for a
 ges 6-12)</p>
DTSTART:20230718T000000Z
DTEND:20230718T235959Z
SUMMARY:Tuesday
URL:https://www.denbighchristianacademy.com/index.php/school-calendar/lunch
 -menu/10-school-menu/1246-tuesday
X-ALT-DESC;FMTTYPE=TEXT/HTML:<p><span style='text-decoration: underline\;'>
 <strong>Breakfast</strong></span></p>\n<p>1/2 - 1 Bagel w/Cream Cheese<br 
 />1/4-1/2 cup Peaches<br />1/4-1/2 cup Cereal (optional)<br />6 oz. 1% Mil
 k (8 oz for ages 6-12)</p>\n<p><br /><span style='text-decoration: underli
 ne\;'><strong>AM Snack</strong></span></p>\n<p>1/4-1/2 cup Captain Wafer S
 andwich Crackers<br />4 oz 1% Milk (8 oz for ages 6-12)</p>\n<p><br /><spa
 n style='text-decoration: underline\;'><strong>Lunch</strong></span></p>\n
 <p>1 1/2 - 2 oz Meat Sauce Nachos<br />w/.5 oz WW Tortillas<br />1/4-1/2 c
 up Seasoned Corn<br />1/4 cup Mixed Fruit<br />6 oz.1% Milk (ages 6-12 8 o
 z)</p>\n<p><br /><span style='text-decoration: underline\;'><strong>PM Sna
 ck</strong></span></p>\n<p>1.62 oz asst. Fruit Snacks (2 pks)<br />4 oz 1%
  Milk (8 oz for ages 6-12)</p>
END:VEVENT
BEGIN:VEVENT
UID:20230719T150000UTC-6732UxTvbS@https://www.denbighchristianacademy.com/
DTSTAMP:20260425T211531Z
CATEGORIES:School Menu
DESCRIPTION:<p><span style='text-decoration: underline\;'><strong>Breakfast
 </strong></span></p>\n<p>1 1/2 oz (2) Pancakes<br />1/4-1/2 cup Peaches<br
  />1/4-1/2 cup Cereal (optional)<br />6 oz. 1% Milk (8 oz for ages 6-12)</
 p>\n<p><br /><span style='text-decoration: underline\;'><strong>AM Snack</
 strong></span></p>\n<p>1/4-1/2 cup Goldfish Crackers<br />4 oz Water (8 oz
  for ages 6-12)</p>\n<p><br /><span style='text-decoration: underline\;'><
 strong>Lunch</strong></span></p>\n<p>1 1/2 - 2 oz Chicken Fajita<br />1/4-
 1/2 cup WG Brown Rice<br />1/4-1/2 cup Broccoli<br />1/4 cup Fruit Cocktai
 l<br />6 oz.1% Milk (ages 6-12 8 oz)</p>\n<p><br /><span style='text-decor
 ation: underline\;'><strong>PM Snack</strong></span></p>\n<p>1/4-1/2 cup C
 hoclalte Chip Cookies<br />4 oz 1% Milk (8 oz for ages 6-12)</p>
DTSTART:20230719T000000Z
DTEND:20230719T235959Z
SUMMARY:Wednesday
URL:https://www.denbighchristianacademy.com/index.php/school-calendar/lunch
 -menu/10-school-menu/1247-wednesday
X-ALT-DESC;FMTTYPE=TEXT/HTML:<p><span style='text-decoration: underline\;'>
 <strong>Breakfast</strong></span></p>\n<p>1 1/2 oz (2) Pancakes<br />1/4-1
 /2 cup Peaches<br />1/4-1/2 cup Cereal (optional)<br />6 oz. 1% Milk (8 oz
  for ages 6-12)</p>\n<p><br /><span style='text-decoration: underline\;'><
 strong>AM Snack</strong></span></p>\n<p>1/4-1/2 cup Goldfish Crackers<br /
 >4 oz Water (8 oz for ages 6-12)</p>\n<p><br /><span style='text-decoratio
 n: underline\;'><strong>Lunch</strong></span></p>\n<p>1 1/2 - 2 oz Chicken
  Fajita<br />1/4-1/2 cup WG Brown Rice<br />1/4-1/2 cup Broccoli<br />1/4 
 cup Fruit Cocktail<br />6 oz.1% Milk (ages 6-12 8 oz)</p>\n<p><br /><span 
 style='text-decoration: underline\;'><strong>PM Snack</strong></span></p>
 \n<p>1/4-1/2 cup Choclalte Chip Cookies<br />4 oz 1% Milk (8 oz for ages 6
 -12)</p>
END:VEVENT
BEGIN:VEVENT
UID:20230720T150000UTC-06394bkR6v@https://www.denbighchristianacademy.com/
DTSTAMP:20260425T211531Z
CATEGORIES:School Menu
DESCRIPTION:<p><span style='text-decoration: underline\;'><strong>Breakfast
 </strong></span></p>\n<p>1/4-1/2 cup Oatmeal<br />1/4-1/2 cup Pineapple<br
  />1/4-1/2 cup Cereal (optional)<br />6 oz. 1% Milk (8 oz for ages 6-12)</
 p>\n<p><br /><span style='text-decoration: underline\;'><strong>AM Snack</
 strong></span></p>\n<p>1 WG Nutri Grain Bar (1.3 oz)<br />4 oz 1% Milk (8 
 oz for ages 6-12)</p>\n<p><br /><span style='text-decoration: underline\;'
 ><strong>Lunch</strong></span></p>\n<p>1 1/2 - 2 oz Beef &amp\; Noodles<br
  />WW Bread<br />1/4-1/2 cup Green Beans<br />1/4 cup Mixed Fruit<br />6 o
 z.1% Milk (ages 6-12 8 oz)</p>\n<p><br /><span style='text-decoration: und
 erline\;'><strong>PM Snack</strong></span></p>\n<p>1 oz pk Little Bites Mu
 ffins<br />4 oz 100% Apple Juice (8 oz for ages 6-12)</p>
DTSTART:20230720T000000Z
DTEND:20230720T235959Z
SUMMARY:Thursday
URL:https://www.denbighchristianacademy.com/index.php/school-calendar/lunch
 -menu/10-school-menu/1248-thursday
X-ALT-DESC;FMTTYPE=TEXT/HTML:<p><span style='text-decoration: underline\;'>
 <strong>Breakfast</strong></span></p>\n<p>1/4-1/2 cup Oatmeal<br />1/4-1/2
  cup Pineapple<br />1/4-1/2 cup Cereal (optional)<br />6 oz. 1% Milk (8 oz
  for ages 6-12)</p>\n<p><br /><span style='text-decoration: underline\;'><
 strong>AM Snack</strong></span></p>\n<p>1 WG Nutri Grain Bar (1.3 oz)<br /
 >4 oz 1% Milk (8 oz for ages 6-12)</p>\n<p><br /><span style='text-decorat
 ion: underline\;'><strong>Lunch</strong></span></p>\n<p>1 1/2 - 2 oz Beef 
 &amp\; Noodles<br />WW Bread<br />1/4-1/2 cup Green Beans<br />1/4 cup Mix
 ed Fruit<br />6 oz.1% Milk (ages 6-12 8 oz)</p>\n<p><br /><span style='tex
 t-decoration: underline\;'><strong>PM Snack</strong></span></p>\n<p>1 oz p
 k Little Bites Muffins<br />4 oz 100% Apple Juice (8 oz for ages 6-12)</p>
END:VEVENT
BEGIN:VEVENT
UID:20230721T150000UTC-7568UzSMjo@https://www.denbighchristianacademy.com/
DTSTAMP:20260425T211531Z
CATEGORIES:School Menu
DESCRIPTION:<p><span style='text-decoration: underline\;'><strong>Breakfast
 </strong></span></p>\n<p>2 - 4 French Toast Sticks<br />1/4-1/2 cup Mixed 
 Fruit<br />1/4-1/2 cup Cereal (optional)<br />6 oz. 1% Milk (8 oz for ages
  6-12)</p>\n<p><br /><span style='text-decoration: underline\;'><strong>AM
  Snack</strong></span></p>\n<p>1/4-1/2 cup WG Cheez-it Crackers<br />4 oz 
 1% Milk (8 oz for ages 6-12)</p>\n<p><br /><span style='text-decoration: u
 nderline\;'><strong>Lunch</strong></span></p>\n<p>1 1/2 - 2 oz Turkey Sand
 wiches<br />on WW Bread<br />1 oz bag Chips<br />1/4 Fruit Cocktail w/Jell
 o<br />6 oz.1% Milk (ages 6-12 8 oz)</p>\n<p><br /><span style='text-decor
 ation: underline\;'><strong>PM Snack</strong></span></p>\n<p>1/4-1/2 cup G
 raham Crackers<br />4 oz 1% Milk (8 oz for ages 6-12)</p>
DTSTART:20230721T000000Z
DTEND:20230721T235959Z
SUMMARY:Friday
URL:https://www.denbighchristianacademy.com/index.php/school-calendar/lunch
 -menu/10-school-menu/1249-friday
X-ALT-DESC;FMTTYPE=TEXT/HTML:<p><span style='text-decoration: underline\;'>
 <strong>Breakfast</strong></span></p>\n<p>2 - 4 French Toast Sticks<br />1
 /4-1/2 cup Mixed Fruit<br />1/4-1/2 cup Cereal (optional)<br />6 oz. 1% Mi
 lk (8 oz for ages 6-12)</p>\n<p><br /><span style='text-decoration: underl
 ine\;'><strong>AM Snack</strong></span></p>\n<p>1/4-1/2 cup WG Cheez-it Cr
 ackers<br />4 oz 1% Milk (8 oz for ages 6-12)</p>\n<p><br /><span style='t
 ext-decoration: underline\;'><strong>Lunch</strong></span></p>\n<p>1 1/2 -
  2 oz Turkey Sandwiches<br />on WW Bread<br />1 oz bag Chips<br />1/4 Frui
 t Cocktail w/Jello<br />6 oz.1% Milk (ages 6-12 8 oz)</p>\n<p><br /><span 
 style='text-decoration: underline\;'><strong>PM Snack</strong></span></p>
 \n<p>1/4-1/2 cup Graham Crackers<br />4 oz 1% Milk (8 oz for ages 6-12)</p
 >
END:VEVENT
END:VCALENDAR
