BEGIN:VCALENDAR
VERSION:2.0
PRODID:-//https://www.denbighchristianacademy.com//NONSGML kigkonsult.se iC
 alcreator 2.29.29//
CALSCALE:GREGORIAN
METHOD:PUBLISH
UID:689ea801-5dbd-48d6-b0b6-6ac0c46e920e
X-WR-CALNAME:JCal Pro Calendar
X-WR-CALDESC:Your online events calendar
X-WR-TIMEZONE:UTC
BEGIN:VTIMEZONE
TZID:UTC
END:VTIMEZONE
BEGIN:VEVENT
UID:20230515T170000UTC-8734uBp1L5@https://www.denbighchristianacademy.com/
DTSTAMP:20260425T225001Z
CATEGORIES:School Menu
DESCRIPTION:<p><span style='text-decoration: underline\;'><strong>Breakfast
 </strong></span></p>\n<p>1 1/2 oz Belgian Waffle<br />1/4-1/2 cup Diced Pe
 ars<br />1/4-1/2 cup Cereal (optional)<br />6 oz. 1% Milk (8 oz for ages 6
 -12)</p>\n<p><br /><span style='text-decoration: underline\;'><strong>AM S
 nack</strong></span></p>\n<p>1/4-1/2 cup WG Bug Bites Crackers<br />4 oz 1
 % Milk (8 oz for ages 6-12)</p>\n<p><br /><span style='text-decoration: un
 derline\;'><strong>Lunch</strong></span></p>\n<p>1 1/2 - 2 oz Meatballs<br
  />WW Roll<br />1/4-1/2 cup Mashed Potatoes<br />1/4-1/2 Green Beans<br />
 1/4 cup Tropical Fruit<br />6 oz.1% Milk (ages 6-12 8 oz)</p>\n<p><br /><s
 pan style='text-decoration: underline\;'><strong>PM Snack</strong></span><
 /p>\n<p>1/4-1/2 cup Chex Mix<br />4 oz 1% Milk (8 oz for ages 6-12)</p>
DTSTART:20230515T000000Z
DTEND:20230515T235959Z
SUMMARY:Monday
URL:https://www.denbighchristianacademy.com/index.php/school-calendar/lunch
 -menu/10-school-menu/1148-monday
X-ALT-DESC;FMTTYPE=TEXT/HTML:<p><span style='text-decoration: underline\;'>
 <strong>Breakfast</strong></span></p>\n<p>1 1/2 oz Belgian Waffle<br />1/4
 -1/2 cup Diced Pears<br />1/4-1/2 cup Cereal (optional)<br />6 oz. 1% Milk
  (8 oz for ages 6-12)</p>\n<p><br /><span style='text-decoration: underlin
 e\;'><strong>AM Snack</strong></span></p>\n<p>1/4-1/2 cup WG Bug Bites Cra
 ckers<br />4 oz 1% Milk (8 oz for ages 6-12)</p>\n<p><br /><span style='te
 xt-decoration: underline\;'><strong>Lunch</strong></span></p>\n<p>1 1/2 - 
 2 oz Meatballs<br />WW Roll<br />1/4-1/2 cup Mashed Potatoes<br />1/4-1/2 
 Green Beans<br />1/4 cup Tropical Fruit<br />6 oz.1% Milk (ages 6-12 8 oz)
 </p>\n<p><br /><span style='text-decoration: underline\;'><strong>PM Snack
 </strong></span></p>\n<p>1/4-1/2 cup Chex Mix<br />4 oz 1% Milk (8 oz for 
 ages 6-12)</p>
END:VEVENT
BEGIN:VEVENT
UID:20230516T170000UTC-1088pE2zrJ@https://www.denbighchristianacademy.com/
DTSTAMP:20260425T225001Z
CATEGORIES:School Menu
DESCRIPTION:<p><span style='text-decoration: underline\;'><strong>Breakfast
 </strong></span></p>\n<p>1 - 2 oz Turkey Bacon<br />1 1/2 - 2 oz WW Toast<
 br />1/4-1/2 cup Peaches<br />1/4-1/2 cup Cereal (optional)<br />6 oz. 1% 
 Milk (8 oz for ages 6-12)</p>\n<p><br /><span style='text-decoration: unde
 rline\;'><strong>AM Snack</strong></span></p>\n<p>1.62 oz Assorted Fruit S
 nacks (2 packs)<br />4 oz 1% Milk (8 oz for ages 6-12)</p>\n<p><br /><span
  style='text-decoration: underline\;'><strong>Lunch</strong></span></p>\n<
 p>1 1/2 - 2 oz Baked Chicken Drumstick<br />WW Roll<br />1/4-1/2 cup Mac &
 amp\; Cheese<br />1/4-1/2 cup Mixed Vegetables<br />1/4 cup Mixed Fruit<br
  />6 oz.1% Milk (ages 6-12 8 oz)</p>\n<p><br /><span style='text-decoratio
 n: underline\;'><strong>PM Snack</strong></span></p>\n<p>1 pack Lorne Doon
 e Cookies<br />4 oz 1% Milk (8 oz for ages 6-12)</p>
DTSTART:20230516T000000Z
DTEND:20230516T235959Z
SUMMARY:Tuesday
URL:https://www.denbighchristianacademy.com/index.php/school-calendar/lunch
 -menu/10-school-menu/1149-tuesday
X-ALT-DESC;FMTTYPE=TEXT/HTML:<p><span style='text-decoration: underline\;'>
 <strong>Breakfast</strong></span></p>\n<p>1 - 2 oz Turkey Bacon<br />1 1/2
  - 2 oz WW Toast<br />1/4-1/2 cup Peaches<br />1/4-1/2 cup Cereal (optiona
 l)<br />6 oz. 1% Milk (8 oz for ages 6-12)</p>\n<p><br /><span style='text
 -decoration: underline\;'><strong>AM Snack</strong></span></p>\n<p>1.62 oz
  Assorted Fruit Snacks (2 packs)<br />4 oz 1% Milk (8 oz for ages 6-12)</p
 >\n<p><br /><span style='text-decoration: underline\;'><strong>Lunch</stro
 ng></span></p>\n<p>1 1/2 - 2 oz Baked Chicken Drumstick<br />WW Roll<br />
 1/4-1/2 cup Mac &amp\; Cheese<br />1/4-1/2 cup Mixed Vegetables<br />1/4 c
 up Mixed Fruit<br />6 oz.1% Milk (ages 6-12 8 oz)</p>\n<p><br /><span styl
 e='text-decoration: underline\;'><strong>PM Snack</strong></span></p>\n<p>
 1 pack Lorne Doone Cookies<br />4 oz 1% Milk (8 oz for ages 6-12)</p>
END:VEVENT
BEGIN:VEVENT
UID:20230517T170000UTC-4578NNKu3L@https://www.denbighchristianacademy.com/
DTSTAMP:20260425T225001Z
CATEGORIES:School Menu
DESCRIPTION:<p><span style='text-decoration: underline\;'><strong>Breakfast
 </strong></span></p>\n<p>1 1/2 oz (2) Pancakes<br />1/4-1/2 cup Diced Pine
 apples<br />1/4-1/2 cup Cereal (optional)<br />6 oz. 1% Milk (8 oz for age
 s 6-12)</p>\n<p><br /><span style='text-decoration: underline\;'><strong>A
 M Snack</strong></span></p>\n<p>1/4-1/2 cup Ritz Crackers &amp\; Cheese Cu
 bes<br />4 oz Water (8 oz for ages 6-12)</p>\n<p><br /><span style='text-d
 ecoration: underline\;'><strong>Lunch</strong></span></p>\n<p>1 1/2 - 2 oz
  Beef &amp\; Buttered Noodles<br />WW Bread<br />1/4-1/2 cup Broccoli<br /
 >1/4 cup Fruit Cocktail<br />6 oz.1% Milk (ages 6-12 8 oz)</p>\n<p><br /><
 span style='text-decoration: underline\;'><strong>PM Snack</strong></span>
 </p>\n<p>1/4-1/2 cup Vanilla Wafer Cookies<br />4 oz 1% Milk (8 oz for age
 s 6-12)</p>
DTSTART:20230517T000000Z
DTEND:20230517T235959Z
SUMMARY:Wednesday
URL:https://www.denbighchristianacademy.com/index.php/school-calendar/lunch
 -menu/10-school-menu/1150-wednesday
X-ALT-DESC;FMTTYPE=TEXT/HTML:<p><span style='text-decoration: underline\;'>
 <strong>Breakfast</strong></span></p>\n<p>1 1/2 oz (2) Pancakes<br />1/4-1
 /2 cup Diced Pineapples<br />1/4-1/2 cup Cereal (optional)<br />6 oz. 1% M
 ilk (8 oz for ages 6-12)</p>\n<p><br /><span style='text-decoration: under
 line\;'><strong>AM Snack</strong></span></p>\n<p>1/4-1/2 cup Ritz Crackers
  &amp\; Cheese Cubes<br />4 oz Water (8 oz for ages 6-12)</p>\n<p><br /><s
 pan style='text-decoration: underline\;'><strong>Lunch</strong></span></p>
 \n<p>1 1/2 - 2 oz Beef &amp\; Buttered Noodles<br />WW Bread<br />1/4-1/2 
 cup Broccoli<br />1/4 cup Fruit Cocktail<br />6 oz.1% Milk (ages 6-12 8 oz
 )</p>\n<p><br /><span style='text-decoration: underline\;'><strong>PM Snac
 k</strong></span></p>\n<p>1/4-1/2 cup Vanilla Wafer Cookies<br />4 oz 1% M
 ilk (8 oz for ages 6-12)</p>
END:VEVENT
BEGIN:VEVENT
UID:20230518T170000UTC-2284Ofz3kw@https://www.denbighchristianacademy.com/
DTSTAMP:20260425T225001Z
CATEGORIES:School Menu
DESCRIPTION:<p><span style='text-decoration: underline\;'><strong>Breakfast
 </strong></span></p>\n<p>1/4-1/2 cup Oatmeal<br />1/4-1/2 cup Tropical Fru
 it<br />1/4-1/2 cup Cereal (optional)<br />6 oz. 1% Milk (8 oz for ages 6-
 12)</p>\n<p><br /><span style='text-decoration: underline\;'><strong>AM Sn
 ack</strong></span></p>\n<p>1 WG Nutri Grain Bar (1.3 oz)<br />4 oz 1% Mil
 k (8 oz for ages 6-12)</p>\n<p><br /><span style='text-decoration: underli
 ne\;'><strong>Lunch</strong></span></p>\n<p>1 1/2 - 2 oz Chicken Fajitas<b
 r />WW Bread<br />1/4-1/2 WG Brown Rice<br />1/4-1/2 cup Mixed Vegetables<
 br />1/4 cup Mixed Fruit<br />6 oz.1% Milk (ages 6-12 8 oz)</p>\n<p><br />
 <span style='text-decoration: underline\;'><strong>PM Snack</strong></span
 ></p>\n<p>1 (.78 oz) Bar Rice Krispy Treat<br />4 oz 100% Apple Juice (8 o
 z for ages 6-12)</p>
DTSTART:20230518T000000Z
DTEND:20230518T235959Z
SUMMARY:Thursday
URL:https://www.denbighchristianacademy.com/index.php/school-calendar/lunch
 -menu/10-school-menu/1151-thursday
X-ALT-DESC;FMTTYPE=TEXT/HTML:<p><span style='text-decoration: underline\;'>
 <strong>Breakfast</strong></span></p>\n<p>1/4-1/2 cup Oatmeal<br />1/4-1/2
  cup Tropical Fruit<br />1/4-1/2 cup Cereal (optional)<br />6 oz. 1% Milk 
 (8 oz for ages 6-12)</p>\n<p><br /><span style='text-decoration: underline
 \;'><strong>AM Snack</strong></span></p>\n<p>1 WG Nutri Grain Bar (1.3 oz)
 <br />4 oz 1% Milk (8 oz for ages 6-12)</p>\n<p><br /><span style='text-de
 coration: underline\;'><strong>Lunch</strong></span></p>\n<p>1 1/2 - 2 oz 
 Chicken Fajitas<br />WW Bread<br />1/4-1/2 WG Brown Rice<br />1/4-1/2 cup 
 Mixed Vegetables<br />1/4 cup Mixed Fruit<br />6 oz.1% Milk (ages 6-12 8 o
 z)</p>\n<p><br /><span style='text-decoration: underline\;'><strong>PM Sna
 ck</strong></span></p>\n<p>1 (.78 oz) Bar Rice Krispy Treat<br />4 oz 100%
  Apple Juice (8 oz for ages 6-12)</p>
END:VEVENT
BEGIN:VEVENT
UID:20230519T170000UTC-263542mbhc@https://www.denbighchristianacademy.com/
DTSTAMP:20260425T225001Z
CATEGORIES:School Menu
DESCRIPTION:<p><span style='text-decoration: underline\;'><strong>Breakfast
 </strong></span></p>\n<p>2 - 4 French Toast Sticks<br />1/4-1/2 cup Mixed 
 Fruit<br />1/4-1/2 cup Cereal (optional)<br />6 oz. 1% Milk (8 oz for ages
  6-12)</p>\n<p><br /><span style='text-decoration: underline\;'><strong>AM
  Snack</strong></span></p>\n<p>1/4-1/2 cup WG Cheez-it Crackers<br />4 oz 
 1% Milk (8 oz for ages 6-12)</p>\n<p><br /><span style='text-decoration: u
 nderline\;'><strong>Lunch</strong></span></p>\n<p>1 1/2 - 2 oz Hamburgers/
 Cheeseburgers<br />WW Bread<br />1 oz Potato Chips<br />1/4 cup Fruit Cock
 tail<br />1.5 oz Oreo Cookies<br />6 oz.1% Milk (ages 6-12 8 oz)</p>\n<p><
 br /><span style='text-decoration: underline\;'><strong>PM Snack</strong><
 /span></p>\n<p>1/4-1/2 Little Muffin Bites<br />4 oz 1% Milk (8 oz for age
 s 6-12)</p>
DTSTART:20230519T000000Z
DTEND:20230519T235959Z
SUMMARY:Friday
URL:https://www.denbighchristianacademy.com/index.php/school-calendar/lunch
 -menu/10-school-menu/1152-friday
X-ALT-DESC;FMTTYPE=TEXT/HTML:<p><span style='text-decoration: underline\;'>
 <strong>Breakfast</strong></span></p>\n<p>2 - 4 French Toast Sticks<br />1
 /4-1/2 cup Mixed Fruit<br />1/4-1/2 cup Cereal (optional)<br />6 oz. 1% Mi
 lk (8 oz for ages 6-12)</p>\n<p><br /><span style='text-decoration: underl
 ine\;'><strong>AM Snack</strong></span></p>\n<p>1/4-1/2 cup WG Cheez-it Cr
 ackers<br />4 oz 1% Milk (8 oz for ages 6-12)</p>\n<p><br /><span style='t
 ext-decoration: underline\;'><strong>Lunch</strong></span></p>\n<p>1 1/2 -
  2 oz Hamburgers/Cheeseburgers<br />WW Bread<br />1 oz Potato Chips<br />1
 /4 cup Fruit Cocktail<br />1.5 oz Oreo Cookies<br />6 oz.1% Milk (ages 6-1
 2 8 oz)</p>\n<p><br /><span style='text-decoration: underline\;'><strong>P
 M Snack</strong></span></p>\n<p>1/4-1/2 Little Muffin Bites<br />4 oz 1% M
 ilk (8 oz for ages 6-12)</p>
END:VEVENT
END:VCALENDAR
