BEGIN:VCALENDAR
VERSION:2.0
PRODID:-//https://www.denbighchristianacademy.com//NONSGML kigkonsult.se iC
 alcreator 2.29.29//
CALSCALE:GREGORIAN
METHOD:PUBLISH
UID:d4995580-970e-4ece-849b-7c88f35b0b8b
X-WR-CALNAME:JCal Pro Calendar
X-WR-CALDESC:Your online events calendar
X-WR-TIMEZONE:UTC
BEGIN:VTIMEZONE
TZID:UTC
END:VTIMEZONE
BEGIN:VEVENT
UID:20230306T190000UTC-3746vi6OaZ@https://www.denbighchristianacademy.com/
DTSTAMP:20260426T021410Z
CATEGORIES:School Menu
DESCRIPTION:<p><span style='text-decoration: underline\;'><strong>Breakfast
 </strong></span></p>\n<p>1/2-1 Bagel w/Cream Cheese<br />1/4-1/2 cup Peach
 es<br />1/4-1/2 cup Cereal (optional)<br />6 oz. 1% Milk (8 oz for ages 6-
 12)</p>\n<p><br /><span style='text-decoration: underline\;'><strong>AM Sn
 ack</strong></span></p>\n<p>1/4-1/2 cup WG Graham Bug Bite Crackers<br />4
  oz 1% Milk (8 oz for ages 6-12)</p>\n<p><br /><span style='text-decoratio
 n: underline\;'><strong>Lunch</strong></span></p>\n<p>1 1/2 - 2 oz Meat Ba
 lls<br />1/4-1/2 cup Mashed Potatoes<br />1/4-1/2 cup Succotash<br />1/4 c
 up MIxed Fruit<br />WW Bread<br />6 oz.1% Milk (ages 6-12 8 oz)</p>\n<p><b
 r /><span style='text-decoration: underline\;'><strong>PM Snack</strong></
 span></p>\n<p>1/4-1/2 cup Mini Oreo Cookies<br />4 oz 1% Milk (8 oz for ag
 es 6-12)</p>
DTSTART:20230306T000000Z
DTEND:20230306T235959Z
SUMMARY:Monday
URL:https://www.denbighchristianacademy.com/index.php/school-calendar/lunch
 -menu/10-school-menu/1098-monday
X-ALT-DESC;FMTTYPE=TEXT/HTML:<p><span style='text-decoration: underline\;'>
 <strong>Breakfast</strong></span></p>\n<p>1/2-1 Bagel w/Cream Cheese<br />
 1/4-1/2 cup Peaches<br />1/4-1/2 cup Cereal (optional)<br />6 oz. 1% Milk 
 (8 oz for ages 6-12)</p>\n<p><br /><span style='text-decoration: underline
 \;'><strong>AM Snack</strong></span></p>\n<p>1/4-1/2 cup WG Graham Bug Bit
 e Crackers<br />4 oz 1% Milk (8 oz for ages 6-12)</p>\n<p><br /><span styl
 e='text-decoration: underline\;'><strong>Lunch</strong></span></p>\n<p>1 1
 /2 - 2 oz Meat Balls<br />1/4-1/2 cup Mashed Potatoes<br />1/4-1/2 cup Suc
 cotash<br />1/4 cup MIxed Fruit<br />WW Bread<br />6 oz.1% Milk (ages 6-12
  8 oz)</p>\n<p><br /><span style='text-decoration: underline\;'><strong>PM
  Snack</strong></span></p>\n<p>1/4-1/2 cup Mini Oreo Cookies<br />4 oz 1% 
 Milk (8 oz for ages 6-12)</p>
END:VEVENT
BEGIN:VEVENT
UID:20230307T190000UTC-6783cgrLSU@https://www.denbighchristianacademy.com/
DTSTAMP:20260426T021410Z
CATEGORIES:School Menu
DESCRIPTION:<p><span style='text-decoration: underline\;'><strong>Breakfast
 </strong></span></p>\n<p>1 1/2 oz (2) Pancakes<br />1/4-1/2 cup Peaches<br
  />1/4-1/2 cup Cereal (optional)<br />6 oz. 1% Milk (8 oz for ages 6-12)</
 p>\n<p><br /><span style='text-decoration: underline\;'><strong>AM Snack</
 strong></span></p>\n<p>1/4-1/2 cup WG Fig Newtons<br />4 oz 1% Milk (8 oz 
 for ages 6-12)</p>\n<p><br /><span style='text-decoration: underline\;'><s
 trong>Lunch</strong></span></p>\n<p>1 1/2 - 2 oz Mac &amp\; Cheese<br />1 
 - 2 oz WW Rolls<br />1/4-1/2 Green Beans<br />1/4 Mixed Fruit<br />6 oz.1%
  Milk (ages 6-12 8 oz)</p>\n<p><br /><span style='text-decoration: underli
 ne\;'><strong>PM Snack</strong></span></p>\n<p>1/4-1/2 cup Chocolate Chip 
 Cookies<br />4 oz 1% Milk (8 oz for ages 6-12)</p>
DTSTART:20230307T000000Z
DTEND:20230307T235959Z
SUMMARY:Tuesday
URL:https://www.denbighchristianacademy.com/index.php/school-calendar/lunch
 -menu/10-school-menu/1099-tuesday
X-ALT-DESC;FMTTYPE=TEXT/HTML:<p><span style='text-decoration: underline\;'>
 <strong>Breakfast</strong></span></p>\n<p>1 1/2 oz (2) Pancakes<br />1/4-1
 /2 cup Peaches<br />1/4-1/2 cup Cereal (optional)<br />6 oz. 1% Milk (8 oz
  for ages 6-12)</p>\n<p><br /><span style='text-decoration: underline\;'><
 strong>AM Snack</strong></span></p>\n<p>1/4-1/2 cup WG Fig Newtons<br />4 
 oz 1% Milk (8 oz for ages 6-12)</p>\n<p><br /><span style='text-decoration
 : underline\;'><strong>Lunch</strong></span></p>\n<p>1 1/2 - 2 oz Mac &amp
 \; Cheese<br />1 - 2 oz WW Rolls<br />1/4-1/2 Green Beans<br />1/4 Mixed F
 ruit<br />6 oz.1% Milk (ages 6-12 8 oz)</p>\n<p><br /><span style='text-de
 coration: underline\;'><strong>PM Snack</strong></span></p>\n<p>1/4-1/2 cu
 p Chocolate Chip Cookies<br />4 oz 1% Milk (8 oz for ages 6-12)</p>
END:VEVENT
BEGIN:VEVENT
UID:20230308T190000UTC-96185FxLA0@https://www.denbighchristianacademy.com/
DTSTAMP:20260426T021410Z
CATEGORIES:School Menu
DESCRIPTION:<p><span style='text-decoration: underline\;'><strong>Breakfast
 </strong></span></p>\n<p>1/4-1/2 cup Oatmeal<br />1/4-1/2 cup Pears<br />1
 /4-1/2 cup Cereal (optional)<br />6 oz. 1% Milk (8 oz for ages 6-12)</p>\n
 <p><br /><span style='text-decoration: underline\;'><strong>AM Snack</stro
 ng></span></p>\n<p>1/4-1/2 cup Cinnamon Graham Crackers<br />4 oz 1% Milk 
 (8 oz for ages 6-12)</p>\n<p><br /><span style='text-decoration: underline
 \;'><strong>Lunch</strong></span></p>\n<p>1/2-3/4 cup Pulled BBQ Chicken<b
 r />WW Roll<br />1/4-1/2 cup Broccoli<br />1/4-1/2 cup Cole Slaw<br />1/4 
 cup Mixed Fruit<br />6 oz.1% Milk (ages 6-12 8 oz)</p>\n<p><br /><span sty
 le='text-decoration: underline\;'><strong>PM Snack</strong></span></p>\n<p
 >1 - 2 oz Lorne Doone Cookies<br />4 oz 100% Apple Juice (8 oz for ages 6-
 12)</p>
DTSTART:20230308T000000Z
DTEND:20230308T235959Z
SUMMARY:Wednesday
URL:https://www.denbighchristianacademy.com/index.php/school-calendar/lunch
 -menu/10-school-menu/1100-wednesday
X-ALT-DESC;FMTTYPE=TEXT/HTML:<p><span style='text-decoration: underline\;'>
 <strong>Breakfast</strong></span></p>\n<p>1/4-1/2 cup Oatmeal<br />1/4-1/2
  cup Pears<br />1/4-1/2 cup Cereal (optional)<br />6 oz. 1% Milk (8 oz for
  ages 6-12)</p>\n<p><br /><span style='text-decoration: underline\;'><stro
 ng>AM Snack</strong></span></p>\n<p>1/4-1/2 cup Cinnamon Graham Crackers<b
 r />4 oz 1% Milk (8 oz for ages 6-12)</p>\n<p><br /><span style='text-deco
 ration: underline\;'><strong>Lunch</strong></span></p>\n<p>1/2-3/4 cup Pul
 led BBQ Chicken<br />WW Roll<br />1/4-1/2 cup Broccoli<br />1/4-1/2 cup Co
 le Slaw<br />1/4 cup Mixed Fruit<br />6 oz.1% Milk (ages 6-12 8 oz)</p>\n<
 p><br /><span style='text-decoration: underline\;'><strong>PM Snack</stron
 g></span></p>\n<p>1 - 2 oz Lorne Doone Cookies<br />4 oz 100% Apple Juice 
 (8 oz for ages 6-12)</p>
END:VEVENT
BEGIN:VEVENT
UID:20230309T190000UTC-6849AGmT4I@https://www.denbighchristianacademy.com/
DTSTAMP:20260426T021410Z
CATEGORIES:School Menu
DESCRIPTION:<p><span style='text-decoration: underline\;'><strong>Breakfast
 </strong></span></p>\n<p>3.5 oz Cheese Omelet or<br />1 - 2 oz Turkey Saus
 age<br />1 1/2 - 2 oz WW Toast<br />1/4-1/2 cup Fruit Cocktail<br />1/4-1/
 2 cup Cereal (optional)<br />6 oz. 1% Milk (8 oz for ages 6-12)</p>\n<p><b
 r /><span style='text-decoration: underline\;'><strong>AM Snack</strong></
 span></p>\n<p>1 oz WG Ritz Bits w/Cheese<br />4 oz 1% Milk (8 oz for ages 
 6-12)</p>\n<p><br /><span style='text-decoration: underline\;'><strong>Lun
 ch</strong></span></p>\n<p>1 1/2 - 2 oz Salisbury Steak<br />WW Roll<br />
 1/4-1/2 cup Mashed Potatoes<br />1/4-1/2 cup Mixed Vegetables<br />1/4 Fru
 it Cocktail<br />6 oz.1% Milk (ages 6-12 8 oz)</p>\n<p><br /><span style='
 text-decoration: underline\;'><strong>PM Snack</strong></span></p>\n<p>1 o
 z Graham Crackers<br />4 oz 1% Milk (8 oz for ages 6-12)</p>
DTSTART:20230309T000000Z
DTEND:20230309T235959Z
SUMMARY:Thursday
URL:https://www.denbighchristianacademy.com/index.php/school-calendar/lunch
 -menu/10-school-menu/1101-thursday
X-ALT-DESC;FMTTYPE=TEXT/HTML:<p><span style='text-decoration: underline\;'>
 <strong>Breakfast</strong></span></p>\n<p>3.5 oz Cheese Omelet or<br />1 -
  2 oz Turkey Sausage<br />1 1/2 - 2 oz WW Toast<br />1/4-1/2 cup Fruit Coc
 ktail<br />1/4-1/2 cup Cereal (optional)<br />6 oz. 1% Milk (8 oz for ages
  6-12)</p>\n<p><br /><span style='text-decoration: underline\;'><strong>AM
  Snack</strong></span></p>\n<p>1 oz WG Ritz Bits w/Cheese<br />4 oz 1% Mil
 k (8 oz for ages 6-12)</p>\n<p><br /><span style='text-decoration: underli
 ne\;'><strong>Lunch</strong></span></p>\n<p>1 1/2 - 2 oz Salisbury Steak<b
 r />WW Roll<br />1/4-1/2 cup Mashed Potatoes<br />1/4-1/2 cup Mixed Vegeta
 bles<br />1/4 Fruit Cocktail<br />6 oz.1% Milk (ages 6-12 8 oz)</p>\n<p><b
 r /><span style='text-decoration: underline\;'><strong>PM Snack</strong></
 span></p>\n<p>1 oz Graham Crackers<br />4 oz 1% Milk (8 oz for ages 6-12)<
 /p>
END:VEVENT
BEGIN:VEVENT
UID:20230310T200000UTC-9580w5o9n0@https://www.denbighchristianacademy.com/
DTSTAMP:20260426T021410Z
CATEGORIES:School Menu
DESCRIPTION:<p><span style='text-decoration: underline\;'><strong>Breakfast
 </strong></span></p>\n<p>1 1/2 - 2 oz French Toast Sticks<br />1/4-1/2 cup
  Mixed Fruit<br />1/4-1/2 cup Cereal (optional)<br />6 oz. 1% Milk (8 oz f
 or ages 6-12)</p>\n<p><br /><span style='text-decoration: underline\;'><st
 rong>AM Snack</strong></span></p>\n<p>1/4-1/2 cup WG Cheez-it Crackers<br 
 />4 oz 1% Milk (8 oz for ages 6-12)</p>\n<p><br /><span style='text-decora
 tion: underline\;'><strong>Lunch</strong></span></p>\n<p>1 1/2 - 2 oz Corn
  Dogs<br />1/4-1/2 cup Mixed Salad w/Dressing<br />1/4 cup Mixed Fruit<br 
 />6 oz.1% Milk (ages 6-12 8 oz)</p>\n<p><br /><span style='text-decoration
 : underline\;'><strong>PM Snack</strong></span></p>\n<p>1/4-1/2 cup Goldfi
 sh Crackers<br />4 oz 1% Milk (8 oz for ages 6-12)</p>
DTSTART:20230310T000000Z
DTEND:20230310T235959Z
SUMMARY:Friday
URL:https://www.denbighchristianacademy.com/index.php/school-calendar/lunch
 -menu/10-school-menu/1102-friday
X-ALT-DESC;FMTTYPE=TEXT/HTML:<p><span style='text-decoration: underline\;'>
 <strong>Breakfast</strong></span></p>\n<p>1 1/2 - 2 oz French Toast Sticks
 <br />1/4-1/2 cup Mixed Fruit<br />1/4-1/2 cup Cereal (optional)<br />6 oz
 . 1% Milk (8 oz for ages 6-12)</p>\n<p><br /><span style='text-decoration:
  underline\;'><strong>AM Snack</strong></span></p>\n<p>1/4-1/2 cup WG Chee
 z-it Crackers<br />4 oz 1% Milk (8 oz for ages 6-12)</p>\n<p><br /><span s
 tyle='text-decoration: underline\;'><strong>Lunch</strong></span></p>\n<p>
 1 1/2 - 2 oz Corn Dogs<br />1/4-1/2 cup Mixed Salad w/Dressing<br />1/4 cu
 p Mixed Fruit<br />6 oz.1% Milk (ages 6-12 8 oz)</p>\n<p><br /><span style
 ='text-decoration: underline\;'><strong>PM Snack</strong></span></p>\n<p>1
 /4-1/2 cup Goldfish Crackers<br />4 oz 1% Milk (8 oz for ages 6-12)</p>
END:VEVENT
END:VCALENDAR
