BEGIN:VCALENDAR
VERSION:2.0
PRODID:-//https://www.denbighchristianacademy.com//NONSGML kigkonsult.se iC
 alcreator 2.29.29//
CALSCALE:GREGORIAN
METHOD:PUBLISH
UID:53dea276-b6d9-4d55-9a92-d2b46a90d767
X-WR-CALNAME:JCal Pro Calendar
X-WR-CALDESC:Your online events calendar
X-WR-TIMEZONE:UTC
BEGIN:VTIMEZONE
TZID:UTC
END:VTIMEZONE
BEGIN:VEVENT
UID:20221024T180000UTC-7416sTJtPj@https://www.denbighchristianacademy.com/
DTSTAMP:20260426T043726Z
CATEGORIES:School Menu
DESCRIPTION:<p><span style='text-decoration: underline\;'><strong>Breakfast
 </strong></span></p>\n<p>1 1/2 oz Belgian Waffle<br />1/4-1/2 cup Diced Pe
 ars<br />1/4-1/2 cup Cereal (optional)<br />6 oz. 1% Milk (8 oz for ages 6
 -12)</p>\n<p><br /><span style='text-decoration: underline\;'><strong>AM S
 nack</strong></span></p>\n<p>1/4-1/2 cup Animal Crackers<br />4 oz 1% Milk
  (8 oz for ages 6-12)</p>\n<p><br /><span style='text-decoration: underlin
 e\;'><strong>Lunch</strong></span></p>\n<p>1 1/2 - 2 oz Chicken &amp\; Dum
 plings<br />WW Roll<br />1/4-1/2 cup Mixed Vegetables<br />1/4 cup Mixed F
 ruit<br />6 oz.1% Milk (ages 6-12 8 oz)</p>\n<p><br /><span style='text-de
 coration: underline\;'><strong>PM Snack</strong></span></p>\n<p>1/4-1/2 cu
 p Cauliflower Stalks<br />4 oz 1% Milk (8 oz for ages 6-12)</p>
DTSTART:20221024T000000Z
DTEND:20221024T235959Z
SUMMARY:Monday
URL:https://www.denbighchristianacademy.com/index.php/school-calendar/lunch
 -menu/10-school-menu/1013-monday
X-ALT-DESC;FMTTYPE=TEXT/HTML:<p><span style='text-decoration: underline\;'>
 <strong>Breakfast</strong></span></p>\n<p>1 1/2 oz Belgian Waffle<br />1/4
 -1/2 cup Diced Pears<br />1/4-1/2 cup Cereal (optional)<br />6 oz. 1% Milk
  (8 oz for ages 6-12)</p>\n<p><br /><span style='text-decoration: underlin
 e\;'><strong>AM Snack</strong></span></p>\n<p>1/4-1/2 cup Animal Crackers<
 br />4 oz 1% Milk (8 oz for ages 6-12)</p>\n<p><br /><span style='text-dec
 oration: underline\;'><strong>Lunch</strong></span></p>\n<p>1 1/2 - 2 oz C
 hicken &amp\; Dumplings<br />WW Roll<br />1/4-1/2 cup Mixed Vegetables<br 
 />1/4 cup Mixed Fruit<br />6 oz.1% Milk (ages 6-12 8 oz)</p>\n<p><br /><sp
 an style='text-decoration: underline\;'><strong>PM Snack</strong></span></
 p>\n<p>1/4-1/2 cup Cauliflower Stalks<br />4 oz 1% Milk (8 oz for ages 6-1
 2)</p>
END:VEVENT
BEGIN:VEVENT
UID:20221025T180000UTC-2383Xf0oFv@https://www.denbighchristianacademy.com/
DTSTAMP:20260426T043726Z
CATEGORIES:School Menu
DESCRIPTION:<p><span style='text-decoration: underline\;'><strong>Breakfast
 </strong></span></p>\n<p>3.5 oz Cheese Omelet or<br />1 - 2 oz Turkey Saus
 age Links<br />1/4-1/2 cup Tropical Fruit<br />1/4-1/2 cup Cereal (optiona
 l)<br />6 oz. 1% Milk (8 oz for ages 6-12)</p>\n<p><br /><span style='text
 -decoration: underline\;'><strong>AM Snack</strong></span></p>\n<p>1/4-1/2
  cup WG Graham Bug Bites Crackers<br />4 oz 1% Milk (8 oz for ages 6-12)</
 p>\n<p><br /><span style='text-decoration: underline\;'><strong>Lunch</str
 ong></span></p>\n<p>1 1/2 - 2 oz Meat &amp\; Sauce Nachos<br />1/4-1/2 cup
  Seasoned Corn<br />1/4 cup Tropical Fruit<br />6 oz.1% Milk (ages 6-12 8 
 oz)</p>\n<p><br /><span style='text-decoration: underline\;'><strong>PM Sn
 ack</strong></span></p>\n<p>1 oz Vanilla Waffer cookies<br />4 oz 1% Milk 
 (8 oz for ages 6-12)</p>
DTSTART:20221025T000000Z
DTEND:20221025T235959Z
SUMMARY:Tuesday
URL:https://www.denbighchristianacademy.com/index.php/school-calendar/lunch
 -menu/10-school-menu/1014-tuesday
X-ALT-DESC;FMTTYPE=TEXT/HTML:<p><span style='text-decoration: underline\;'>
 <strong>Breakfast</strong></span></p>\n<p>3.5 oz Cheese Omelet or<br />1 -
  2 oz Turkey Sausage Links<br />1/4-1/2 cup Tropical Fruit<br />1/4-1/2 cu
 p Cereal (optional)<br />6 oz. 1% Milk (8 oz for ages 6-12)</p>\n<p><br />
 <span style='text-decoration: underline\;'><strong>AM Snack</strong></span
 ></p>\n<p>1/4-1/2 cup WG Graham Bug Bites Crackers<br />4 oz 1% Milk (8 oz
  for ages 6-12)</p>\n<p><br /><span style='text-decoration: underline\;'><
 strong>Lunch</strong></span></p>\n<p>1 1/2 - 2 oz Meat &amp\; Sauce Nachos
 <br />1/4-1/2 cup Seasoned Corn<br />1/4 cup Tropical Fruit<br />6 oz.1% M
 ilk (ages 6-12 8 oz)</p>\n<p><br /><span style='text-decoration: underline
 \;'><strong>PM Snack</strong></span></p>\n<p>1 oz Vanilla Waffer cookies<b
 r />4 oz 1% Milk (8 oz for ages 6-12)</p>
END:VEVENT
BEGIN:VEVENT
UID:20221026T180000UTC-50736E0Plu@https://www.denbighchristianacademy.com/
DTSTAMP:20260426T043726Z
CATEGORIES:School Menu
DESCRIPTION:<p><span style='text-decoration: underline\;'><strong>Breakfast
 </strong></span></p>\n<p>1 1/2 oz (2) Pancakes<br />1/4-1/2 cup Pears<br /
 >1/4-1/2 cup Cereal (optional)<br />6 oz. 1% Milk (8 oz for ages 6-12)</p>
 \n<p><br /><span style='text-decoration: underline\;'><strong>AM Snack</st
 rong></span></p>\n<p>1/4-1/2 cup Teddy Graham Crackers<br />4 oz 1% Milk (
 8 oz for ages 6-12)</p>\n<p><br /><span style='text-decoration: underline\
 ;'><strong>Lunch</strong></span></p>\n<p>1 1/2 - 2 oz Pizza<br />1/4-1/2 c
 up French Green Beans<br />1/4-1/2 cup Mixed Fruit<br />6 oz.1% Milk (ages
  6-12 8 oz)</p>\n<p><br /><span style='text-decoration: underline\;'><stro
 ng>PM Snack</strong></span></p>\n<p>1/4-1/2 cup Pretzels<br />4 oz 100% Ap
 ple Juice (8 oz for ages 6-12)</p>
DTSTART:20221026T000000Z
DTEND:20221026T235959Z
SUMMARY:Wednesday
URL:https://www.denbighchristianacademy.com/index.php/school-calendar/lunch
 -menu/10-school-menu/1015-wednesday
X-ALT-DESC;FMTTYPE=TEXT/HTML:<p><span style='text-decoration: underline\;'>
 <strong>Breakfast</strong></span></p>\n<p>1 1/2 oz (2) Pancakes<br />1/4-1
 /2 cup Pears<br />1/4-1/2 cup Cereal (optional)<br />6 oz. 1% Milk (8 oz f
 or ages 6-12)</p>\n<p><br /><span style='text-decoration: underline\;'><st
 rong>AM Snack</strong></span></p>\n<p>1/4-1/2 cup Teddy Graham Crackers<br
  />4 oz 1% Milk (8 oz for ages 6-12)</p>\n<p><br /><span style='text-decor
 ation: underline\;'><strong>Lunch</strong></span></p>\n<p>1 1/2 - 2 oz Piz
 za<br />1/4-1/2 cup French Green Beans<br />1/4-1/2 cup Mixed Fruit<br />6
  oz.1% Milk (ages 6-12 8 oz)</p>\n<p><br /><span style='text-decoration: u
 nderline\;'><strong>PM Snack</strong></span></p>\n<p>1/4-1/2 cup Pretzels<
 br />4 oz 100% Apple Juice (8 oz for ages 6-12)</p>
END:VEVENT
BEGIN:VEVENT
UID:20221027T180000UTC-9179uzTXXz@https://www.denbighchristianacademy.com/
DTSTAMP:20260426T043726Z
CATEGORIES:School Menu
DESCRIPTION:<p><span style='text-decoration: underline\;'><strong>Breakfast
 </strong></span></p>\n<p>1/4-1/2 cup Oatmeal<br />1/4-1/2 cup Fruit Cockta
 il<br />1/4-1/2 cup Cereal (optional)<br />6 oz. 1% Milk (8 oz for ages 6-
 12)</p>\n<p><br /><span style='text-decoration: underline\;'><strong>AM Sn
 ack</strong></span></p>\n<p>1/4-1/2 cup WG Ritz Crackers &amp\; Cheese Cub
 es<br />4 oz 1% Milk (8 oz for ages 6-12)</p>\n<p><br /><span style='text-
 decoration: underline\;'><strong>Lunch</strong></span></p>\n<p>1 1/2 - 2 o
 z Chicken Nuggets<br />WW Bread<br />1/4-1/2 cup Broccoli<br />1/4 cup Fru
 it Cocktail<br />6 oz.1% Milk (ages 6-12 8 oz)</p>\n<p><br /><span style='
 text-decoration: underline\;'><strong>PM Snack</strong></span></p>\n<p>.78
  oz pack Rice Krispy Treat Bar<br />4 oz 1% Milk (8 oz for ages 6-12)</p>
DTSTART:20221027T000000Z
DTEND:20221027T235959Z
SUMMARY:Thursday
URL:https://www.denbighchristianacademy.com/index.php/school-calendar/lunch
 -menu/10-school-menu/1016-thursday
X-ALT-DESC;FMTTYPE=TEXT/HTML:<p><span style='text-decoration: underline\;'>
 <strong>Breakfast</strong></span></p>\n<p>1/4-1/2 cup Oatmeal<br />1/4-1/2
  cup Fruit Cocktail<br />1/4-1/2 cup Cereal (optional)<br />6 oz. 1% Milk 
 (8 oz for ages 6-12)</p>\n<p><br /><span style='text-decoration: underline
 \;'><strong>AM Snack</strong></span></p>\n<p>1/4-1/2 cup WG Ritz Crackers 
 &amp\; Cheese Cubes<br />4 oz 1% Milk (8 oz for ages 6-12)</p>\n<p><br /><
 span style='text-decoration: underline\;'><strong>Lunch</strong></span></p
 >\n<p>1 1/2 - 2 oz Chicken Nuggets<br />WW Bread<br />1/4-1/2 cup Broccoli
 <br />1/4 cup Fruit Cocktail<br />6 oz.1% Milk (ages 6-12 8 oz)</p>\n<p><b
 r /><span style='text-decoration: underline\;'><strong>PM Snack</strong></
 span></p>\n<p>.78 oz pack Rice Krispy Treat Bar<br />4 oz 1% Milk (8 oz fo
 r ages 6-12)</p>
END:VEVENT
BEGIN:VEVENT
UID:20221028T180000UTC-39464bgGWD@https://www.denbighchristianacademy.com/
DTSTAMP:20260426T043726Z
CATEGORIES:School Menu
DESCRIPTION:<p><span style='text-decoration: underline\;'><strong>Breakfast
 </strong></span></p>\n<p>1 - 2 oz Turkey Sausage Biscuit<br />1/4-1/2 cup 
 Peaches<br />1/4-1/2 cup Cereal (optional)<br />6 oz. 1% Milk (8 oz for ag
 es 6-12)</p>\n<p><br /><span style='text-decoration: underline\;'><strong>
 AM Snack</strong></span></p>\n<p>1/4-1/2 cup Goldfish Crackers<br />4 oz W
 ater (8 oz for ages 6-12)</p>\n<p><br /><span style='text-decoration: unde
 rline\;'><strong>Lunch</strong></span></p>\n<p>1 1/2 - 2 oz Hamburger/Chee
 seburger<br />WW Bun<br />1/4-1/2 cup Potato Chips<br />1/4-1/2 cup Mixed 
 Fruit<br />6 oz.1% Milk (ages 6-12 8 oz)</p>\n<p><br /><span style='text-d
 ecoration: underline\;'><strong>PM Snack</strong></span></p>\n<p>1 pack (1
 .5 oz) Lorne Doone Cookies<br />4 oz 1% Milk (8 oz for ages 6-12)</p>
DTSTART:20221028T000000Z
DTEND:20221028T235959Z
SUMMARY:Friday
URL:https://www.denbighchristianacademy.com/index.php/school-calendar/lunch
 -menu/10-school-menu/1017-friday
X-ALT-DESC;FMTTYPE=TEXT/HTML:<p><span style='text-decoration: underline\;'>
 <strong>Breakfast</strong></span></p>\n<p>1 - 2 oz Turkey Sausage Biscuit<
 br />1/4-1/2 cup Peaches<br />1/4-1/2 cup Cereal (optional)<br />6 oz. 1% 
 Milk (8 oz for ages 6-12)</p>\n<p><br /><span style='text-decoration: unde
 rline\;'><strong>AM Snack</strong></span></p>\n<p>1/4-1/2 cup Goldfish Cra
 ckers<br />4 oz Water (8 oz for ages 6-12)</p>\n<p><br /><span style='text
 -decoration: underline\;'><strong>Lunch</strong></span></p>\n<p>1 1/2 - 2 
 oz Hamburger/Cheeseburger<br />WW Bun<br />1/4-1/2 cup Potato Chips<br />1
 /4-1/2 cup Mixed Fruit<br />6 oz.1% Milk (ages 6-12 8 oz)</p>\n<p><br /><s
 pan style='text-decoration: underline\;'><strong>PM Snack</strong></span><
 /p>\n<p>1 pack (1.5 oz) Lorne Doone Cookies<br />4 oz 1% Milk (8 oz for ag
 es 6-12)</p>
END:VEVENT
END:VCALENDAR
