BEGIN:VCALENDAR
VERSION:2.0
PRODID:-//https://www.denbighchristianacademy.com//NONSGML kigkonsult.se iC
 alcreator 2.29.29//
CALSCALE:GREGORIAN
METHOD:PUBLISH
UID:ef354cb8-33f7-45de-89f7-2b347df1546b
X-WR-CALNAME:JCal Pro Calendar
X-WR-CALDESC:Your online events calendar
X-WR-TIMEZONE:UTC
BEGIN:VTIMEZONE
TZID:UTC
END:VTIMEZONE
BEGIN:VEVENT
UID:20221017T170000UTC-25179NObH2@https://www.denbighchristianacademy.com/
DTSTAMP:20260426T043726Z
CATEGORIES:School Menu
DESCRIPTION:<p><span style='text-decoration: underline\;'><strong>Breakfast
 </strong></span></p>\n<p>1 1/2 oz Belgian Waffle<br />1/4-1/2 cup Pineappl
 e<br />1/4-1/2 cup Cereal (optional)<br />6 oz. 1% Milk (8 oz for ages 6-1
 2)</p>\n<p><br /><span style='text-decoration: underline\;'><strong>AM Sna
 ck</strong></span></p>\n<p>1/4-1/2 cup Pretzels<br />4 oz 1% Milk (8 oz fo
 r ages 6-12)</p>\n<p><br /><span style='text-decoration: underline\;'><str
 ong>Lunch</strong></span></p>\n<p>1 1/2 - 2 oz Beef &amp\; Broccoli Stir F
 ry<br />WW Roll<br />1/4-1/2 cup WG Brown Rice<br />1/4 cup Tropical Fruit
 <br />6 oz.1% Milk (ages 6-12 8 oz)</p>\n<p><br /><span style='text-decora
 tion: underline\;'><strong>PM Snack</strong></span></p>\n<p>1/4-1/2 cup Te
 ddy Graham Crackers<br />4 oz 1% Milk (8 oz for ages 6-12)</p>
DTSTART:20221017T000000Z
DTEND:20221017T235959Z
SUMMARY:Monday
URL:https://www.denbighchristianacademy.com/index.php/school-calendar/lunch
 -menu/10-school-menu/1008-monday
X-ALT-DESC;FMTTYPE=TEXT/HTML:<p><span style='text-decoration: underline\;'>
 <strong>Breakfast</strong></span></p>\n<p>1 1/2 oz Belgian Waffle<br />1/4
 -1/2 cup Pineapple<br />1/4-1/2 cup Cereal (optional)<br />6 oz. 1% Milk (
 8 oz for ages 6-12)</p>\n<p><br /><span style='text-decoration: underline\
 ;'><strong>AM Snack</strong></span></p>\n<p>1/4-1/2 cup Pretzels<br />4 oz
  1% Milk (8 oz for ages 6-12)</p>\n<p><br /><span style='text-decoration: 
 underline\;'><strong>Lunch</strong></span></p>\n<p>1 1/2 - 2 oz Beef &amp\
 ; Broccoli Stir Fry<br />WW Roll<br />1/4-1/2 cup WG Brown Rice<br />1/4 c
 up Tropical Fruit<br />6 oz.1% Milk (ages 6-12 8 oz)</p>\n<p><br /><span s
 tyle='text-decoration: underline\;'><strong>PM Snack</strong></span></p>\n
 <p>1/4-1/2 cup Teddy Graham Crackers<br />4 oz 1% Milk (8 oz for ages 6-12
 )</p>
END:VEVENT
BEGIN:VEVENT
UID:20221018T180000UTC-8192fXg6Mk@https://www.denbighchristianacademy.com/
DTSTAMP:20260426T043726Z
CATEGORIES:School Menu
DESCRIPTION:<p><span style='text-decoration: underline\;'><strong>Breakfast
 </strong></span></p>\n<p>1/2 - 1 Bagel w/Cream Cheese<br />1/4-1/2 cup Pea
 ches<br />1/4-1/2 cup Cereal (optional)<br />6 oz. 1% Milk (8 oz for ages 
 6-12)</p>\n<p><br /><span style='text-decoration: underline\;'><strong>AM 
 Snack</strong></span></p>\n<p>1.62 oz asst. Fruit Snacks (2 packs)<br />4 
 oz 1% Milk (8 oz for ages 6-12)</p>\n<p><br /><span style='text-decoration
 : underline\;'><strong>Lunch</strong></span></p>\n<p>1 1/2 - 2 oz Meatloaf
 <br />WW Roll<br />1/4 cup Mashed Potatoes<br />1/4-1/2 cup Succotash<br /
 >1/4 cup Mixed Fruit<br />6 oz.1% Milk (ages 6-12 8 oz)</p>\n<p><br /><spa
 n style='text-decoration: underline\;'><strong>PM Snack</strong></span></p
 >\n<p>1 pack Lorne Doone Cookies (1.5 oz)<br />4 oz 1% Milk (8 oz for ages
  6-12)</p>
DTSTART:20221018T000000Z
DTEND:20221018T235959Z
SUMMARY:Tuesday
URL:https://www.denbighchristianacademy.com/index.php/school-calendar/lunch
 -menu/10-school-menu/1009-tuesday
X-ALT-DESC;FMTTYPE=TEXT/HTML:<p><span style='text-decoration: underline\;'>
 <strong>Breakfast</strong></span></p>\n<p>1/2 - 1 Bagel w/Cream Cheese<br 
 />1/4-1/2 cup Peaches<br />1/4-1/2 cup Cereal (optional)<br />6 oz. 1% Mil
 k (8 oz for ages 6-12)</p>\n<p><br /><span style='text-decoration: underli
 ne\;'><strong>AM Snack</strong></span></p>\n<p>1.62 oz asst. Fruit Snacks 
 (2 packs)<br />4 oz 1% Milk (8 oz for ages 6-12)</p>\n<p><br /><span style
 ='text-decoration: underline\;'><strong>Lunch</strong></span></p>\n<p>1 1/
 2 - 2 oz Meatloaf<br />WW Roll<br />1/4 cup Mashed Potatoes<br />1/4-1/2 c
 up Succotash<br />1/4 cup Mixed Fruit<br />6 oz.1% Milk (ages 6-12 8 oz)</
 p>\n<p><br /><span style='text-decoration: underline\;'><strong>PM Snack</
 strong></span></p>\n<p>1 pack Lorne Doone Cookies (1.5 oz)<br />4 oz 1% Mi
 lk (8 oz for ages 6-12)</p>
END:VEVENT
BEGIN:VEVENT
UID:20221019T180000UTC-9336TcB5lT@https://www.denbighchristianacademy.com/
DTSTAMP:20260426T043726Z
CATEGORIES:School Menu
DESCRIPTION:<p><span style='text-decoration: underline\;'><strong>Breakfast
 </strong></span></p>\n<p>1 1/2 oz (2) Pancakes<br />1/4-1/2 cup Peaches<br
  />1/4-1/2 cup Cereal (optional)<br />6 oz. 1% Milk (8 oz for ages 6-12)</
 p>\n<p><br /><span style='text-decoration: underline\;'><strong>AM Snack</
 strong></span></p>\n<p>1/4-1/2 cup Ritz Crackers &amp\; Cheese Cubes<br />
 4 oz Water (8 oz for ages 6-12)</p>\n<p><br /><span style='text-decoration
 : underline\;'><strong>Lunch</strong></span></p>\n<p>1 1/2 - 2 oz Chicken 
 Fajita<br />1/4-1/2 cup WG Brown Rice<br />1/4-1/2 cup Tossed Salad w/Dres
 sing<br />1/4 cup Fruit Cocktail<br />6 oz.1% Milk (ages 6-12 8 oz)</p>\n<
 p><br /><span style='text-decoration: underline\;'><strong>PM Snack</stron
 g></span></p>\n<p>1/4-1/2 cup Chocolate Chip Cookies<br />4 oz 1% Milk (8 
 oz for ages 6-12)</p>
DTSTART:20221019T000000Z
DTEND:20221019T235959Z
SUMMARY:Wednesday
URL:https://www.denbighchristianacademy.com/index.php/school-calendar/lunch
 -menu/10-school-menu/1010-wednesday
X-ALT-DESC;FMTTYPE=TEXT/HTML:<p><span style='text-decoration: underline\;'>
 <strong>Breakfast</strong></span></p>\n<p>1 1/2 oz (2) Pancakes<br />1/4-1
 /2 cup Peaches<br />1/4-1/2 cup Cereal (optional)<br />6 oz. 1% Milk (8 oz
  for ages 6-12)</p>\n<p><br /><span style='text-decoration: underline\;'><
 strong>AM Snack</strong></span></p>\n<p>1/4-1/2 cup Ritz Crackers &amp\; C
 heese Cubes<br />4 oz Water (8 oz for ages 6-12)</p>\n<p><br /><span style
 ='text-decoration: underline\;'><strong>Lunch</strong></span></p>\n<p>1 1/
 2 - 2 oz Chicken Fajita<br />1/4-1/2 cup WG Brown Rice<br />1/4-1/2 cup To
 ssed Salad w/Dressing<br />1/4 cup Fruit Cocktail<br />6 oz.1% Milk (ages 
 6-12 8 oz)</p>\n<p><br /><span style='text-decoration: underline\;'><stron
 g>PM Snack</strong></span></p>\n<p>1/4-1/2 cup Chocolate Chip Cookies<br /
 >4 oz 1% Milk (8 oz for ages 6-12)</p>
END:VEVENT
BEGIN:VEVENT
UID:20221020T180000UTC-6658FEkBhb@https://www.denbighchristianacademy.com/
DTSTAMP:20260426T043726Z
CATEGORIES:School Menu
DESCRIPTION:<p><span style='text-decoration: underline\;'><strong>Breakfast
 </strong></span></p>\n<p>1/4-1/2 cup Oatmeal<br />1/4-1/2 cup Pineapple<br
  />1/4-1/2 cup Cereal (optional)<br />6 oz. 1% Milk (8 oz for ages 6-12)</
 p>\n<p><br /><span style='text-decoration: underline\;'><strong>AM Snack</
 strong></span></p>\n<p>1 WG Nutri Grain Bar (1.3 oz)<br />4 oz 1% Milk (8 
 oz for ages 6-12)</p>\n<p><br /><span style='text-decoration: underline\;'
 ><strong>Lunch</strong></span></p>\n<p>1 1/2 - 2 oz Meat Balls<br />WW Bre
 ad<br />1/4-1/2 cup Mashed Potatoes<br />1/4-1/2 cup Mixed Vegetables<br /
 >1/4 cup Mixed Fruit<br />6 oz.1% Milk (ages 6-12 8 oz)</p>\n<p><br /><spa
 n style='text-decoration: underline\;'><strong>PM Snack</strong></span></p
 >\n<p>1 (.78 oz) Bar Rice Krispy Treat<br />4 oz 100% Apple Juice (8 oz fo
 r ages 6-12)</p>
DTSTART:20221020T000000Z
DTEND:20221020T235959Z
SUMMARY:Thursday
URL:https://www.denbighchristianacademy.com/index.php/school-calendar/lunch
 -menu/10-school-menu/1011-thursday
X-ALT-DESC;FMTTYPE=TEXT/HTML:<p><span style='text-decoration: underline\;'>
 <strong>Breakfast</strong></span></p>\n<p>1/4-1/2 cup Oatmeal<br />1/4-1/2
  cup Pineapple<br />1/4-1/2 cup Cereal (optional)<br />6 oz. 1% Milk (8 oz
  for ages 6-12)</p>\n<p><br /><span style='text-decoration: underline\;'><
 strong>AM Snack</strong></span></p>\n<p>1 WG Nutri Grain Bar (1.3 oz)<br /
 >4 oz 1% Milk (8 oz for ages 6-12)</p>\n<p><br /><span style='text-decorat
 ion: underline\;'><strong>Lunch</strong></span></p>\n<p>1 1/2 - 2 oz Meat 
 Balls<br />WW Bread<br />1/4-1/2 cup Mashed Potatoes<br />1/4-1/2 cup Mixe
 d Vegetables<br />1/4 cup Mixed Fruit<br />6 oz.1% Milk (ages 6-12 8 oz)</
 p>\n<p><br /><span style='text-decoration: underline\;'><strong>PM Snack</
 strong></span></p>\n<p>1 (.78 oz) Bar Rice Krispy Treat<br />4 oz 100% App
 le Juice (8 oz for ages 6-12)</p>
END:VEVENT
BEGIN:VEVENT
UID:20221021T180000UTC-6724xnoUX0@https://www.denbighchristianacademy.com/
DTSTAMP:20260426T043726Z
CATEGORIES:School Menu
DESCRIPTION:<p><span style='text-decoration: underline\;'><strong>Breakfast
 </strong></span></p>\n<p>2 - 4 French Toast Sticks<br />1/4-1/2 cup Mixed 
 Fruit<br />1/4-1/2 cup Cereal (optional)<br />6 oz. 1% Milk (8 oz for ages
  6-12)</p>\n<p><br /><span style='text-decoration: underline\;'><strong>AM
  Snack</strong></span></p>\n<p>1/4-1/2 cup WG Cheez-it Crackers<br />4 oz 
 1% Milk (8 oz for ages 6-12)</p>\n<p><br /><span style='text-decoration: u
 nderline\;'><strong>Lunch</strong></span></p>\n<p>1 1/2-2 oz Breaded Fish<
 br />WW Bread<br />1/4-1/2 cup Green Beans<br />1/4 cup Fruit Cocktail<br 
 />6 oz.1% Milk (ages 6-12 8 oz)</p>\n<p><br /><span style='text-decoration
 : underline\;'><strong>PM Snack</strong></span></p>\n<p>1/4-1/2 cup Oatmea
 l Cookies<br />4 oz 1% Milk (8 oz for ages 6-12)</p>
DTSTART:20221021T000000Z
DTEND:20221021T235959Z
SUMMARY:Friday
URL:https://www.denbighchristianacademy.com/index.php/school-calendar/lunch
 -menu/10-school-menu/1012-friday
X-ALT-DESC;FMTTYPE=TEXT/HTML:<p><span style='text-decoration: underline\;'>
 <strong>Breakfast</strong></span></p>\n<p>2 - 4 French Toast Sticks<br />1
 /4-1/2 cup Mixed Fruit<br />1/4-1/2 cup Cereal (optional)<br />6 oz. 1% Mi
 lk (8 oz for ages 6-12)</p>\n<p><br /><span style='text-decoration: underl
 ine\;'><strong>AM Snack</strong></span></p>\n<p>1/4-1/2 cup WG Cheez-it Cr
 ackers<br />4 oz 1% Milk (8 oz for ages 6-12)</p>\n<p><br /><span style='t
 ext-decoration: underline\;'><strong>Lunch</strong></span></p>\n<p>1 1/2-2
  oz Breaded Fish<br />WW Bread<br />1/4-1/2 cup Green Beans<br />1/4 cup F
 ruit Cocktail<br />6 oz.1% Milk (ages 6-12 8 oz)</p>\n<p><br /><span style
 ='text-decoration: underline\;'><strong>PM Snack</strong></span></p>\n<p>1
 /4-1/2 cup Oatmeal Cookies<br />4 oz 1% Milk (8 oz for ages 6-12)</p>
END:VEVENT
END:VCALENDAR
