BEGIN:VCALENDAR
VERSION:2.0
PRODID:-//https://www.denbighchristianacademy.com//NONSGML kigkonsult.se iC
 alcreator 2.29.29//
CALSCALE:GREGORIAN
METHOD:PUBLISH
UID:a362e8c4-6abb-4ab7-b028-1138bf6ea495
X-WR-CALNAME:JCal Pro Calendar
X-WR-CALDESC:Your online events calendar
X-WR-TIMEZONE:UTC
BEGIN:VTIMEZONE
TZID:UTC
END:VTIMEZONE
BEGIN:VEVENT
UID:20220829T120000UTC-0959gs4XMA@https://www.denbighchristianacademy.com/
DTSTAMP:20260426T015923Z
CATEGORIES:School Menu
DESCRIPTION:<p><span style='text-decoration: underline\;'><strong>Breakfast
 </strong></span></p>\n<p>1 1/2 oz Belgian Waffle<br />1/4-1/2 cup Diced Pe
 ars<br />1/4-1/2 cup Cereal (optional)<br />6 oz. 1% Milk (8 oz for ages 6
 -12)</p>\n<p><br /><span style='text-decoration: underline\;'><strong>AM S
 nack</strong></span></p>\n<p>1/4-1/2 cup WG Cheez-it Crackers<br />4 oz 1%
  Milk (8 oz for ages 6-12)</p>\n<p><br /><span style='text-decoration: und
 erline\;'><strong>Lunch</strong></span></p>\n<p>1 1/2 - 2 oz Chicken &amp\
 ; Dumplings<br />WW Rolls<br />1/4-1/2 cup Mixed Vegetables<br />1/4 cup M
 ixed Fruit<br />6 oz.1% Milk (ages 6-12 8 oz)</p>\n<p><br /><span style='t
 ext-decoration: underline\;'><strong>PM Snack</strong></span></p>\n<p>1/4-
 1/2 cup Cauliflower Stalks<br />4 oz 1% Milk (8 oz for ages 6-12)</p>
DTSTART:20220829T000000Z
DTEND:20220829T235959Z
SUMMARY:Monday
URL:https://www.denbighchristianacademy.com/index.php/school-calendar/lunch
 -menu/10-school-menu/929-monday
X-ALT-DESC;FMTTYPE=TEXT/HTML:<p><span style='text-decoration: underline\;'>
 <strong>Breakfast</strong></span></p>\n<p>1 1/2 oz Belgian Waffle<br />1/4
 -1/2 cup Diced Pears<br />1/4-1/2 cup Cereal (optional)<br />6 oz. 1% Milk
  (8 oz for ages 6-12)</p>\n<p><br /><span style='text-decoration: underlin
 e\;'><strong>AM Snack</strong></span></p>\n<p>1/4-1/2 cup WG Cheez-it Crac
 kers<br />4 oz 1% Milk (8 oz for ages 6-12)</p>\n<p><br /><span style='tex
 t-decoration: underline\;'><strong>Lunch</strong></span></p>\n<p>1 1/2 - 2
  oz Chicken &amp\; Dumplings<br />WW Rolls<br />1/4-1/2 cup Mixed Vegetabl
 es<br />1/4 cup Mixed Fruit<br />6 oz.1% Milk (ages 6-12 8 oz)</p>\n<p><br
  /><span style='text-decoration: underline\;'><strong>PM Snack</strong></s
 pan></p>\n<p>1/4-1/2 cup Cauliflower Stalks<br />4 oz 1% Milk (8 oz for ag
 es 6-12)</p>
END:VEVENT
BEGIN:VEVENT
UID:20220830T120000UTC-1559fHbc4m@https://www.denbighchristianacademy.com/
DTSTAMP:20260426T015923Z
CATEGORIES:School Menu
DESCRIPTION:<p><span style='text-decoration: underline\;'><strong>Breakfast
 </strong></span></p>\n<p>3.5 oz Cheeze Omelet or<br />1 - 2 oz Turkey Saus
 age Links<br />1/4-1/2 cup Troopical Fruit<br />1/4-1/2 cup Cereal (option
 al)<br />6 oz. 1% Milk (8 oz for ages 6-12)</p>\n<p><br /><span style='tex
 t-decoration: underline\;'><strong>AM Snack</strong></span></p>\n<p>1/4-1/
 2 cup WG Graham Crackers<br />4 oz 1% Milk (8 oz for ages 6-12)</p>\n<p><b
 r /><span style='text-decoration: underline\;'><strong>Lunch</strong></spa
 n></p>\n<p>1 1/2 - 2 oz Meat &amp\; Sauce Nachos<br />1/4-1/2 cup Seasoned
  Corn<br />1/4 cup Tropical Fruit<br />6 oz.1% Milk (ages 6-12 8 oz)</p>\n
 <p><br /><span style='text-decoration: underline\;'><strong>PM Snack</stro
 ng></span></p>\n<p>1 1/2 oz pack Lorne Doone Cookies<br />4 oz 1% Milk (8 
 oz for ages 6-12)</p>
DTSTART:20220830T000000Z
DTEND:20220830T235959Z
SUMMARY:Tuesday
URL:https://www.denbighchristianacademy.com/index.php/school-calendar/lunch
 -menu/10-school-menu/930-tuesday
X-ALT-DESC;FMTTYPE=TEXT/HTML:<p><span style='text-decoration: underline\;'>
 <strong>Breakfast</strong></span></p>\n<p>3.5 oz Cheeze Omelet or<br />1 -
  2 oz Turkey Sausage Links<br />1/4-1/2 cup Troopical Fruit<br />1/4-1/2 c
 up Cereal (optional)<br />6 oz. 1% Milk (8 oz for ages 6-12)</p>\n<p><br /
 ><span style='text-decoration: underline\;'><strong>AM Snack</strong></spa
 n></p>\n<p>1/4-1/2 cup WG Graham Crackers<br />4 oz 1% Milk (8 oz for ages
  6-12)</p>\n<p><br /><span style='text-decoration: underline\;'><strong>Lu
 nch</strong></span></p>\n<p>1 1/2 - 2 oz Meat &amp\; Sauce Nachos<br />1/4
 -1/2 cup Seasoned Corn<br />1/4 cup Tropical Fruit<br />6 oz.1% Milk (ages
  6-12 8 oz)</p>\n<p><br /><span style='text-decoration: underline\;'><stro
 ng>PM Snack</strong></span></p>\n<p>1 1/2 oz pack Lorne Doone Cookies<br /
 >4 oz 1% Milk (8 oz for ages 6-12)</p>
END:VEVENT
BEGIN:VEVENT
UID:20220831T120000UTC-2758pbUmnP@https://www.denbighchristianacademy.com/
DTSTAMP:20260426T015923Z
CATEGORIES:School Menu
DESCRIPTION:<p><span style='text-decoration: underline\;'><strong>Breakfast
 </strong></span></p>\n<p>1 1/.2 oz (2) Pancakes<br />1/4-1/2 cup Pears<br 
 />1/4-1/2 cup Cereal (optional)<br />6 oz. 1% Milk (8 oz for ages 6-12)</p
 >\n<p><br /><span style='text-decoration: underline\;'><strong>AM Snack</s
 trong></span></p>\n<p>1/4-1/2 cup Teddy Graham Crackers<br />4 oz 1% Milk 
 (8 oz for ages 6-12)</p>\n<p><br /><span style='text-decoration: underline
 \;'><strong>Lunch</strong></span></p>\n<p>1 1/2 - 2 oz Chicken Nuggets<br 
 />WW Bread<br />1/4-1/2 cup Mixed Vegetables<br />1/4 cup MIxed Fruit<br /
 >6 oz.1% Milk (ages 6-12 8 oz)</p>\n<p><br /><span style='text-decoration:
  underline\;'><strong>PM Snack</strong></span></p>\n<p>1/4 cup Fig Newton 
 Cookies<br />4 oz 100% Apple Juice (8 oz for ages 6-12)</p>
DTSTART:20220831T000000Z
DTEND:20220831T235959Z
SUMMARY:Wednesday
URL:https://www.denbighchristianacademy.com/index.php/school-calendar/lunch
 -menu/10-school-menu/931-wednesday
X-ALT-DESC;FMTTYPE=TEXT/HTML:<p><span style='text-decoration: underline\;'>
 <strong>Breakfast</strong></span></p>\n<p>1 1/.2 oz (2) Pancakes<br />1/4-
 1/2 cup Pears<br />1/4-1/2 cup Cereal (optional)<br />6 oz. 1% Milk (8 oz 
 for ages 6-12)</p>\n<p><br /><span style='text-decoration: underline\;'><s
 trong>AM Snack</strong></span></p>\n<p>1/4-1/2 cup Teddy Graham Crackers<b
 r />4 oz 1% Milk (8 oz for ages 6-12)</p>\n<p><br /><span style='text-deco
 ration: underline\;'><strong>Lunch</strong></span></p>\n<p>1 1/2 - 2 oz Ch
 icken Nuggets<br />WW Bread<br />1/4-1/2 cup Mixed Vegetables<br />1/4 cup
  MIxed Fruit<br />6 oz.1% Milk (ages 6-12 8 oz)</p>\n<p><br /><span style=
 'text-decoration: underline\;'><strong>PM Snack</strong></span></p>\n<p>1/
 4 cup Fig Newton Cookies<br />4 oz 100% Apple Juice (8 oz for ages 6-12)</
 p>
END:VEVENT
BEGIN:VEVENT
UID:20220901T120000UTC-1827f6O47b@https://www.denbighchristianacademy.com/
DTSTAMP:20260426T015923Z
CATEGORIES:School Menu
DESCRIPTION:<p><span style='text-decoration: underline\;'><strong>Breakfast
 </strong></span></p>\n<p>1/4-1/2 cup Oatmeal<br />1/4-1/2 cup Fruit Cockta
 il<br />1/4-1/2 cup Cereal (optional)<br />6 oz. 1% Milk (8 oz for ages 6-
 12)</p>\n<p><br /><span style='text-decoration: underline\;'><strong>AM Sn
 ack</strong></span></p>\n<p>1/4-1/2 cup WG Ritz Crackers &amp\; Cheese Cub
 es<br />4 oz 1% Milk (8 oz for ages 6-12)</p>\n<p><br /><span style='text-
 decoration: underline\;'><strong>Lunch</strong></span></p>\n<p>1 1/2 - 2 o
 z Pizza<br />1/4-1/2 cup Tossed Salad w/Dressing<br />1/4 cup Fruit Cockta
 il<br />6 oz.1% Milk (ages 6-12 8 oz)</p>\n<p><br /><span style='text-deco
 ration: underline\;'><strong>PM Snack</strong></span></p>\n<p>1 (.78 oz) B
 ar Rice Krispy Treat<br />4 oz 1% Milk (8 oz for ages 6-12)</p>
DTSTART:20220901T000000Z
DTEND:20220901T235959Z
SUMMARY:Thursday
URL:https://www.denbighchristianacademy.com/index.php/school-calendar/lunch
 -menu/10-school-menu/932-thursday
X-ALT-DESC;FMTTYPE=TEXT/HTML:<p><span style='text-decoration: underline\;'>
 <strong>Breakfast</strong></span></p>\n<p>1/4-1/2 cup Oatmeal<br />1/4-1/2
  cup Fruit Cocktail<br />1/4-1/2 cup Cereal (optional)<br />6 oz. 1% Milk 
 (8 oz for ages 6-12)</p>\n<p><br /><span style='text-decoration: underline
 \;'><strong>AM Snack</strong></span></p>\n<p>1/4-1/2 cup WG Ritz Crackers 
 &amp\; Cheese Cubes<br />4 oz 1% Milk (8 oz for ages 6-12)</p>\n<p><br /><
 span style='text-decoration: underline\;'><strong>Lunch</strong></span></p
 >\n<p>1 1/2 - 2 oz Pizza<br />1/4-1/2 cup Tossed Salad w/Dressing<br />1/4
  cup Fruit Cocktail<br />6 oz.1% Milk (ages 6-12 8 oz)</p>\n<p><br /><span
  style='text-decoration: underline\;'><strong>PM Snack</strong></span></p>
 \n<p>1 (.78 oz) Bar Rice Krispy Treat<br />4 oz 1% Milk (8 oz for ages 6-1
 2)</p>
END:VEVENT
BEGIN:VEVENT
UID:20220902T120000UTC-65746jZhZk@https://www.denbighchristianacademy.com/
DTSTAMP:20260426T015923Z
CATEGORIES:School Menu
DESCRIPTION:<p><span style='text-decoration: underline\;'><strong>Breakfast
 </strong></span></p>\n<p>1 - 2 oz Turkey Sausage Biscuit<br />1/4-1/2 cup 
 Peaches<br />1/4-1/2 cup Cereal (optional)<br />6 oz. 1% Milk (8 oz for ag
 es 6-12)</p>\n<p><br /><span style='text-decoration: underline\;'><strong>
 AM Snack</strong></span></p>\n<p>1/4-1/2 cup Goldfish Crackers<br />4 oz W
 ater (8 oz for ages 6-12)</p>\n<p><br /><span style='text-decoration: unde
 rline\;'><strong>Lunch</strong></span></p>\n<p>1 1/2 - 2 oz Hamburger/Chee
 seburger<br />on WW Bun<br />1/4-1/2 cup Potato Chips<br />1/4 cup Mixed F
 ruit<br />6 oz.1% Milk (ages 6-12 8 oz)</p>\n<p><br /><span style='text-de
 coration: underline\;'><strong>PM Snack</strong></span></p>\n<p>1 oz Oatme
 al Cookie<br />4 oz 1% Milk (8 oz for ages 6-12)</p>
DTSTART:20220902T000000Z
DTEND:20220902T235959Z
SUMMARY:Friday
URL:https://www.denbighchristianacademy.com/index.php/school-calendar/lunch
 -menu/10-school-menu/933-friday
X-ALT-DESC;FMTTYPE=TEXT/HTML:<p><span style='text-decoration: underline\;'>
 <strong>Breakfast</strong></span></p>\n<p>1 - 2 oz Turkey Sausage Biscuit<
 br />1/4-1/2 cup Peaches<br />1/4-1/2 cup Cereal (optional)<br />6 oz. 1% 
 Milk (8 oz for ages 6-12)</p>\n<p><br /><span style='text-decoration: unde
 rline\;'><strong>AM Snack</strong></span></p>\n<p>1/4-1/2 cup Goldfish Cra
 ckers<br />4 oz Water (8 oz for ages 6-12)</p>\n<p><br /><span style='text
 -decoration: underline\;'><strong>Lunch</strong></span></p>\n<p>1 1/2 - 2 
 oz Hamburger/Cheeseburger<br />on WW Bun<br />1/4-1/2 cup Potato Chips<br 
 />1/4 cup Mixed Fruit<br />6 oz.1% Milk (ages 6-12 8 oz)</p>\n<p><br /><sp
 an style='text-decoration: underline\;'><strong>PM Snack</strong></span></
 p>\n<p>1 oz Oatmeal Cookie<br />4 oz 1% Milk (8 oz for ages 6-12)</p>
END:VEVENT
END:VCALENDAR
