BEGIN:VCALENDAR
VERSION:2.0
PRODID:-//https://www.denbighchristianacademy.com//NONSGML kigkonsult.se iC
 alcreator 2.29.29//
CALSCALE:GREGORIAN
METHOD:PUBLISH
UID:53dab6b4-5d97-417d-ba0e-072b8faa1e72
X-WR-CALNAME:JCal Pro Calendar
X-WR-CALDESC:Your online events calendar
X-WR-TIMEZONE:UTC
BEGIN:VTIMEZONE
TZID:UTC
END:VTIMEZONE
BEGIN:VEVENT
UID:20220808T120000UTC-5561uXda60@https://www.denbighchristianacademy.com/
DTSTAMP:20260426T015923Z
CATEGORIES:School Menu
DESCRIPTION:<p><span style='text-decoration: underline\;'><strong>Breakfast
 </strong></span></p>\n<p>1 1/2 oz Belgian Waffle<br />1/4-1/2 cup Pineappl
 e<br />1/4-1/2 cup Cereal (optional)<br />6 oz. 1% Milk (8 oz for ages 6-1
 2)</p>\n<p><br /><span style='text-decoration: underline\;'><strong>AM Sna
 ck</strong></span></p>\n<p>1/4-1/2 cup Pretzels<br />4 oz 1% Milk (8 oz fo
 r ages 6-12)</p>\n<p><br /><span style='text-decoration: underline\;'><str
 ong>Lunch</strong></span></p>\n<p>1/2-3/4 cup Mac and Cheese<br />WW Bread
 <br />1/4-1/2 cup Green Beans<br />1/4 cup Pineapple<br />6 oz.1% Milk (ag
 es 6-12 8 oz)</p>\n<p><br /><span style='text-decoration: underline\;'><st
 rong>PM Snack</strong></span></p>\n<p>1/4-1/2 cup Animal Crackers<br />4 o
 z 1% Milk (8 oz for ages 6-12)</p>
DTSTART:20220808T000000Z
DTEND:20220808T235959Z
SUMMARY:Monday
URL:https://www.denbighchristianacademy.com/index.php/school-calendar/lunch
 -menu/10-school-menu/912-monday
X-ALT-DESC;FMTTYPE=TEXT/HTML:<p><span style='text-decoration: underline\;'>
 <strong>Breakfast</strong></span></p>\n<p>1 1/2 oz Belgian Waffle<br />1/4
 -1/2 cup Pineapple<br />1/4-1/2 cup Cereal (optional)<br />6 oz. 1% Milk (
 8 oz for ages 6-12)</p>\n<p><br /><span style='text-decoration: underline\
 ;'><strong>AM Snack</strong></span></p>\n<p>1/4-1/2 cup Pretzels<br />4 oz
  1% Milk (8 oz for ages 6-12)</p>\n<p><br /><span style='text-decoration: 
 underline\;'><strong>Lunch</strong></span></p>\n<p>1/2-3/4 cup Mac and Che
 ese<br />WW Bread<br />1/4-1/2 cup Green Beans<br />1/4 cup Pineapple<br /
 >6 oz.1% Milk (ages 6-12 8 oz)</p>\n<p><br /><span style='text-decoration:
  underline\;'><strong>PM Snack</strong></span></p>\n<p>1/4-1/2 cup Animal 
 Crackers<br />4 oz 1% Milk (8 oz for ages 6-12)</p>
END:VEVENT
BEGIN:VEVENT
UID:20220809T120000UTC-4508aZvE83@https://www.denbighchristianacademy.com/
DTSTAMP:20260426T015923Z
CATEGORIES:School Menu
DESCRIPTION:<p><span style='text-decoration: underline\;'><strong>Breakfast
 </strong></span></p>\n<p>1 oz Turkey Sausage Biscuit<br />1/4-1/2 cup Peac
 hes<br />1/4-1/2 cup Cereal (optional)<br />6 oz. 1% Milk (8 oz for ages 6
 -12)</p>\n<p><br /><span style='text-decoration: underline\;'><strong>AM S
 nack</strong></span></p>\n<p>1/4-1/2 WG Fig Newtons<br />4 oz 1% Milk (8 o
 z for ages 6-12)</p>\n<p><br /><span style='text-decoration: underline\;'>
 <strong>Lunch</strong></span></p>\n<p>1 1/2 - 2 oz Beef Frank<br />1 - 2 o
 z WW Rolls<br />1/4-1/2 cup Baked Beans<br />1/4 cup Mixed Fruit<br />6 oz
 .1% Milk (ages 6-12 8 oz)</p>\n<p><br /><span style='text-decoration: unde
 rline\;'><strong>PM Snack</strong></span></p>\n<p>1/4-1/2 cup Chocolate Ch
 ip Cookies<br />4 oz 1% Milk (8 oz for ages 6-12)</p>
DTSTART:20220809T000000Z
DTEND:20220809T235959Z
SUMMARY:Tuesday
URL:https://www.denbighchristianacademy.com/index.php/school-calendar/lunch
 -menu/10-school-menu/913-tuesday
X-ALT-DESC;FMTTYPE=TEXT/HTML:<p><span style='text-decoration: underline\;'>
 <strong>Breakfast</strong></span></p>\n<p>1 oz Turkey Sausage Biscuit<br /
 >1/4-1/2 cup Peaches<br />1/4-1/2 cup Cereal (optional)<br />6 oz. 1% Milk
  (8 oz for ages 6-12)</p>\n<p><br /><span style='text-decoration: underlin
 e\;'><strong>AM Snack</strong></span></p>\n<p>1/4-1/2 WG Fig Newtons<br />
 4 oz 1% Milk (8 oz for ages 6-12)</p>\n<p><br /><span style='text-decorati
 on: underline\;'><strong>Lunch</strong></span></p>\n<p>1 1/2 - 2 oz Beef F
 rank<br />1 - 2 oz WW Rolls<br />1/4-1/2 cup Baked Beans<br />1/4 cup Mixe
 d Fruit<br />6 oz.1% Milk (ages 6-12 8 oz)</p>\n<p><br /><span style='text
 -decoration: underline\;'><strong>PM Snack</strong></span></p>\n<p>1/4-1/2
  cup Chocolate Chip Cookies<br />4 oz 1% Milk (8 oz for ages 6-12)</p>
END:VEVENT
BEGIN:VEVENT
UID:20220810T120000UTC-6062I9BJO4@https://www.denbighchristianacademy.com/
DTSTAMP:20260426T015923Z
CATEGORIES:School Menu
DESCRIPTION:<p><span style='text-decoration: underline\;'><strong>Breakfast
 </strong></span></p>\n<p>1/4-1/2 cup Oatmeal<br />1/4-1/2 cup Pears<br />1
 /4-1/2 cup Cereal (optional)<br />6 oz. 1% Milk (8 oz for ages 6-12)</p>\n
 <p><br /><span style='text-decoration: underline\;'><strong>AM Snack</stro
 ng></span></p>\n<p>1/4-1/2 cup Cinnamon Graham Crackers<br />4 oz 1% Milk 
 (8 oz for ages 6-12)</p>\n<p><br /><span style='text-decoration: underline
 \;'><strong>Lunch</strong></span></p>\n<p>1/2-3/4 cup Pulled BBQ Chicken<b
 r />WW Roll<br />1/4-1/2 cup Broccoli<br />1/4-1/2 cup Cole Slaw<br />1/4 
 cup Mixed Fruit<br />6 oz.1% Milk (ages 6-12 8 oz)</p>\n<p><br /><span sty
 le='text-decoration: underline\;'><strong>PM Snack</strong></span></p>\n<p
 >1 - 2 oz Lorne Doone Cookies<br />4 oz 100% Apple Juice (8 oz for ages 6-
 12)</p>
DTSTART:20220810T000000Z
DTEND:20220810T235959Z
SUMMARY:Wednesday
URL:https://www.denbighchristianacademy.com/index.php/school-calendar/lunch
 -menu/10-school-menu/914-wednesday
X-ALT-DESC;FMTTYPE=TEXT/HTML:<p><span style='text-decoration: underline\;'>
 <strong>Breakfast</strong></span></p>\n<p>1/4-1/2 cup Oatmeal<br />1/4-1/2
  cup Pears<br />1/4-1/2 cup Cereal (optional)<br />6 oz. 1% Milk (8 oz for
  ages 6-12)</p>\n<p><br /><span style='text-decoration: underline\;'><stro
 ng>AM Snack</strong></span></p>\n<p>1/4-1/2 cup Cinnamon Graham Crackers<b
 r />4 oz 1% Milk (8 oz for ages 6-12)</p>\n<p><br /><span style='text-deco
 ration: underline\;'><strong>Lunch</strong></span></p>\n<p>1/2-3/4 cup Pul
 led BBQ Chicken<br />WW Roll<br />1/4-1/2 cup Broccoli<br />1/4-1/2 cup Co
 le Slaw<br />1/4 cup Mixed Fruit<br />6 oz.1% Milk (ages 6-12 8 oz)</p>\n<
 p><br /><span style='text-decoration: underline\;'><strong>PM Snack</stron
 g></span></p>\n<p>1 - 2 oz Lorne Doone Cookies<br />4 oz 100% Apple Juice 
 (8 oz for ages 6-12)</p>
END:VEVENT
BEGIN:VEVENT
UID:20220811T120000UTC-1338Vu2KCU@https://www.denbighchristianacademy.com/
DTSTAMP:20260426T015923Z
CATEGORIES:School Menu
DESCRIPTION:<p><span style='text-decoration: underline\;'><strong>Breakfast
 </strong></span></p>\n<p>3.5 oz Cheese Omelet<br />1 - 2 oz Turkey Sausage
 <br />1 1/2 - 2 oz WW Toast<br />1/4-1/2 cup Fruit Cocktail<br />1/4-1/2 c
 up Cereal (optional)<br />6 oz. 1% Milk (8 oz for ages 6-12)</p>\n<p><br /
 ><span style='text-decoration: underline\;'><strong>AM Snack</strong></spa
 n></p>\n<p>1 oz WG Ritz Bits w/Cheese<br />4 oz 1% Milk (8 oz for ages 6-1
 2)</p>\n<p><br /><span style='text-decoration: underline\;'><strong>Lunch<
 /strong></span></p>\n<p>1 1/2 - 2 oz Salisbury Steak<br />1/4-1/2 cup Mixe
 d Vegetables<br />1/4-1/2 cup Mashed Potatoes<br />1/4 cup Sugar Free Jell
 o w/Fruit Cocktail<br />6 oz.1% Milk (ages 6-12 8 oz)</p>\n<p><br /><span 
 style='text-decoration: underline\;'><strong>PM Snack</strong></span></p>
 \n<p>1 oz Little Bites Muffins<br />4 oz 1% Milk (8 oz for ages 6-12)</p>
DTSTART:20220811T000000Z
DTEND:20220811T235959Z
SUMMARY:Thursday
URL:https://www.denbighchristianacademy.com/index.php/school-calendar/lunch
 -menu/10-school-menu/915-thursday
X-ALT-DESC;FMTTYPE=TEXT/HTML:<p><span style='text-decoration: underline\;'>
 <strong>Breakfast</strong></span></p>\n<p>3.5 oz Cheese Omelet<br />1 - 2 
 oz Turkey Sausage<br />1 1/2 - 2 oz WW Toast<br />1/4-1/2 cup Fruit Cockta
 il<br />1/4-1/2 cup Cereal (optional)<br />6 oz. 1% Milk (8 oz for ages 6-
 12)</p>\n<p><br /><span style='text-decoration: underline\;'><strong>AM Sn
 ack</strong></span></p>\n<p>1 oz WG Ritz Bits w/Cheese<br />4 oz 1% Milk (
 8 oz for ages 6-12)</p>\n<p><br /><span style='text-decoration: underline\
 ;'><strong>Lunch</strong></span></p>\n<p>1 1/2 - 2 oz Salisbury Steak<br /
 >1/4-1/2 cup Mixed Vegetables<br />1/4-1/2 cup Mashed Potatoes<br />1/4 cu
 p Sugar Free Jello w/Fruit Cocktail<br />6 oz.1% Milk (ages 6-12 8 oz)</p>
 \n<p><br /><span style='text-decoration: underline\;'><strong>PM Snack</st
 rong></span></p>\n<p>1 oz Little Bites Muffins<br />4 oz 1% Milk (8 oz for
  ages 6-12)</p>
END:VEVENT
BEGIN:VEVENT
UID:20220812T120000UTC-3392Ohzown@https://www.denbighchristianacademy.com/
DTSTAMP:20260426T015923Z
CATEGORIES:School Menu
DESCRIPTION:<p><span style='text-decoration: underline\;'><strong>Breakfast
 </strong></span></p>\n<p>1 1/2 oz (2)Pancakes<br />1/4-1/2 cup Mixed Fruit
 <br />1/4-1/2 cup Cereal (optional)<br />6 oz. 1% Milk (8 oz for ages 6-12
 )</p>\n<p><br /><span style='text-decoration: underline\;'><strong>AM Snac
 k</strong></span></p>\n<p>1/4-1/2 cup Cheez-it Crackers<br />4 oz 1% Milk 
 (8 oz for ages 6-12)</p>\n<p><br /><span style='text-decoration: underline
 \;'><strong>Lunch</strong></span></p>\n<p>1 1/2 - 2 oz Breaded Fish<br />1
 /4-1/2 cp WG Brown Rice<br />1/4-1/2 cup California Vegetable Blend<br />1
 /4 cup Mixed Fruit<br />6 oz.1% Milk (ages 6-12 8 oz)</p>\n<p><br /><span 
 style='text-decoration: underline\;'><strong>PM Snack</strong></span></p>
 \n<p>1/4-1/2 cup Goldfish<br />4 oz 1% Milk (8 oz for ages 6-12)</p>
DTSTART:20220812T000000Z
DTEND:20220812T235959Z
SUMMARY:Friday
URL:https://www.denbighchristianacademy.com/index.php/school-calendar/lunch
 -menu/10-school-menu/916-friday
X-ALT-DESC;FMTTYPE=TEXT/HTML:<p><span style='text-decoration: underline\;'>
 <strong>Breakfast</strong></span></p>\n<p>1 1/2 oz (2)Pancakes<br />1/4-1/
 2 cup Mixed Fruit<br />1/4-1/2 cup Cereal (optional)<br />6 oz. 1% Milk (8
  oz for ages 6-12)</p>\n<p><br /><span style='text-decoration: underline\;
 '><strong>AM Snack</strong></span></p>\n<p>1/4-1/2 cup Cheez-it Crackers<b
 r />4 oz 1% Milk (8 oz for ages 6-12)</p>\n<p><br /><span style='text-deco
 ration: underline\;'><strong>Lunch</strong></span></p>\n<p>1 1/2 - 2 oz Br
 eaded Fish<br />1/4-1/2 cp WG Brown Rice<br />1/4-1/2 cup California Veget
 able Blend<br />1/4 cup Mixed Fruit<br />6 oz.1% Milk (ages 6-12 8 oz)</p>
 \n<p><br /><span style='text-decoration: underline\;'><strong>PM Snack</st
 rong></span></p>\n<p>1/4-1/2 cup Goldfish<br />4 oz 1% Milk (8 oz for ages
  6-12)</p>
END:VEVENT
END:VCALENDAR
