BEGIN:VCALENDAR
VERSION:2.0
PRODID:-//https://www.denbighchristianacademy.com//NONSGML kigkonsult.se iC
 alcreator 2.29.29//
CALSCALE:GREGORIAN
METHOD:PUBLISH
UID:504a9241-e496-43b6-85eb-2e09c2b829c3
X-WR-CALNAME:JCal Pro Calendar
X-WR-CALDESC:Your online events calendar
X-WR-TIMEZONE:UTC
BEGIN:VTIMEZONE
TZID:UTC
END:VTIMEZONE
BEGIN:VEVENT
UID:20220523T120000UTC-9505ePTdfe@https://www.denbighchristianacademy.com/
DTSTAMP:20260425T214844Z
CATEGORIES:School Menu
DESCRIPTION:<p><span style='text-decoration: underline\;'><strong>Breakfast
 </strong></span></p>\n<p>Bagels w/Cream Cheese<br />1/4-1/2 cup Pears<br /
 >1/4-1/2 cup Cereal (optional)<br />6 oz. 1% Milk (8 oz for ages 6-12)</p>
 \n<p><br /><span style='text-decoration: underline\;'><strong>AM Snack</st
 rong></span></p>\n<p>2 pks 1.62 oz asst. Fruit Packs<br />4 oz 1% Milk (8 
 oz for ages 6-12)</p>\n<p><br /><span style='text-decoration: underline\;'
 ><strong>Lunch</strong></span></p>\n<p>1 1/2 - 2 oz Chicken Drumsticks<br 
 />1/4-1/2 Mixed Vegetables<br />1/4 - 1/2 cup Brown Rice<br />1/4 cup Mixe
 d Fruit<br />6 oz.1% Milk (ages 6-12 8 oz)</p>\n<p><br /><span style='text
 -decoration: underline\;'><strong>PM Snack</strong></span></p>\n<p>1 (.78 
 oz) Bar Rice Krispy Treat<br />4 oz 1% Milk (8 oz for ages 6-12)</p>
DTSTART:20220523T000000Z
DTEND:20220523T235959Z
SUMMARY:Monday
URL:https://www.denbighchristianacademy.com/index.php/school-calendar/lunch
 -menu/10-school-menu/858-monday
X-ALT-DESC;FMTTYPE=TEXT/HTML:<p><span style='text-decoration: underline\;'>
 <strong>Breakfast</strong></span></p>\n<p>Bagels w/Cream Cheese<br />1/4-1
 /2 cup Pears<br />1/4-1/2 cup Cereal (optional)<br />6 oz. 1% Milk (8 oz f
 or ages 6-12)</p>\n<p><br /><span style='text-decoration: underline\;'><st
 rong>AM Snack</strong></span></p>\n<p>2 pks 1.62 oz asst. Fruit Packs<br /
 >4 oz 1% Milk (8 oz for ages 6-12)</p>\n<p><br /><span style='text-decorat
 ion: underline\;'><strong>Lunch</strong></span></p>\n<p>1 1/2 - 2 oz Chick
 en Drumsticks<br />1/4-1/2 Mixed Vegetables<br />1/4 - 1/2 cup Brown Rice<
 br />1/4 cup Mixed Fruit<br />6 oz.1% Milk (ages 6-12 8 oz)</p>\n<p><br />
 <span style='text-decoration: underline\;'><strong>PM Snack</strong></span
 ></p>\n<p>1 (.78 oz) Bar Rice Krispy Treat<br />4 oz 1% Milk (8 oz for age
 s 6-12)</p>
END:VEVENT
BEGIN:VEVENT
UID:20220524T120000UTC-6319gB7smm@https://www.denbighchristianacademy.com/
DTSTAMP:20260425T214844Z
CATEGORIES:School Menu
DESCRIPTION:<p><span style='text-decoration: underline\;'><strong>Breakfast
 </strong></span></p>\n<p>1 1/2 oz (2) Pancakes<br />1/4-1/2 cup Pineapple<
 br />1/4-1/2 cup Cereal (optional)<br />6 oz. 1% Milk (8 oz for ages 6-12)
 </p>\n<p><br /><span style='text-decoration: underline\;'><strong>AM Snack
 </strong></span></p>\n<p>1/4-1/2 cup Animal Crackers<br />4 oz 1% Milk (8 
 oz for ages 6-12)</p>\n<p><br /><span style='text-decoration: underline\;'
 ><strong>Lunch</strong></span></p>\n<p>1 1/2 - 2 oz Meat Loaf<br />1/4-1/2
  cup Green Beans<br />1/4-1/2 cup Mashed Potatoes<br />1/4 cup Pineapple<b
 r />6 oz.1% Milk (ages 6-12 8 oz)</p>\n<p><br /><span style='text-decorati
 on: underline\;'><strong>PM Snack</strong></span></p>\n<p>1 - 2 oz Graham 
 Crackers<br />4 oz 1% Milk (8 oz for ages 6-12)</p>
DTSTART:20220524T000000Z
DTEND:20220524T235959Z
SUMMARY:Tuesday
URL:https://www.denbighchristianacademy.com/index.php/school-calendar/lunch
 -menu/10-school-menu/859-tuesday
X-ALT-DESC;FMTTYPE=TEXT/HTML:<p><span style='text-decoration: underline\;'>
 <strong>Breakfast</strong></span></p>\n<p>1 1/2 oz (2) Pancakes<br />1/4-1
 /2 cup Pineapple<br />1/4-1/2 cup Cereal (optional)<br />6 oz. 1% Milk (8 
 oz for ages 6-12)</p>\n<p><br /><span style='text-decoration: underline\;'
 ><strong>AM Snack</strong></span></p>\n<p>1/4-1/2 cup Animal Crackers<br /
 >4 oz 1% Milk (8 oz for ages 6-12)</p>\n<p><br /><span style='text-decorat
 ion: underline\;'><strong>Lunch</strong></span></p>\n<p>1 1/2 - 2 oz Meat 
 Loaf<br />1/4-1/2 cup Green Beans<br />1/4-1/2 cup Mashed Potatoes<br />1/
 4 cup Pineapple<br />6 oz.1% Milk (ages 6-12 8 oz)</p>\n<p><br /><span sty
 le='text-decoration: underline\;'><strong>PM Snack</strong></span></p>\n<p
 >1 - 2 oz Graham Crackers<br />4 oz 1% Milk (8 oz for ages 6-12)</p>
END:VEVENT
BEGIN:VEVENT
UID:20220525T120000UTC-6194Rvmpkk@https://www.denbighchristianacademy.com/
DTSTAMP:20260425T214844Z
CATEGORIES:School Menu
DESCRIPTION:<p><span style='text-decoration: underline\;'><strong>Breakfast
 </strong></span></p>\n<p>1 1/2 oz Biscuit w/Gravy<br />1/4-1/2 cup Fruit C
 ocktail<br />1/4-1/2 cup Cereal (optional)<br />6 oz. 1% Milk (8 oz for ag
 es 6-12)</p>\n<p><br /><span style='text-decoration: underline\;'><strong>
 AM Snack</strong></span></p>\n<p>1/4-1/2 cup WG Cheez-it Crackers<br />4 o
 z 1% Milk (8 oz for ages 6-12)</p>\n<p><br /><span style='text-decoration:
  underline\;'><strong>Lunch</strong></span></p>\n<p>1 1/2 - 2 oz Spaghetti
  w/Meat Sauce<br />1/2 - 1 Garlic Bread Stick<br />1/4 cup Mashed Potatoes
 <br />1/4 cup Mixed Fruit<br />6 oz.1% Milk (ages 6-12 8 oz)</p>\n<p><br /
 ><span style='text-decoration: underline\;'><strong>PM Snack</strong></spa
 n></p>\n<p>1/4-1/2 cup Pretzels<br />4 oz 100% Apple Juice (8 oz for ages 
 6-12)</p>
DTSTART:20220525T000000Z
DTEND:20220525T235959Z
SUMMARY:Wednesday
URL:https://www.denbighchristianacademy.com/index.php/school-calendar/lunch
 -menu/10-school-menu/860-wednesday
X-ALT-DESC;FMTTYPE=TEXT/HTML:<p><span style='text-decoration: underline\;'>
 <strong>Breakfast</strong></span></p>\n<p>1 1/2 oz Biscuit w/Gravy<br />1/
 4-1/2 cup Fruit Cocktail<br />1/4-1/2 cup Cereal (optional)<br />6 oz. 1% 
 Milk (8 oz for ages 6-12)</p>\n<p><br /><span style='text-decoration: unde
 rline\;'><strong>AM Snack</strong></span></p>\n<p>1/4-1/2 cup WG Cheez-it 
 Crackers<br />4 oz 1% Milk (8 oz for ages 6-12)</p>\n<p><br /><span style=
 'text-decoration: underline\;'><strong>Lunch</strong></span></p>\n<p>1 1/2
  - 2 oz Spaghetti w/Meat Sauce<br />1/2 - 1 Garlic Bread Stick<br />1/4 cu
 p Mashed Potatoes<br />1/4 cup Mixed Fruit<br />6 oz.1% Milk (ages 6-12 8 
 oz)</p>\n<p><br /><span style='text-decoration: underline\;'><strong>PM Sn
 ack</strong></span></p>\n<p>1/4-1/2 cup Pretzels<br />4 oz 100% Apple Juic
 e (8 oz for ages 6-12)</p>
END:VEVENT
BEGIN:VEVENT
UID:20220526T130000UTC-3575J78G2H@https://www.denbighchristianacademy.com/
DTSTAMP:20260425T214844Z
CATEGORIES:School Menu
DESCRIPTION:<p><span style='text-decoration: underline\;'><strong>Breakfast
 </strong></span></p>\n<p>2 - 4 Frernch Toast Sticks<br />1/4-1/2 cup Peach
 es<br />1/4-1/2 cup Cereal (optional)<br />6 oz. 1% Milk (8 oz for ages 6-
 12)</p>\n<p><br /><span style='text-decoration: underline\;'><strong>AM Sn
 ack</strong></span></p>\n<p>1 individiual pk Teddy Grahams<br />4 oz Water
  (8 oz for ages 6-12)</p>\n<p><br /><span style='text-decoration: underlin
 e\;'><strong>Lunch</strong></span></p>\n<p>1 1/2 - 2 oz Chicken Nuggets<br
  />WW Roll<br />1/4-1./2 cup Broccoli<br />1/4 cup Fruit Cocktail<br />6 o
 z.1% Milk (ages 6-12 8 oz)</p>\n<p><br /><span style='text-decoration: und
 erline\;'><strong>PM Snack</strong></span></p>\n<p>1 pack Lorne Doone Cook
 ies 1.5 oz<br />4 oz 1% Milk (8 oz for ages 6-12)</p>
DTSTART:20220526T000000Z
DTEND:20220526T235959Z
SUMMARY:Thursday
URL:https://www.denbighchristianacademy.com/index.php/school-calendar/lunch
 -menu/10-school-menu/861-thursday
X-ALT-DESC;FMTTYPE=TEXT/HTML:<p><span style='text-decoration: underline\;'>
 <strong>Breakfast</strong></span></p>\n<p>2 - 4 Frernch Toast Sticks<br />
 1/4-1/2 cup Peaches<br />1/4-1/2 cup Cereal (optional)<br />6 oz. 1% Milk 
 (8 oz for ages 6-12)</p>\n<p><br /><span style='text-decoration: underline
 \;'><strong>AM Snack</strong></span></p>\n<p>1 individiual pk Teddy Graham
 s<br />4 oz Water (8 oz for ages 6-12)</p>\n<p><br /><span style='text-dec
 oration: underline\;'><strong>Lunch</strong></span></p>\n<p>1 1/2 - 2 oz C
 hicken Nuggets<br />WW Roll<br />1/4-1./2 cup Broccoli<br />1/4 cup Fruit 
 Cocktail<br />6 oz.1% Milk (ages 6-12 8 oz)</p>\n<p><br /><span style='tex
 t-decoration: underline\;'><strong>PM Snack</strong></span></p>\n<p>1 pack
  Lorne Doone Cookies 1.5 oz<br />4 oz 1% Milk (8 oz for ages 6-12)</p>
END:VEVENT
BEGIN:VEVENT
UID:20220523T130000UTC-5730hjoj9j@https://www.denbighchristianacademy.com/
DTSTAMP:20260425T214844Z
CATEGORIES:School Menu
DESCRIPTION:<p><span style='text-decoration: underline\;'><strong>Breakfast
 </strong></span></p>\n<p>1/4-1/2 cujp Oatmeal<br />1/4-1/2 cup Mixed Fruit
 <br />1/4-1/2 cup Cereal (optional)<br />6 oz. 1% Milk (8 oz for ages 6-12
 )</p>\n<p><br /><span style='text-decoration: underline\;'><strong>AM Snac
 k</strong></span></p>\n<p>1/4-1/2 cup WW Gold Fish Crackers<br />4 oz 1% M
 ilk (8 oz for ages 6-12)</p>\n<p><br /><span style='text-decoration: under
 line\;'><strong>Lunch</strong></span></p>\n<p><b>Family Fun Day!</b><br />
 1 1/2 - 2 oz Hamburger Patty or Beef Hot Dog<br />on Whole Wheat Bun<br />
 1 oz bag Potato Chips<br />1/4 cup Oreo Cookies<br />6 oz.1% Milk (ages 6-
 12 8 oz)</p>\n<p><br /><span style='text-decoration: underline\;'><strong>
 PM Snack</strong></span></p>\n<p>1/4-1/2 cup Chocolate Chip Cookies<br />4
  oz 1% Milk (8 oz for ages 6-12)</p>
DTSTART:20220527T000000Z
DTEND:20220527T235959Z
SUMMARY:Friday
URL:https://www.denbighchristianacademy.com/index.php/school-calendar/lunch
 -menu/10-school-menu/862-friday
X-ALT-DESC;FMTTYPE=TEXT/HTML:<p><span style='text-decoration: underline\;'>
 <strong>Breakfast</strong></span></p>\n<p>1/4-1/2 cujp Oatmeal<br />1/4-1/
 2 cup Mixed Fruit<br />1/4-1/2 cup Cereal (optional)<br />6 oz. 1% Milk (8
  oz for ages 6-12)</p>\n<p><br /><span style='text-decoration: underline\;
 '><strong>AM Snack</strong></span></p>\n<p>1/4-1/2 cup WW Gold Fish Cracke
 rs<br />4 oz 1% Milk (8 oz for ages 6-12)</p>\n<p><br /><span style='text-
 decoration: underline\;'><strong>Lunch</strong></span></p>\n<p><b>Family F
 un Day!</b><br />1 1/2 - 2 oz Hamburger Patty or Beef Hot Dog<br />on Whol
 e Wheat Bun<br />1 oz bag Potato Chips<br />1/4 cup Oreo Cookies<br />6 oz
 .1% Milk (ages 6-12 8 oz)</p>\n<p><br /><span style='text-decoration: unde
 rline\;'><strong>PM Snack</strong></span></p>\n<p>1/4-1/2 cup Chocolate Ch
 ip Cookies<br />4 oz 1% Milk (8 oz for ages 6-12)</p>
END:VEVENT
END:VCALENDAR
