BEGIN:VCALENDAR
VERSION:2.0
PRODID:-//https://www.denbighchristianacademy.com//NONSGML kigkonsult.se iC
 alcreator 2.29.29//
CALSCALE:GREGORIAN
METHOD:PUBLISH
UID:3a6ba530-2d59-499c-93a1-a3df67f2b7cb
X-WR-CALNAME:JCal Pro Calendar
X-WR-CALDESC:Your online events calendar
X-WR-TIMEZONE:UTC
BEGIN:VTIMEZONE
TZID:UTC
END:VTIMEZONE
BEGIN:VEVENT
UID:20220228T170000UTC-3900bOlgGa@http://www.denbighchristianacademy.com/
DTSTAMP:20260425T164353Z
CATEGORIES:School Menu
DESCRIPTION:<p><span style='text-decoration: underline\;'><strong>Breakfast
 </strong></span></p>\n<p>1/2 - 1 Bagel w/Cream Cheese<br />1/4-1/2 cup Pea
 rs<br />1/4-1/2 cup Cereal (optional)<br />6 oz. 1% Milk (8 oz for ages 6-
 12)</p>\n<p><br /><span style='text-decoration: underline\;'><strong>AM Sn
 ack</strong></span></p>\n<p>2 pks 1.62 oz asst. Fruit Packs<br />4 oz 1% M
 ilk (8 oz for ages 6-12)</p>\n<p><br /><span style='text-decoration: under
 line\;'><strong>Lunch</strong></span></p>\n<p>1 1/2 - 2 oz Chicken Nuggets
 <br />1/4-1/2 cup Mashed Potatoes<br />1/4-1/2 cup Mixed Vegetables<br />1
 /4 cup Mixed Fruit<br />6 oz.1% Milk (ages 6-12 8 oz)</p>\n<p><br /><span 
 style='text-decoration: underline\;'><strong>PM Snack</strong></span></p>
 \n<p>1 (.78 oz) Bar Rice Krispy Treat<br />4 oz 1% Milk (8 oz for ages 6-1
 2)</p>
DTSTART:20220228T000000Z
DTEND:20220228T235959Z
SUMMARY:Monday
URL:https://www.denbighchristianacademy.com/index.php/school-calendar/lunch
 -menu/10-school-menu/808-monday
X-ALT-DESC;FMTTYPE=TEXT/HTML:<p><span style='text-decoration: underline\;'>
 <strong>Breakfast</strong></span></p>\n<p>1/2 - 1 Bagel w/Cream Cheese<br 
 />1/4-1/2 cup Pears<br />1/4-1/2 cup Cereal (optional)<br />6 oz. 1% Milk 
 (8 oz for ages 6-12)</p>\n<p><br /><span style='text-decoration: underline
 \;'><strong>AM Snack</strong></span></p>\n<p>2 pks 1.62 oz asst. Fruit Pac
 ks<br />4 oz 1% Milk (8 oz for ages 6-12)</p>\n<p><br /><span style='text-
 decoration: underline\;'><strong>Lunch</strong></span></p>\n<p>1 1/2 - 2 o
 z Chicken Nuggets<br />1/4-1/2 cup Mashed Potatoes<br />1/4-1/2 cup Mixed 
 Vegetables<br />1/4 cup Mixed Fruit<br />6 oz.1% Milk (ages 6-12 8 oz)</p>
 \n<p><br /><span style='text-decoration: underline\;'><strong>PM Snack</st
 rong></span></p>\n<p>1 (.78 oz) Bar Rice Krispy Treat<br />4 oz 1% Milk (8
  oz for ages 6-12)</p>
END:VEVENT
BEGIN:VEVENT
UID:20220301T170000UTC-7171cEuoE0@http://www.denbighchristianacademy.com/
DTSTAMP:20260425T164353Z
CATEGORIES:School Menu
DESCRIPTION:<p><span style='text-decoration: underline\;'><strong>Breakfast
 </strong></span></p>\n<p>1 1/2 oz (2) Pancakes<br />1/4-1/2 cup Pineapple<
 br />1/4-1/2 cup Cereal (optional)<br />6 oz. 1% Milk (8 oz for ages 6-12)
 </p>\n<p><br /><span style='text-decoration: underline\;'><strong>AM Snack
 </strong></span></p>\n<p>1/4-1/2 cup Animal Crackers<br />4 oz 1% Milk (8 
 oz for ages 6-12)</p>\n<p><br /><span style='text-decoration: underline\;'
 ><strong>Lunch</strong></span></p>\n<p>1 1/2 - 2 oz Spaghetti<br />WW Garl
 ic Bread<br />1/4-1/2 cup Salad Mix w/Dressing<br />1/4 cup Pineapple<br /
 >6 oz.1% Milk (ages 6-12 8 oz)</p>\n<p><br /><span style='text-decoration:
  underline\;'><strong>PM Snack</strong></span></p>\n<p>1 - 2 oz Graham Cra
 ckers<br />4 oz 1% Milk (8 oz for ages 6-12)</p>
DTSTART:20220301T000000Z
DTEND:20220301T235959Z
SUMMARY:Tuesday
URL:https://www.denbighchristianacademy.com/index.php/school-calendar/lunch
 -menu/10-school-menu/809-tuesday
X-ALT-DESC;FMTTYPE=TEXT/HTML:<p><span style='text-decoration: underline\;'>
 <strong>Breakfast</strong></span></p>\n<p>1 1/2 oz (2) Pancakes<br />1/4-1
 /2 cup Pineapple<br />1/4-1/2 cup Cereal (optional)<br />6 oz. 1% Milk (8 
 oz for ages 6-12)</p>\n<p><br /><span style='text-decoration: underline\;'
 ><strong>AM Snack</strong></span></p>\n<p>1/4-1/2 cup Animal Crackers<br /
 >4 oz 1% Milk (8 oz for ages 6-12)</p>\n<p><br /><span style='text-decorat
 ion: underline\;'><strong>Lunch</strong></span></p>\n<p>1 1/2 - 2 oz Spagh
 etti<br />WW Garlic Bread<br />1/4-1/2 cup Salad Mix w/Dressing<br />1/4 c
 up Pineapple<br />6 oz.1% Milk (ages 6-12 8 oz)</p>\n<p><br /><span style=
 'text-decoration: underline\;'><strong>PM Snack</strong></span></p>\n<p>1 
 - 2 oz Graham Crackers<br />4 oz 1% Milk (8 oz for ages 6-12)</p>
END:VEVENT
BEGIN:VEVENT
UID:20220302T170000UTC-8935KbwZ2L@http://www.denbighchristianacademy.com/
DTSTAMP:20260425T164353Z
CATEGORIES:School Menu
DESCRIPTION:<p><span style='text-decoration: underline\;'><strong>Breakfast
 </strong></span></p>\n<p>1 1/2 oz Biscuit w/Gravy<br />1/4-1/2 cup Fruit C
 ocktail<br />1/4-1/2 cup Cereal (optional)<br />6 oz. 1% Milk (8 oz for ag
 es 6-12)</p>\n<p><br /><span style='text-decoration: underline\;'><strong>
 AM Snack</strong></span></p>\n<p>1/4-1/2 cup WG Cheez-it Crackers<br />4 o
 z 1% Milk (8 oz for ages 6-12)</p>\n<p><br /><span style='text-decoration:
  underline\;'><strong>Lunch</strong></span></p>\n<p>1 1/2 - 2 oz Chicken N
 oodle Soup<br />Turkey &amp\; Cheese Sandwich<br />1/4 cup Mixed Fruit<br 
 />6 oz.1% Milk (ages 6-12 8 oz)</p>\n<p><br /><span style='text-decoration
 : underline\;'><strong>PM Snack</strong></span></p>\n<p>1/4-1/2 cup Pretze
 ls<br />4 oz 100% Apple Juice (8 oz for ages 6-12)</p>
DTSTART:20220302T000000Z
DTEND:20220302T235959Z
SUMMARY:Wednesday
URL:https://www.denbighchristianacademy.com/index.php/school-calendar/lunch
 -menu/10-school-menu/810-wednesday
X-ALT-DESC;FMTTYPE=TEXT/HTML:<p><span style='text-decoration: underline\;'>
 <strong>Breakfast</strong></span></p>\n<p>1 1/2 oz Biscuit w/Gravy<br />1/
 4-1/2 cup Fruit Cocktail<br />1/4-1/2 cup Cereal (optional)<br />6 oz. 1% 
 Milk (8 oz for ages 6-12)</p>\n<p><br /><span style='text-decoration: unde
 rline\;'><strong>AM Snack</strong></span></p>\n<p>1/4-1/2 cup WG Cheez-it 
 Crackers<br />4 oz 1% Milk (8 oz for ages 6-12)</p>\n<p><br /><span style=
 'text-decoration: underline\;'><strong>Lunch</strong></span></p>\n<p>1 1/2
  - 2 oz Chicken Noodle Soup<br />Turkey &amp\; Cheese Sandwich<br />1/4 cu
 p Mixed Fruit<br />6 oz.1% Milk (ages 6-12 8 oz)</p>\n<p><br /><span style
 ='text-decoration: underline\;'><strong>PM Snack</strong></span></p>\n<p>1
 /4-1/2 cup Pretzels<br />4 oz 100% Apple Juice (8 oz for ages 6-12)</p>
END:VEVENT
BEGIN:VEVENT
UID:20220303T170000UTC-8946hvhPVZ@http://www.denbighchristianacademy.com/
DTSTAMP:20260425T164353Z
CATEGORIES:School Menu
DESCRIPTION:<p><span style='text-decoration: underline\;'><strong>Breakfast
 </strong></span></p>\n<p>2 - 4 French Toast Sticks<br />1/4-1/2 cup Peache
 s<br />1/4-1/2 cup Cereal (optional)<br />6 oz. 1% Milk (8 oz for ages 6-1
 2)</p>\n<p><br /><span style='text-decoration: underline\;'><strong>AM Sna
 ck</strong></span></p>\n<p>1/4-1/2 cup Teddy Graham Crackers<br />4 oz 1% 
 Milk (8 oz for ages 6-12)</p>\n<p><br /><span style='text-decoration: unde
 rline\;'><strong>Lunch</strong></span></p>\n<p>1 1/2 - 2 oz Chicken Tender
 s<br />WW Roll<br />1/4-1/2 cup Green Beans<br />1/4 cup Fruit Cocktail<br
  />6 oz.1% Milk (ages 6-12 8 oz)</p>\n<p><br /><span style='text-decoratio
 n: underline\;'><strong>PM Snack</strong></span></p>\n<p>1 pack Lorne Doon
 e Cookies 1.5 oz<br />4 oz 1% Milk (8 oz for ages 6-12)</p>
DTSTART:20220303T000000Z
DTEND:20220303T235959Z
SUMMARY:Thursday
URL:https://www.denbighchristianacademy.com/index.php/school-calendar/lunch
 -menu/10-school-menu/811-thursday
X-ALT-DESC;FMTTYPE=TEXT/HTML:<p><span style='text-decoration: underline\;'>
 <strong>Breakfast</strong></span></p>\n<p>2 - 4 French Toast Sticks<br />1
 /4-1/2 cup Peaches<br />1/4-1/2 cup Cereal (optional)<br />6 oz. 1% Milk (
 8 oz for ages 6-12)</p>\n<p><br /><span style='text-decoration: underline\
 ;'><strong>AM Snack</strong></span></p>\n<p>1/4-1/2 cup Teddy Graham Crack
 ers<br />4 oz 1% Milk (8 oz for ages 6-12)</p>\n<p><br /><span style='text
 -decoration: underline\;'><strong>Lunch</strong></span></p>\n<p>1 1/2 - 2 
 oz Chicken Tenders<br />WW Roll<br />1/4-1/2 cup Green Beans<br />1/4 cup 
 Fruit Cocktail<br />6 oz.1% Milk (ages 6-12 8 oz)</p>\n<p><br /><span styl
 e='text-decoration: underline\;'><strong>PM Snack</strong></span></p>\n<p>
 1 pack Lorne Doone Cookies 1.5 oz<br />4 oz 1% Milk (8 oz for ages 6-12)</
 p>
END:VEVENT
BEGIN:VEVENT
UID:20220304T180000UTC-6459T61wb7@http://www.denbighchristianacademy.com/
DTSTAMP:20260425T164353Z
CATEGORIES:School Menu
DESCRIPTION:<p><span style='text-decoration: underline\;'><strong>Breakfast
 </strong></span></p>\n<p>1/4-1/2 cup Oatmeal<br />1/4-1/2 cup Tropical Fru
 it<br />1/4-1/2 cup Cereal (optional)<br />6 oz. 1% Milk (8 oz for ages 6-
 12)</p>\n<p><br /><span style='text-decoration: underline\;'><strong>AM Sn
 ack</strong></span></p>\n<p>1/4-1/2 cup Chex Mix<br />4 oz 1% Milk (8 oz f
 or ages 6-12)</p>\n<p><br /><span style='text-decoration: underline\;'><st
 rong>Lunch</strong></span></p>\n<p>1 1/2 - 2 oz Pizza<br />1/4-1/2 cup Tos
 sed Salad w/dressing<br />1/4 cup Tropical Fruit<br />6 oz.1% Milk (ages 6
 -12 8 oz)</p>\n<p><br /><span style='text-decoration: underline\;'><strong
 >PM Snack</strong></span></p>\n<p>1/4-1/2 cup Chocolate Chip Cookies<br />
 4 oz 1% Milk (8 oz for ages 6-12)</p>
DTSTART:20220304T000000Z
DTEND:20220304T235959Z
SUMMARY:Friday
URL:https://www.denbighchristianacademy.com/index.php/school-calendar/lunch
 -menu/10-school-menu/812-friday
X-ALT-DESC;FMTTYPE=TEXT/HTML:<p><span style='text-decoration: underline\;'>
 <strong>Breakfast</strong></span></p>\n<p>1/4-1/2 cup Oatmeal<br />1/4-1/2
  cup Tropical Fruit<br />1/4-1/2 cup Cereal (optional)<br />6 oz. 1% Milk 
 (8 oz for ages 6-12)</p>\n<p><br /><span style='text-decoration: underline
 \;'><strong>AM Snack</strong></span></p>\n<p>1/4-1/2 cup Chex Mix<br />4 o
 z 1% Milk (8 oz for ages 6-12)</p>\n<p><br /><span style='text-decoration:
  underline\;'><strong>Lunch</strong></span></p>\n<p>1 1/2 - 2 oz Pizza<br 
 />1/4-1/2 cup Tossed Salad w/dressing<br />1/4 cup Tropical Fruit<br />6 o
 z.1% Milk (ages 6-12 8 oz)</p>\n<p><br /><span style='text-decoration: und
 erline\;'><strong>PM Snack</strong></span></p>\n<p>1/4-1/2 cup Chocolate C
 hip Cookies<br />4 oz 1% Milk (8 oz for ages 6-12)</p>
END:VEVENT
END:VCALENDAR
