BEGIN:VCALENDAR
VERSION:2.0
PRODID:-//https://www.denbighchristianacademy.com//NONSGML kigkonsult.se iC
 alcreator 2.29.29//
CALSCALE:GREGORIAN
METHOD:PUBLISH
UID:058c902f-c942-46c5-804f-b91b868a7f8c
X-WR-CALNAME:JCal Pro Calendar
X-WR-CALDESC:Your online events calendar
X-WR-TIMEZONE:UTC
BEGIN:VTIMEZONE
TZID:UTC
END:VTIMEZONE
BEGIN:VEVENT
UID:20220124T190000UTC-8754HhvzRu@http://www.denbighchristianacademy.com/
DTSTAMP:20260425T152443Z
CATEGORIES:School Menu
DESCRIPTION:<p><span style='text-decoration: underline\;'><strong>Breakfast
 </strong></span></p>\n<p>1 1/2 oz Belgian Waffle<br />1/4-1/2 cup Pineappl
 e<br />1/4-1/2 cup Cereal (optional)<br />6 oz. 1% Milk (8 oz for ages 6-1
 2)</p>\n<p><br /><span style='text-decoration: underline\;'><strong>AM Sna
 ck</strong></span></p>\n<p>1/4-1/2 cup Pretzels<br />4 oz 1% Milk (8 oz fo
 r ages 6-12)</p>\n<p><br /><span style='text-decoration: underline\;'><str
 ong>Lunch</strong></span></p>\n<p>1 1/2 - 2 oz Chicken Fajita<br />1/4-1/2
  cup Succotash<br />1/4-1/2 cup WG Brown Rice<br />1/4 cup Pineapple<br />
 6 oz.1% Milk (ages 6-12 8 oz)</p>\n<p><br /><span style='text-decoration: 
 underline\;'><strong>PM Snack</strong></span></p>\n<p>1/4-1/2 cup Chocolat
 e Chip Cookies<br />4 oz 1% Milk (8 oz for ages 6-12)</p>
DTSTART:20220124T000000Z
DTEND:20220124T235959Z
SUMMARY:Monday
URL:https://www.denbighchristianacademy.com/index.php/school-calendar/lunch
 -menu/10-school-menu/782-monday
X-ALT-DESC;FMTTYPE=TEXT/HTML:<p><span style='text-decoration: underline\;'>
 <strong>Breakfast</strong></span></p>\n<p>1 1/2 oz Belgian Waffle<br />1/4
 -1/2 cup Pineapple<br />1/4-1/2 cup Cereal (optional)<br />6 oz. 1% Milk (
 8 oz for ages 6-12)</p>\n<p><br /><span style='text-decoration: underline\
 ;'><strong>AM Snack</strong></span></p>\n<p>1/4-1/2 cup Pretzels<br />4 oz
  1% Milk (8 oz for ages 6-12)</p>\n<p><br /><span style='text-decoration: 
 underline\;'><strong>Lunch</strong></span></p>\n<p>1 1/2 - 2 oz Chicken Fa
 jita<br />1/4-1/2 cup Succotash<br />1/4-1/2 cup WG Brown Rice<br />1/4 cu
 p Pineapple<br />6 oz.1% Milk (ages 6-12 8 oz)</p>\n<p><br /><span style='
 text-decoration: underline\;'><strong>PM Snack</strong></span></p>\n<p>1/4
 -1/2 cup Chocolate Chip Cookies<br />4 oz 1% Milk (8 oz for ages 6-12)</p>
END:VEVENT
BEGIN:VEVENT
UID:20220125T190000UTC-6104er0hGX@http://www.denbighchristianacademy.com/
DTSTAMP:20260425T152443Z
CATEGORIES:School Menu
DESCRIPTION:<p><span style='text-decoration: underline\;'><strong>Breakfast
 </strong></span></p>\n<p>1 oz Turkey &amp\; Sausage Biscuit<br />1/4-1/2 c
 up Peaches<br />1/4-1/2 cup Cereal (optional)<br />6 oz. 1% Milk (8 oz for
  ages 6-12)</p>\n<p><br /><span style='text-decoration: underline\;'><stro
 ng>AM Snack</strong></span></p>\n<p>1/4-1/2 cup WG Fig Newton<br />4 oz 1%
  Milk (8 oz for ages 6-12)</p>\n<p><br /><span style='text-decoration: und
 erline\;'><strong>Lunch</strong></span></p>\n<p>1/2-3/4 cup Mac &amp\; Che
 ese<br />1 - 2 oz WW Rolls<br />1/4-1/2 cup Green Beans<br />1/4 cup Pears
 <br />6 oz.1% Milk (ages 6-12 8 oz)</p>\n<p><br /><span style='text-decora
 tion: underline\;'><strong>PM Snack</strong></span></p>\n<p>1/4-1/2 cup Ve
 ggie Sticks<br />4 oz 1% Milk (8 oz for ages 6-12)</p>
DTSTART:20220125T000000Z
DTEND:20220125T235959Z
SUMMARY:Tuesday
URL:https://www.denbighchristianacademy.com/index.php/school-calendar/lunch
 -menu/10-school-menu/784-tuesday
X-ALT-DESC;FMTTYPE=TEXT/HTML:<p><span style='text-decoration: underline\;'>
 <strong>Breakfast</strong></span></p>\n<p>1 oz Turkey &amp\; Sausage Biscu
 it<br />1/4-1/2 cup Peaches<br />1/4-1/2 cup Cereal (optional)<br />6 oz. 
 1% Milk (8 oz for ages 6-12)</p>\n<p><br /><span style='text-decoration: u
 nderline\;'><strong>AM Snack</strong></span></p>\n<p>1/4-1/2 cup WG Fig Ne
 wton<br />4 oz 1% Milk (8 oz for ages 6-12)</p>\n<p><br /><span style='tex
 t-decoration: underline\;'><strong>Lunch</strong></span></p>\n<p>1/2-3/4 c
 up Mac &amp\; Cheese<br />1 - 2 oz WW Rolls<br />1/4-1/2 cup Green Beans<b
 r />1/4 cup Pears<br />6 oz.1% Milk (ages 6-12 8 oz)</p>\n<p><br /><span s
 tyle='text-decoration: underline\;'><strong>PM Snack</strong></span></p>\n
 <p>1/4-1/2 cup Veggie Sticks<br />4 oz 1% Milk (8 oz for ages 6-12)</p>
END:VEVENT
BEGIN:VEVENT
UID:20220126T190000UTC-6355g7iHXB@http://www.denbighchristianacademy.com/
DTSTAMP:20260425T152443Z
CATEGORIES:School Menu
DESCRIPTION:<p><span style='text-decoration: underline\;'><strong>Breakfast
 </strong></span></p>\n<p>2 - 4 French Toast Sticks<br />1/4-1/2 cup Pears<
 br />1/4-1/2 cup Cereal (optional)<br />6 oz. 1% Milk (8 oz for ages 6-12)
 </p>\n<p><br /><span style='text-decoration: underline\;'><strong>AM Snack
 </strong></span></p>\n<p>1/4-1/2 cup Ritz Cracker &amp\; Cheese Cubes<br /
 >4 oz Water (8 oz for ages 6-12)</p>\n<p><br /><span style='text-decoratio
 n: underline\;'><strong>Lunch</strong></span></p>\n<p>1 1/2 - 2 oz Salisbu
 ry Steak w/Gravy<br />1/4-1/2&nbsp\; cup Sweet Potatoes<br />WW Roll<br />
 6 oz.1% Milk (ages 6-12 8 oz)</p>\n<p><br /><span style='text-decoration: 
 underline\;'><strong>PM Snack</strong></span></p>\n<p>1 - 2 oz Oatmeal Coo
 kies<br />4 oz 100% Apple Juice (8 oz for ages 6-12)</p>
DTSTART:20220126T000000Z
DTEND:20220126T235959Z
SUMMARY:Wednesday
URL:https://www.denbighchristianacademy.com/index.php/school-calendar/lunch
 -menu/10-school-menu/785-wednesday
X-ALT-DESC;FMTTYPE=TEXT/HTML:<p><span style='text-decoration: underline\;'>
 <strong>Breakfast</strong></span></p>\n<p>2 - 4 French Toast Sticks<br />1
 /4-1/2 cup Pears<br />1/4-1/2 cup Cereal (optional)<br />6 oz. 1% Milk (8 
 oz for ages 6-12)</p>\n<p><br /><span style='text-decoration: underline\;'
 ><strong>AM Snack</strong></span></p>\n<p>1/4-1/2 cup Ritz Cracker &amp\; 
 Cheese Cubes<br />4 oz Water (8 oz for ages 6-12)</p>\n<p><br /><span styl
 e='text-decoration: underline\;'><strong>Lunch</strong></span></p>\n<p>1 1
 /2 - 2 oz Salisbury Steak w/Gravy<br />1/4-1/2&nbsp\; cup Sweet Potatoes<b
 r />WW Roll<br />6 oz.1% Milk (ages 6-12 8 oz)</p>\n<p><br /><span style='
 text-decoration: underline\;'><strong>PM Snack</strong></span></p>\n<p>1 -
  2 oz Oatmeal Cookies<br />4 oz 100% Apple Juice (8 oz for ages 6-12)</p>
END:VEVENT
BEGIN:VEVENT
UID:20220127T200000UTC-4710cjId4h@http://www.denbighchristianacademy.com/
DTSTAMP:20260425T152443Z
CATEGORIES:School Menu
DESCRIPTION:<p><span style='text-decoration: underline\;'><strong>Breakfast
 </strong></span></p>\n<p>1/4-1/2 cup Oatmeal<br />1/4-1/2 cup Fruit Cockta
 il<br />1/4-1/2 cup Cereal (optional)<br />6 oz. 1% Milk (8 oz for ages 6-
 12)</p>\n<p><br /><span style='text-decoration: underline\;'><strong>AM Sn
 ack</strong></span></p>\n<p>1 oz WG Nutri Grain Bars<br />4 oz 1% Milk (8 
 oz for ages 6-12)</p>\n<p><br /><span style='text-decoration: underline\;'
 ><strong>Lunch</strong></span></p>\n<p>1 1/2 - 2 oz Pulled Chicken BBQ<br 
 />Wheat Bread<br />1/4-1/2 cup Mixed Vegetables<br />1/4 cup Mixed Fruit<b
 r />6 oz.1% Milk (ages 6-12 8 oz)</p>\n<p><br /><span style='text-decorati
 on: underline\;'><strong>PM Snack</strong></span></p>\n<p>1 oz Little Bite
 s Muffins<br />4 oz 1% Milk (8 oz for ages 6-12)</p>
DTSTART:20220127T000000Z
DTEND:20220127T235959Z
SUMMARY:Thursday
URL:https://www.denbighchristianacademy.com/index.php/school-calendar/lunch
 -menu/10-school-menu/786-thursday
X-ALT-DESC;FMTTYPE=TEXT/HTML:<p><span style='text-decoration: underline\;'>
 <strong>Breakfast</strong></span></p>\n<p>1/4-1/2 cup Oatmeal<br />1/4-1/2
  cup Fruit Cocktail<br />1/4-1/2 cup Cereal (optional)<br />6 oz. 1% Milk 
 (8 oz for ages 6-12)</p>\n<p><br /><span style='text-decoration: underline
 \;'><strong>AM Snack</strong></span></p>\n<p>1 oz WG Nutri Grain Bars<br /
 >4 oz 1% Milk (8 oz for ages 6-12)</p>\n<p><br /><span style='text-decorat
 ion: underline\;'><strong>Lunch</strong></span></p>\n<p>1 1/2 - 2 oz Pulle
 d Chicken BBQ<br />Wheat Bread<br />1/4-1/2 cup Mixed Vegetables<br />1/4 
 cup Mixed Fruit<br />6 oz.1% Milk (ages 6-12 8 oz)</p>\n<p><br /><span sty
 le='text-decoration: underline\;'><strong>PM Snack</strong></span></p>\n<p
 >1 oz Little Bites Muffins<br />4 oz 1% Milk (8 oz for ages 6-12)</p>
END:VEVENT
BEGIN:VEVENT
UID:20220128T200000UTC-8218cVnrXC@http://www.denbighchristianacademy.com/
DTSTAMP:20260425T152443Z
CATEGORIES:School Menu
DESCRIPTION:<p><span style='text-decoration: underline\;'><strong>Breakfast
 </strong></span></p>\n<p>1 1/2 oz (2) Pancakes<br />1/4-1/2 cup Mixed Frui
 t<br />1/4-1/2 cup Cereal (optional)<br />6 oz. 1% Milk (8 oz for ages 6-1
 2)</p>\n<p><br /><span style='text-decoration: underline\;'><strong>AM Sna
 ck</strong></span></p>\n<p>1.62 oz Assorted Fruit pack<br />4 oz 1% Milk (
 8 oz for ages 6-12)</p>\n<p><br /><span style='text-decoration: underline\
 ;'><strong>Lunch</strong></span></p>\n<p>1 1/2 - 2 oz Beef Barley Soup<br 
 />Grilled Cheese on WW Bread<br />1/4 cup Mixed Fruit<br />6 oz.1% Milk (a
 ges 6-12 8 oz)</p>\n<p><br /><span style='text-decoration: underline\;'><s
 trong>PM Snack</strong></span></p>\n<p>1/4-1/2 cup Goldfish<br />4 oz 1% M
 ilk (8 oz for ages 6-12)</p>
DTSTART:20220128T000000Z
DTEND:20220128T235959Z
SUMMARY:Friday
URL:https://www.denbighchristianacademy.com/index.php/school-calendar/lunch
 -menu/10-school-menu/787-friday
X-ALT-DESC;FMTTYPE=TEXT/HTML:<p><span style='text-decoration: underline\;'>
 <strong>Breakfast</strong></span></p>\n<p>1 1/2 oz (2) Pancakes<br />1/4-1
 /2 cup Mixed Fruit<br />1/4-1/2 cup Cereal (optional)<br />6 oz. 1% Milk (
 8 oz for ages 6-12)</p>\n<p><br /><span style='text-decoration: underline\
 ;'><strong>AM Snack</strong></span></p>\n<p>1.62 oz Assorted Fruit pack<br
  />4 oz 1% Milk (8 oz for ages 6-12)</p>\n<p><br /><span style='text-decor
 ation: underline\;'><strong>Lunch</strong></span></p>\n<p>1 1/2 - 2 oz Bee
 f Barley Soup<br />Grilled Cheese on WW Bread<br />1/4 cup Mixed Fruit<br 
 />6 oz.1% Milk (ages 6-12 8 oz)</p>\n<p><br /><span style='text-decoration
 : underline\;'><strong>PM Snack</strong></span></p>\n<p>1/4-1/2 cup Goldfi
 sh<br />4 oz 1% Milk (8 oz for ages 6-12)</p>
END:VEVENT
END:VCALENDAR
