BEGIN:VCALENDAR
VERSION:2.0
PRODID:-//https://www.denbighchristianacademy.com//NONSGML kigkonsult.se iC
 alcreator 2.29.29//
CALSCALE:GREGORIAN
METHOD:PUBLISH
UID:dc62ef38-08e8-4d1e-9d4e-502c9355fd93
X-WR-CALNAME:JCal Pro Calendar
X-WR-CALDESC:Your online events calendar
X-WR-TIMEZONE:UTC
BEGIN:VTIMEZONE
TZID:UTC
END:VTIMEZONE
BEGIN:VEVENT
UID:20220110T180000UTC-1835LLuX1g@http://www.denbighchristianacademy.com/
DTSTAMP:20260425T154127Z
CATEGORIES:School Menu
DESCRIPTION:<p><span style='text-decoration: underline\;'><strong>Breakfast
 </strong></span></p>\n<p>1 1/2 oz Belgian Waffle<br />1/4-1/2 cup Pineappl
 e<br />1/4-1/2 cup Cereal (optional)<br />6 oz. 1% Milk (8 oz for ages 6-1
 2)</p>\n<p><br /><span style='text-decoration: underline\;'><strong>AM Sna
 ck</strong></span></p>\n<p>1/4-1/2 cup Pretzels<br />4 oz 1% Milk (8 oz fo
 r ages 6-12)</p>\n<p><br /><span style='text-decoration: underline\;'><str
 ong>Lunch</strong></span></p>\n<p>1 1/2 - 2 oz Meatballs w/Gravy<br />1/2 
 - 1 slice WW Bread<br />1/4-1/2 cup Mixed Vegetables<br />1/4 cup Tropical
  Fruit<br />6 oz.1% Milk (ages 6-12 8 oz)</p>\n<p><br /><span style='text-
 decoration: underline\;'><strong>PM Snack</strong></span></p>\n<p>1/4-1/2 
 cup Animal Crackers<br />4 oz 1% Milk (8 oz for ages 6-12)</p>
DTSTART:20220110T000000Z
DTEND:20220110T235959Z
SUMMARY:Monday
URL:https://www.denbighchristianacademy.com/index.php/school-calendar/lunch
 -menu/10-school-menu/772-monday
X-ALT-DESC;FMTTYPE=TEXT/HTML:<p><span style='text-decoration: underline\;'>
 <strong>Breakfast</strong></span></p>\n<p>1 1/2 oz Belgian Waffle<br />1/4
 -1/2 cup Pineapple<br />1/4-1/2 cup Cereal (optional)<br />6 oz. 1% Milk (
 8 oz for ages 6-12)</p>\n<p><br /><span style='text-decoration: underline\
 ;'><strong>AM Snack</strong></span></p>\n<p>1/4-1/2 cup Pretzels<br />4 oz
  1% Milk (8 oz for ages 6-12)</p>\n<p><br /><span style='text-decoration: 
 underline\;'><strong>Lunch</strong></span></p>\n<p>1 1/2 - 2 oz Meatballs 
 w/Gravy<br />1/2 - 1 slice WW Bread<br />1/4-1/2 cup Mixed Vegetables<br /
 >1/4 cup Tropical Fruit<br />6 oz.1% Milk (ages 6-12 8 oz)</p>\n<p><br /><
 span style='text-decoration: underline\;'><strong>PM Snack</strong></span>
 </p>\n<p>1/4-1/2 cup Animal Crackers<br />4 oz 1% Milk (8 oz for ages 6-12
 )</p>
END:VEVENT
BEGIN:VEVENT
UID:20220111T180000UTC-5622x7pUaP@http://www.denbighchristianacademy.com/
DTSTAMP:20260425T154127Z
CATEGORIES:School Menu
DESCRIPTION:<p><span style='text-decoration: underline\;'><strong>Breakfast
 </strong></span></p>\n<p>1/2 - 1 Bagel w/Cream Cheese<br />1/4-1/2 cup Pea
 ches<br />1/4-1/2 cup Cereal (optional)<br />6 oz. 1% Milk (8 oz for ages 
 6-12)</p>\n<p><br /><span style='text-decoration: underline\;'><strong>AM 
 Snack</strong></span></p>\n<p>1.62 oz assorted Fruit (2 packs)<br />4 oz 1
 % Milk (8 oz for ages 6-12)</p>\n<p><br /><span style='text-decoration: un
 derline\;'><strong>Lunch</strong></span></p>\n<p>1 1/2 - 2 oz Chicken Drum
 sticks<br />1 WW Roll<br />1/4 cup Mashed Potatoes<br />1/4-1/2 cup Peas &
 amp\; Carrots<br />1/4 cup Peaches<br />6 oz.1% Milk (ages 6-12 8 oz)</p>
 \n<p><br /><span style='text-decoration: underline\;'><strong>PM Snack</st
 rong></span></p>\n<p>1 pack Lorne Doone Doone Cookies<br />4 oz 1% Milk (8
  oz for ages 6-12)</p>
DTSTART:20220111T000000Z
DTEND:20220111T235959Z
SUMMARY:Tuesday
URL:https://www.denbighchristianacademy.com/index.php/school-calendar/lunch
 -menu/10-school-menu/773-tuesday
X-ALT-DESC;FMTTYPE=TEXT/HTML:<p><span style='text-decoration: underline\;'>
 <strong>Breakfast</strong></span></p>\n<p>1/2 - 1 Bagel w/Cream Cheese<br 
 />1/4-1/2 cup Peaches<br />1/4-1/2 cup Cereal (optional)<br />6 oz. 1% Mil
 k (8 oz for ages 6-12)</p>\n<p><br /><span style='text-decoration: underli
 ne\;'><strong>AM Snack</strong></span></p>\n<p>1.62 oz assorted Fruit (2 p
 acks)<br />4 oz 1% Milk (8 oz for ages 6-12)</p>\n<p><br /><span style='te
 xt-decoration: underline\;'><strong>Lunch</strong></span></p>\n<p>1 1/2 - 
 2 oz Chicken Drumsticks<br />1 WW Roll<br />1/4 cup Mashed Potatoes<br />1
 /4-1/2 cup Peas &amp\; Carrots<br />1/4 cup Peaches<br />6 oz.1% Milk (age
 s 6-12 8 oz)</p>\n<p><br /><span style='text-decoration: underline\;'><str
 ong>PM Snack</strong></span></p>\n<p>1 pack Lorne Doone Doone Cookies<br /
 >4 oz 1% Milk (8 oz for ages 6-12)</p>
END:VEVENT
BEGIN:VEVENT
UID:20220112T180000UTC-7193ASSkpI@http://www.denbighchristianacademy.com/
DTSTAMP:20260425T154127Z
CATEGORIES:School Menu
DESCRIPTION:<p><span style='text-decoration: underline\;'><strong>Breakfast
 </strong></span></p>\n<p>2 - 4 French Toast Sticks<br />1/4-1/2 cup Fruit 
 cocktail<br />1/4-1/2 cup Cereal (optional)<br />6 oz. 1% Milk (8 oz for a
 ges 6-12)</p>\n<p><br /><span style='text-decoration: underline\;'><strong
 >AM Snack</strong></span></p>\n<p>1/4-1/2 cup WG Fig Newtons<br />4 oz 1% 
 Milk (8 oz for ages 6-12)</p>\n<p><br /><span style='text-decoration: unde
 rline\;'><strong>Lunch</strong></span></p>\n<p>1 1/2 - 2 oz Meat &amp\; Sa
 uce Nachos<br />w/1-2 oz Tortillas<br />1/4-1/2 cup Seasoned Corn<br />1/4
 -1/2 cup Fruit Cocktail<br />6 oz.1% Milk (ages 6-12 8 oz)</p>\n<p><br /><
 span style='text-decoration: underline\;'><strong>PM Snack</strong></span>
 </p>\n<p>1/4-1/2 cup Chocolate Chip Cookies<br />4 oz 1% Milk (8 oz for ag
 es 6-12)</p>
DTSTART:20220112T180000Z
DTEND:20220112T190000Z
SUMMARY:Wednesday
URL:https://www.denbighchristianacademy.com/index.php/school-calendar/lunch
 -menu/10-school-menu/774-wednesday
X-ALT-DESC;FMTTYPE=TEXT/HTML:<p><span style='text-decoration: underline\;'>
 <strong>Breakfast</strong></span></p>\n<p>2 - 4 French Toast Sticks<br />1
 /4-1/2 cup Fruit cocktail<br />1/4-1/2 cup Cereal (optional)<br />6 oz. 1%
  Milk (8 oz for ages 6-12)</p>\n<p><br /><span style='text-decoration: und
 erline\;'><strong>AM Snack</strong></span></p>\n<p>1/4-1/2 cup WG Fig Newt
 ons<br />4 oz 1% Milk (8 oz for ages 6-12)</p>\n<p><br /><span style='text
 -decoration: underline\;'><strong>Lunch</strong></span></p>\n<p>1 1/2 - 2 
 oz Meat &amp\; Sauce Nachos<br />w/1-2 oz Tortillas<br />1/4-1/2 cup Seaso
 ned Corn<br />1/4-1/2 cup Fruit Cocktail<br />6 oz.1% Milk (ages 6-12 8 oz
 )</p>\n<p><br /><span style='text-decoration: underline\;'><strong>PM Snac
 k</strong></span></p>\n<p>1/4-1/2 cup Chocolate Chip Cookies<br />4 oz 1% 
 Milk (8 oz for ages 6-12)</p>
END:VEVENT
BEGIN:VEVENT
UID:20220113T180000UTC-5707dLrTDv@http://www.denbighchristianacademy.com/
DTSTAMP:20260425T154127Z
CATEGORIES:School Menu
DESCRIPTION:<p><span style='text-decoration: underline\;'><strong>Breakfast
 </strong></span></p>\n<p>1/4-1/2 cup Oatmeal<br />1/4-1/2 cup Pineapple<br
  />1/4-1/2 cup Cereal (optional)<br />6 oz. 1% Milk (8 oz for ages 6-12)</
 p>\n<p><br /><span style='text-decoration: underline\;'><strong>AM Snack</
 strong></span></p>\n<p>1 WG Nutri Grain Bar (1.3 oz)<br />4 oz 1% Milk (8 
 oz for ages 6-12)</p>\n<p><br /><span style='text-decoration: underline\;'
 ><strong>Lunch</strong></span></p>\n<p>1 1/2 - 2 oz Corn dogs<br />1/4-1/2
  cup Salad Mix &amp\; Dressing<br />1/4 cup Mixed Fruit<br />6 oz.1% Milk 
 (ages 6-12 8 oz)</p>\n<p><br /><span style='text-decoration: underline\;'>
 <strong>PM Snack</strong></span></p>\n<p>1 pack Teddy Graham Crackers (.75
  oz)<br />4 oz 100% Apple Juice (8 oz for ages 6-12)</p>
DTSTART:20220113T000000Z
DTEND:20220113T235959Z
SUMMARY:Thursday
URL:https://www.denbighchristianacademy.com/index.php/school-calendar/lunch
 -menu/10-school-menu/775-thursday
X-ALT-DESC;FMTTYPE=TEXT/HTML:<p><span style='text-decoration: underline\;'>
 <strong>Breakfast</strong></span></p>\n<p>1/4-1/2 cup Oatmeal<br />1/4-1/2
  cup Pineapple<br />1/4-1/2 cup Cereal (optional)<br />6 oz. 1% Milk (8 oz
  for ages 6-12)</p>\n<p><br /><span style='text-decoration: underline\;'><
 strong>AM Snack</strong></span></p>\n<p>1 WG Nutri Grain Bar (1.3 oz)<br /
 >4 oz 1% Milk (8 oz for ages 6-12)</p>\n<p><br /><span style='text-decorat
 ion: underline\;'><strong>Lunch</strong></span></p>\n<p>1 1/2 - 2 oz Corn 
 dogs<br />1/4-1/2 cup Salad Mix &amp\; Dressing<br />1/4 cup Mixed Fruit<b
 r />6 oz.1% Milk (ages 6-12 8 oz)</p>\n<p><br /><span style='text-decorati
 on: underline\;'><strong>PM Snack</strong></span></p>\n<p>1 pack Teddy Gra
 ham Crackers (.75 oz)<br />4 oz 100% Apple Juice (8 oz for ages 6-12)</p>
END:VEVENT
BEGIN:VEVENT
UID:20220114T180000UTC-5867G1OFiB@http://www.denbighchristianacademy.com/
DTSTAMP:20260425T154127Z
CATEGORIES:School Menu
DESCRIPTION:<p><span style='text-decoration: underline\;'><strong>Breakfast
 </strong></span></p>\n<p>1 1/2 oz (2) Pancakes<br />1/4-1/2 cup Mixed Frui
 t<br />1/4-1/2 cup Cereal (optional)<br />6 oz. 1% Milk (8 oz for ages 6-1
 2)</p>\n<p><br /><span style='text-decoration: underline\;'><strong>AM Sna
 ck</strong></span></p>\n<p>1/4-1/2 cup WG Cheez-it Crackers<br />4 oz 1% M
 ilk (8 oz for ages 6-12)</p>\n<p><br /><span style='text-decoration: under
 line\;'><strong>Lunch</strong></span></p>\n<p>1 1/2 - 2 oz Breaded Fish<br
  />1/4-1/2 cup Mashed Potatoes<br />1/4-1/2 cup Green Peas<br />1/4 cup Fr
 uit Cocktail<br />6 oz.1% Milk (ages 6-12 8 oz)</p>\n<p><br /><span style=
 'text-decoration: underline\;'><strong>PM Snack</strong></span></p>\n<p>1/
 4-1/2 cup Oatmeal Cookies<br />4 oz 1% Milk (8 oz for ages 6-12)</p>
DTSTART:20220114T000000Z
DTEND:20220114T235959Z
SUMMARY:Friday
URL:https://www.denbighchristianacademy.com/index.php/school-calendar/lunch
 -menu/10-school-menu/776-friday
X-ALT-DESC;FMTTYPE=TEXT/HTML:<p><span style='text-decoration: underline\;'>
 <strong>Breakfast</strong></span></p>\n<p>1 1/2 oz (2) Pancakes<br />1/4-1
 /2 cup Mixed Fruit<br />1/4-1/2 cup Cereal (optional)<br />6 oz. 1% Milk (
 8 oz for ages 6-12)</p>\n<p><br /><span style='text-decoration: underline\
 ;'><strong>AM Snack</strong></span></p>\n<p>1/4-1/2 cup WG Cheez-it Cracke
 rs<br />4 oz 1% Milk (8 oz for ages 6-12)</p>\n<p><br /><span style='text-
 decoration: underline\;'><strong>Lunch</strong></span></p>\n<p>1 1/2 - 2 o
 z Breaded Fish<br />1/4-1/2 cup Mashed Potatoes<br />1/4-1/2 cup Green Pea
 s<br />1/4 cup Fruit Cocktail<br />6 oz.1% Milk (ages 6-12 8 oz)</p>\n<p><
 br /><span style='text-decoration: underline\;'><strong>PM Snack</strong><
 /span></p>\n<p>1/4-1/2 cup Oatmeal Cookies<br />4 oz 1% Milk (8 oz for age
 s 6-12)</p>
END:VEVENT
END:VCALENDAR
