BEGIN:VCALENDAR
VERSION:2.0
PRODID:-//https://www.denbighchristianacademy.com//NONSGML kigkonsult.se iC
 alcreator 2.29.29//
CALSCALE:GREGORIAN
METHOD:PUBLISH
UID:6085e673-3a49-4a03-9024-a1f95661b2e2
X-WR-CALNAME:JCal Pro Calendar
X-WR-CALDESC:Your online events calendar
X-WR-TIMEZONE:UTC
BEGIN:VTIMEZONE
TZID:UTC
END:VTIMEZONE
BEGIN:VEVENT
UID:20211220T200000UTC-0662en7V2b@http://www.denbighchristianacademy.com/
DTSTAMP:20260425T141247Z
CATEGORIES:School Menu
DESCRIPTION:<p><span style='text-decoration: underline\;'><strong>Breakfast
 </strong></span></p>\n<p>1 1/2 oz Belgian Waffle<br />1/4-1/2 cup Pineappl
 e<br />1/4-1/2 cup Cereal (optional)<br />6 oz. 1% Milk (8 oz for ages 6-1
 2)</p>\n<p><br /><span style='text-decoration: underline\;'><strong>AM Sna
 ck</strong></span></p>\n<p>1/4-1/2 cup Veggie Sticks<br />4 oz 1% Milk (8 
 oz for ages 6-12)</p>\n<p><br /><span style='text-decoration: underline\;'
 ><strong>Lunch</strong></span></p>\n<p>1 1/2 - 2 oz Chicken Nuggets<br />1
 /4-1/2 cup Green Peas<br />1/4-1/2 cup WG Brown Rice<br />1/4 cup Pineappl
 e<br />6 oz.1% Milk (ages 6-12 8 oz)</p>\n<p><br /><span style='text-decor
 ation: underline\;'><strong>PM Snack</strong></span></p>\n<p>1/4-1/2 cup C
 hocolate Chip Cookies<br />4 oz 1% Milk (8 oz for ages 6-12)</p>
DTSTART:20211220T000000Z
DTEND:20211220T235959Z
SUMMARY:Monday
URL:https://www.denbighchristianacademy.com/index.php/school-calendar/lunch
 -menu/10-school-menu/764-monday
X-ALT-DESC;FMTTYPE=TEXT/HTML:<p><span style='text-decoration: underline\;'>
 <strong>Breakfast</strong></span></p>\n<p>1 1/2 oz Belgian Waffle<br />1/4
 -1/2 cup Pineapple<br />1/4-1/2 cup Cereal (optional)<br />6 oz. 1% Milk (
 8 oz for ages 6-12)</p>\n<p><br /><span style='text-decoration: underline\
 ;'><strong>AM Snack</strong></span></p>\n<p>1/4-1/2 cup Veggie Sticks<br /
 >4 oz 1% Milk (8 oz for ages 6-12)</p>\n<p><br /><span style='text-decorat
 ion: underline\;'><strong>Lunch</strong></span></p>\n<p>1 1/2 - 2 oz Chick
 en Nuggets<br />1/4-1/2 cup Green Peas<br />1/4-1/2 cup WG Brown Rice<br /
 >1/4 cup Pineapple<br />6 oz.1% Milk (ages 6-12 8 oz)</p>\n<p><br /><span 
 style='text-decoration: underline\;'><strong>PM Snack</strong></span></p>
 \n<p>1/4-1/2 cup Chocolate Chip Cookies<br />4 oz 1% Milk (8 oz for ages 6
 -12)</p>
END:VEVENT
BEGIN:VEVENT
UID:20211221T200000UTC-43234bf9ul@http://www.denbighchristianacademy.com/
DTSTAMP:20260425T141247Z
CATEGORIES:School Menu
DESCRIPTION:<p><span style='text-decoration: underline\;'><strong>Breakfast
 </strong></span></p>\n<p>1 oz Turkey &amp\; Sausage Biscuit&nbsp\;<br />1/
 4-1/2 cup Peaches<br />1/4-1/2 cup Cereal (optional)<br />6 oz. 1% Milk (8
  oz for ages 6-12)</p>\n<p><br /><span style='text-decoration: underline\;
 '><strong>AM Snack</strong></span></p>\n<p>1/4-1/2 cup WG Rice Crisps<br /
 >4 oz 1% Milk (8 oz for ages 6-12)</p>\n<p><br /><span style='text-decorat
 ion: underline\;'><strong>Lunch</strong></span></p>\n<p>1/2-3/4 cup Mac &a
 mp\; Cheese<br />1 - 2 WW Rolls<br />1/4-1/2 cup Green Beans<br />1/4 cup 
 Pears<br />6 oz.1% Milk (ages 6-12 8 oz)</p>\n<p><br /><span style='text-d
 ecoration: underline\;'><strong>PM Snack</strong></span></p>\n<p>1/4-1/2 c
 up Graham Crackers<br />4 oz 1% Milk (8 oz for ages 6-12)</p>
DTSTART:20211221T000000Z
DTEND:20211221T235959Z
SUMMARY:Tuesday
URL:https://www.denbighchristianacademy.com/index.php/school-calendar/lunch
 -menu/10-school-menu/765-tuesday
X-ALT-DESC;FMTTYPE=TEXT/HTML:<p><span style='text-decoration: underline\;'>
 <strong>Breakfast</strong></span></p>\n<p>1 oz Turkey &amp\; Sausage Biscu
 it&nbsp\;<br />1/4-1/2 cup Peaches<br />1/4-1/2 cup Cereal (optional)<br /
 >6 oz. 1% Milk (8 oz for ages 6-12)</p>\n<p><br /><span style='text-decora
 tion: underline\;'><strong>AM Snack</strong></span></p>\n<p>1/4-1/2 cup WG
  Rice Crisps<br />4 oz 1% Milk (8 oz for ages 6-12)</p>\n<p><br /><span st
 yle='text-decoration: underline\;'><strong>Lunch</strong></span></p>\n<p>1
 /2-3/4 cup Mac &amp\; Cheese<br />1 - 2 WW Rolls<br />1/4-1/2 cup Green Be
 ans<br />1/4 cup Pears<br />6 oz.1% Milk (ages 6-12 8 oz)</p>\n<p><br /><s
 pan style='text-decoration: underline\;'><strong>PM Snack</strong></span><
 /p>\n<p>1/4-1/2 cup Graham Crackers<br />4 oz 1% Milk (8 oz for ages 6-12)
 </p>
END:VEVENT
BEGIN:VEVENT
UID:20211222T200000UTC-1773pXFs5v@http://www.denbighchristianacademy.com/
DTSTAMP:20260425T141247Z
CATEGORIES:School Menu
DESCRIPTION:<p><span style='text-decoration: underline\;'><strong>Breakfast
 </strong></span></p>\n<p>2 - 4 French Toast Sticks<br />1/4-1/2 cup Pears<
 br />1/4-1/2 cup Cereal (optional)<br />6 oz. 1% Milk (8 oz for ages 6-12)
 </p>\n<p><br /><span style='text-decoration: underline\;'><strong>AM Snack
 </strong></span></p>\n<p>1/4-1/2 cup Ritz Cheese Bits<br />4 oz Water (8 o
 z for ages 6-12)</p>\n<p><br /><span style='text-decoration: underline\;'>
 <strong>Lunch</strong></span></p>\n<p>1 1/2 - 2 pz PUlled BBQ Chicken&nbsp
 \;<br />1 WW Roll<br />1/4 cup Mashed Potatoes<br />1/4-1/2 cup Peas &amp\
 ; Carrots<br />1/4 cup Mixed Fruit<br />6 oz.1% Milk (ages 6-12 8 oz)</p>
 \n<p><br /><span style='text-decoration: underline\;'><strong>PM Snack</st
 rong></span></p>\n<p>1 - 2 oz Animal Crackers<br />4 oz 100% Apple Juice (
 8 oz for ages 6-12)</p>
DTSTART:20211222T000000Z
DTEND:20211222T235959Z
SUMMARY:Wednesday
URL:https://www.denbighchristianacademy.com/index.php/school-calendar/lunch
 -menu/10-school-menu/766-wednesday
X-ALT-DESC;FMTTYPE=TEXT/HTML:<p><span style='text-decoration: underline\;'>
 <strong>Breakfast</strong></span></p>\n<p>2 - 4 French Toast Sticks<br />1
 /4-1/2 cup Pears<br />1/4-1/2 cup Cereal (optional)<br />6 oz. 1% Milk (8 
 oz for ages 6-12)</p>\n<p><br /><span style='text-decoration: underline\;'
 ><strong>AM Snack</strong></span></p>\n<p>1/4-1/2 cup Ritz Cheese Bits<br 
 />4 oz Water (8 oz for ages 6-12)</p>\n<p><br /><span style='text-decorati
 on: underline\;'><strong>Lunch</strong></span></p>\n<p>1 1/2 - 2 pz PUlled
  BBQ Chicken&nbsp\;<br />1 WW Roll<br />1/4 cup Mashed Potatoes<br />1/4-1
 /2 cup Peas &amp\; Carrots<br />1/4 cup Mixed Fruit<br />6 oz.1% Milk (age
 s 6-12 8 oz)</p>\n<p><br /><span style='text-decoration: underline\;'><str
 ong>PM Snack</strong></span></p>\n<p>1 - 2 oz Animal Crackers<br />4 oz 10
 0% Apple Juice (8 oz for ages 6-12)</p>
END:VEVENT
END:VCALENDAR
