BEGIN:VCALENDAR
VERSION:2.0
PRODID:-//https://www.denbighchristianacademy.com//NONSGML kigkonsult.se iC
 alcreator 2.29.29//
CALSCALE:GREGORIAN
METHOD:PUBLISH
UID:dd09c740-df7d-42a3-a1f6-c0e228632fb2
X-WR-CALNAME:JCal Pro Calendar
X-WR-CALDESC:Your online events calendar
X-WR-TIMEZONE:UTC
BEGIN:VTIMEZONE
TZID:UTC
END:VTIMEZONE
BEGIN:VEVENT
UID:20211213T190000UTC-8862xKZl2r@http://www.denbighchristianacademy.com/
DTSTAMP:20260425T141247Z
CATEGORIES:School Menu
DESCRIPTION:<p><span style='text-decoration: underline\;'><strong>Breakfast
 </strong></span></p>\n<p>1 1/2 oz Belgian Waffle<br />1/4-1/2 cup Mandarin
  Orange<br />1/4-1/2 cup Cereal (optional)<br />6 oz. 1% Milk (8 oz for ag
 es 6-12)</p>\n<p><br /><span style='text-decoration: underline\;'><strong>
 AM Snack</strong></span></p>\n<p>1/4-1/2 cup WG Ritz Crackers &amp\; Chees
 e Cubes<br />4 oz Water (8 oz for ages 6-12)</p>\n<p><br /><span style='te
 xt-decoration: underline\;'><strong>Lunch</strong></span></p>\n<p>1 1/2 - 
 2 oz Meat Loaf<br />1/4 cup Mashed Potatoes<br />1/4-1/2 cup Green Beans<b
 r />1/4-1/2 cup Pineapple<br />6 oz.1% Milk (ages 6-12 8 oz)</p>\n<p><br /
 ><span style='text-decoration: underline\;'><strong>PM Snack</strong></spa
 n></p>\n<p>1.3 oz Nutri Grain Bar<br />4 oz 1% Milk (8 oz for ages 6-12)</
 p>
DTSTART:20211213T000000Z
DTEND:20211213T235959Z
SUMMARY:Monday
URL:https://www.denbighchristianacademy.com/index.php/school-calendar/lunch
 -menu/10-school-menu/759-monday
X-ALT-DESC;FMTTYPE=TEXT/HTML:<p><span style='text-decoration: underline\;'>
 <strong>Breakfast</strong></span></p>\n<p>1 1/2 oz Belgian Waffle<br />1/4
 -1/2 cup Mandarin Orange<br />1/4-1/2 cup Cereal (optional)<br />6 oz. 1% 
 Milk (8 oz for ages 6-12)</p>\n<p><br /><span style='text-decoration: unde
 rline\;'><strong>AM Snack</strong></span></p>\n<p>1/4-1/2 cup WG Ritz Crac
 kers &amp\; Cheese Cubes<br />4 oz Water (8 oz for ages 6-12)</p>\n<p><br 
 /><span style='text-decoration: underline\;'><strong>Lunch</strong></span>
 </p>\n<p>1 1/2 - 2 oz Meat Loaf<br />1/4 cup Mashed Potatoes<br />1/4-1/2 
 cup Green Beans<br />1/4-1/2 cup Pineapple<br />6 oz.1% Milk (ages 6-12 8 
 oz)</p>\n<p><br /><span style='text-decoration: underline\;'><strong>PM Sn
 ack</strong></span></p>\n<p>1.3 oz Nutri Grain Bar<br />4 oz 1% Milk (8 oz
  for ages 6-12)</p>
END:VEVENT
BEGIN:VEVENT
UID:20211214T190000UTC-6886uWXblG@http://www.denbighchristianacademy.com/
DTSTAMP:20260425T141247Z
CATEGORIES:School Menu
DESCRIPTION:<p><span style='text-decoration: underline\;'><strong>Breakfast
 </strong></span></p>\n<p>3.5 oz Cheese Omelet or<br />1 - 2 oz Turkey Saus
 age Patties<br />1/4-1/2 cup Tropical Fruit<br />1/4-1/2 cup Cereal (optio
 nal)<br />6 oz. 1% Milk (8 oz for ages 6-12)</p>\n<p><br /><span style='te
 xt-decoration: underline\;'><strong>AM Snack</strong></span></p>\n<p>1/4-1
 /2 cup WG Chex Mix<br />4 oz 1% Milk (8 oz for ages 6-12)</p>\n<p><br /><s
 pan style='text-decoration: underline\;'><strong>Lunch</strong></span></p>
 \n<p>1 1/2 - 2 oz Beef Frank w/chili<br />1/4-1/2 cup Baked Beans<br />1/4
  cup Tropical Fruit<br />6 oz.1% Milk (ages 6-12 8 oz)</p>\n<p><br /><span
  style='text-decoration: underline\;'><strong>PM Snack</strong></span></p>
 \n<p>1 1/2 oz Package Lorne Doone Cookies<br />4 oz 1% Milk (8 oz for ages
  6-12)</p>
DTSTART:20211214T000000Z
DTEND:20211214T235959Z
SUMMARY:Tuesday
URL:https://www.denbighchristianacademy.com/index.php/school-calendar/lunch
 -menu/10-school-menu/760-tuesday
X-ALT-DESC;FMTTYPE=TEXT/HTML:<p><span style='text-decoration: underline\;'>
 <strong>Breakfast</strong></span></p>\n<p>3.5 oz Cheese Omelet or<br />1 -
  2 oz Turkey Sausage Patties<br />1/4-1/2 cup Tropical Fruit<br />1/4-1/2 
 cup Cereal (optional)<br />6 oz. 1% Milk (8 oz for ages 6-12)</p>\n<p><br 
 /><span style='text-decoration: underline\;'><strong>AM Snack</strong></sp
 an></p>\n<p>1/4-1/2 cup WG Chex Mix<br />4 oz 1% Milk (8 oz for ages 6-12)
 </p>\n<p><br /><span style='text-decoration: underline\;'><strong>Lunch</s
 trong></span></p>\n<p>1 1/2 - 2 oz Beef Frank w/chili<br />1/4-1/2 cup Bak
 ed Beans<br />1/4 cup Tropical Fruit<br />6 oz.1% Milk (ages 6-12 8 oz)</p
 >\n<p><br /><span style='text-decoration: underline\;'><strong>PM Snack</s
 trong></span></p>\n<p>1 1/2 oz Package Lorne Doone Cookies<br />4 oz 1% Mi
 lk (8 oz for ages 6-12)</p>
END:VEVENT
BEGIN:VEVENT
UID:20211215T190000UTC-1948vzVHF0@http://www.denbighchristianacademy.com/
DTSTAMP:20260425T141247Z
CATEGORIES:School Menu
DESCRIPTION:<p><span style='text-decoration: underline\;'><strong>Breakfast
 </strong></span></p>\n<p>1 1/2 oz (2) Pancakes<br />1/4-1/2 cup Pears<br /
 >1/4-1/2 cup Cereal (optional)<br />6 oz. 1% Milk (8 oz for ages 6-12)</p>
 \n<p><br /><span style='text-decoration: underline\;'><strong>AM Snack</st
 rong></span></p>\n<p>1/4-1/2 cup WG Fig Newtons<br />4 oz 1% Milk (8 oz fo
 r ages 6-12)</p>\n<p><br /><span style='text-decoration: underline\;'><str
 ong>Lunch</strong></span></p>\n<p>1 1/2 - 2 oz Pizza<br />1/4-1/2 cup Sala
 d Mix w/Dressing<br />1/4 cup Mixed Fruit<br />6 oz.1% Milk (ages 6-12 8 o
 z)</p>\n<p><br /><span style='text-decoration: underline\;'><strong>PM Sna
 ck</strong></span></p>\n<p>1/4 cup Chocolate Chip Cookies<br />4 oz 100% A
 pple Juice (8 oz for ages 6-12)</p>
DTSTART:20211215T000000Z
DTEND:20211215T235959Z
SUMMARY:Wednesday
URL:https://www.denbighchristianacademy.com/index.php/school-calendar/lunch
 -menu/10-school-menu/761-wednesday
X-ALT-DESC;FMTTYPE=TEXT/HTML:<p><span style='text-decoration: underline\;'>
 <strong>Breakfast</strong></span></p>\n<p>1 1/2 oz (2) Pancakes<br />1/4-1
 /2 cup Pears<br />1/4-1/2 cup Cereal (optional)<br />6 oz. 1% Milk (8 oz f
 or ages 6-12)</p>\n<p><br /><span style='text-decoration: underline\;'><st
 rong>AM Snack</strong></span></p>\n<p>1/4-1/2 cup WG Fig Newtons<br />4 oz
  1% Milk (8 oz for ages 6-12)</p>\n<p><br /><span style='text-decoration: 
 underline\;'><strong>Lunch</strong></span></p>\n<p>1 1/2 - 2 oz Pizza<br /
 >1/4-1/2 cup Salad Mix w/Dressing<br />1/4 cup Mixed Fruit<br />6 oz.1% Mi
 lk (ages 6-12 8 oz)</p>\n<p><br /><span style='text-decoration: underline\
 ;'><strong>PM Snack</strong></span></p>\n<p>1/4 cup Chocolate Chip Cookies
 <br />4 oz 100% Apple Juice (8 oz for ages 6-12)</p>
END:VEVENT
BEGIN:VEVENT
UID:20211216T190000UTC-310792SKV6@http://www.denbighchristianacademy.com/
DTSTAMP:20260425T141247Z
CATEGORIES:School Menu
DESCRIPTION:<p><span style='text-decoration: underline\;'><strong>Breakfast
 </strong></span></p>\n<p>1/4-1/2 cup Oatmeal<br />1/4-1/2 cup Fruit Cockta
 il<br />1/4-1/2 cup Cereal (optional)<br />6 oz. 1% Milk (8 oz for ages 6-
 12)</p>\n<p><br /><span style='text-decoration: underline\;'><strong>AM Sn
 ack</strong></span></p>\n<p>1/4-1/2 cup Goldfish Crackers<br />4 oz 1% Mil
 k (8 oz for ages 6-12)</p>\n<p><br /><span style='text-decoration: underli
 ne\;'><strong>Lunch</strong></span></p>\n<p>1 1/2 - 2 oz Beef &amp\; Macar
 oni<br />1 oz WW Roll<br />1/4-1/2 cup California Vegetable Blend<br />1/4
  cup Fruit Cocktail<br />6 oz.1% Milk (ages 6-12 8 oz)</p>\n<p><br /><span
  style='text-decoration: underline\;'><strong>PM Snack</strong></span></p>
 \n<p>1 .78 oz pack Rice Krispy Treat Bar<br />4 oz 1% Milk (8 oz for ages 
 6-12)</p>
DTSTART:20211216T000000Z
DTEND:20211216T235959Z
SUMMARY:Thursday
URL:https://www.denbighchristianacademy.com/index.php/school-calendar/lunch
 -menu/10-school-menu/762-thursday
X-ALT-DESC;FMTTYPE=TEXT/HTML:<p><span style='text-decoration: underline\;'>
 <strong>Breakfast</strong></span></p>\n<p>1/4-1/2 cup Oatmeal<br />1/4-1/2
  cup Fruit Cocktail<br />1/4-1/2 cup Cereal (optional)<br />6 oz. 1% Milk 
 (8 oz for ages 6-12)</p>\n<p><br /><span style='text-decoration: underline
 \;'><strong>AM Snack</strong></span></p>\n<p>1/4-1/2 cup Goldfish Crackers
 <br />4 oz 1% Milk (8 oz for ages 6-12)</p>\n<p><br /><span style='text-de
 coration: underline\;'><strong>Lunch</strong></span></p>\n<p>1 1/2 - 2 oz 
 Beef &amp\; Macaroni<br />1 oz WW Roll<br />1/4-1/2 cup California Vegetab
 le Blend<br />1/4 cup Fruit Cocktail<br />6 oz.1% Milk (ages 6-12 8 oz)</p
 >\n<p><br /><span style='text-decoration: underline\;'><strong>PM Snack</s
 trong></span></p>\n<p>1 .78 oz pack Rice Krispy Treat Bar<br />4 oz 1% Mil
 k (8 oz for ages 6-12)</p>
END:VEVENT
BEGIN:VEVENT
UID:20211217T200000UTC-8439uV7OVV@http://www.denbighchristianacademy.com/
DTSTAMP:20260425T141247Z
CATEGORIES:School Menu
DESCRIPTION:<p><span style='text-decoration: underline\;'><strong>Breakfast
 </strong></span></p>\n<p>1 - 2 oz Turkey &amp\; Sausage Biscuit<br />1/4-1
 /2 cup Peaches<br />1/4-1/2 cup Cereal (optional)<br />6 oz. 1% Milk (8 oz
  for ages 6-12)</p>\n<p><br /><span style='text-decoration: underline\;'><
 strong>AM Snack</strong></span></p>\n<p>1/4-1/2 cup WG Ritz Bites w/Cheese
  Cubes<br />4 oz 1% Milk (8 oz for ages 6-12)</p>\n<p><br /><span style='t
 ext-decoration: underline\;'><strong>Lunch</strong></span></p>\n<p>2 oz Ha
 mburger/Cheeseburger<br />on WW Bun<br />1/4-1/2 cup Tater Tots<br />1/4 c
 up Mixed Fruit<br />6 oz.1% Milk (ages 6-12 8 oz)</p>\n<p><br /><span styl
 e='text-decoration: underline\;'><strong>PM Snack</strong></span></p>\n<p>
 1 oz Oatmeal Cookie<br />4 oz 1% Milk (8 oz for ages 6-12)</p>
DTSTART:20211217T000000Z
DTEND:20211217T235959Z
SUMMARY:Friday
URL:https://www.denbighchristianacademy.com/index.php/school-calendar/lunch
 -menu/10-school-menu/763-friday
X-ALT-DESC;FMTTYPE=TEXT/HTML:<p><span style='text-decoration: underline\;'>
 <strong>Breakfast</strong></span></p>\n<p>1 - 2 oz Turkey &amp\; Sausage B
 iscuit<br />1/4-1/2 cup Peaches<br />1/4-1/2 cup Cereal (optional)<br />6 
 oz. 1% Milk (8 oz for ages 6-12)</p>\n<p><br /><span style='text-decoratio
 n: underline\;'><strong>AM Snack</strong></span></p>\n<p>1/4-1/2 cup WG Ri
 tz Bites w/Cheese Cubes<br />4 oz 1% Milk (8 oz for ages 6-12)</p>\n<p><br
  /><span style='text-decoration: underline\;'><strong>Lunch</strong></span
 ></p>\n<p>2 oz Hamburger/Cheeseburger<br />on WW Bun<br />1/4-1/2 cup Tate
 r Tots<br />1/4 cup Mixed Fruit<br />6 oz.1% Milk (ages 6-12 8 oz)</p>\n<p
 ><br /><span style='text-decoration: underline\;'><strong>PM Snack</strong
 ></span></p>\n<p>1 oz Oatmeal Cookie<br />4 oz 1% Milk (8 oz for ages 6-12
 )</p>
END:VEVENT
END:VCALENDAR
