BEGIN:VCALENDAR
VERSION:2.0
PRODID:-//https://www.denbighchristianacademy.com//NONSGML kigkonsult.se iC
 alcreator 2.29.29//
CALSCALE:GREGORIAN
METHOD:PUBLISH
UID:663409ee-ce64-432d-aea7-a01838222036
X-WR-CALNAME:JCal Pro Calendar
X-WR-CALDESC:Your online events calendar
X-WR-TIMEZONE:UTC
BEGIN:VTIMEZONE
TZID:UTC
END:VTIMEZONE
BEGIN:VEVENT
UID:20211129T140000UTC-30429Nl0dU@http://www.denbighchristianacademy.com/
DTSTAMP:20260425T124252Z
CATEGORIES:School Menu
DESCRIPTION:<p><span style='text-decoration: underline\;'><strong>Breakfast
 </strong></span></p>\n<p>2 - 4 French Toast Sticks<br />1/4-1/2 cup Pears<
 br />1/4-1/2 cup Cereal (optional)<br />6 oz. 1% Milk (8 oz for ages 6-12)
 </p>\n<p><br /><span style='text-decoration: underline\;'><strong>AM Snack
 </strong></span></p>\n<p>1 pack WG Fig Newtons (2 oz)<br />4 oz 1% Milk (8
  oz for ages 6-12)</p>\n<p><br /><span style='text-decoration: underline\;
 '><strong>Lunch</strong></span></p>\n<p>1 1/2 - 2 oz Salisbury Steak<br />
 1/4-1/2 cup Mixed Vegetables<br />1/4-1/2 cup Mashed Sweet Potatoes<br />1
 /4 cup Mixed Fruit<br />6 oz.1% Milk (ages 6-12 8 oz)</p>\n<p><br /><span 
 style='text-decoration: underline\;'><strong>PM Snack</strong></span></p>
 \n<p>1 (.78 oz) Bar Rice Krispy Treat<br />4 oz 1% Milk (8 oz for ages 6-1
 2)</p>
DTSTART:20211129T000000Z
DTEND:20211129T235959Z
SUMMARY:Monday
URL:https://www.denbighchristianacademy.com/index.php/school-calendar/lunch
 -menu/10-school-menu/735-monday
X-ALT-DESC;FMTTYPE=TEXT/HTML:<p><span style='text-decoration: underline\;'>
 <strong>Breakfast</strong></span></p>\n<p>2 - 4 French Toast Sticks<br />1
 /4-1/2 cup Pears<br />1/4-1/2 cup Cereal (optional)<br />6 oz. 1% Milk (8 
 oz for ages 6-12)</p>\n<p><br /><span style='text-decoration: underline\;'
 ><strong>AM Snack</strong></span></p>\n<p>1 pack WG Fig Newtons (2 oz)<br 
 />4 oz 1% Milk (8 oz for ages 6-12)</p>\n<p><br /><span style='text-decora
 tion: underline\;'><strong>Lunch</strong></span></p>\n<p>1 1/2 - 2 oz Sali
 sbury Steak<br />1/4-1/2 cup Mixed Vegetables<br />1/4-1/2 cup Mashed Swee
 t Potatoes<br />1/4 cup Mixed Fruit<br />6 oz.1% Milk (ages 6-12 8 oz)</p>
 \n<p><br /><span style='text-decoration: underline\;'><strong>PM Snack</st
 rong></span></p>\n<p>1 (.78 oz) Bar Rice Krispy Treat<br />4 oz 1% Milk (8
  oz for ages 6-12)</p>
END:VEVENT
BEGIN:VEVENT
UID:20211130T140000UTC-2134iXb6XB@http://www.denbighchristianacademy.com/
DTSTAMP:20260425T124252Z
CATEGORIES:School Menu
DESCRIPTION:<p><span style='text-decoration: underline\;'><strong>Breakfast
 </strong></span></p>\n<p>1/2 - 1 Bagel w/Cream Cheese<br />1/4-1/2 cup Pin
 eapple<br />1/4-1/2 cup Cereal (optional)<br />6 oz. 1% Milk (8 oz for age
 s 6-12)</p>\n<p><br /><span style='text-decoration: underline\;'><strong>A
 M Snack</strong></span></p>\n<p>1/4-1/2 cup Animal Crackers<br />4 oz 1% M
 ilk (8 oz for ages 6-12)</p>\n<p><br /><span style='text-decoration: under
 line\;'><strong>Lunch</strong></span></p>\n<p>1 1/2 - 2 oz Chicken &amp\; 
 Dumplings<br />1/4-1/2 cup California Vegetable Blend<br />1/4 cup Pineapp
 le<br />1 WW Roll<br />6 oz.1% Milk (ages 6-12 8 oz)</p>\n<p><br /><span s
 tyle='text-decoration: underline\;'><strong>PM Snack</strong></span></p>\n
 <p>1 - 2 oz Graham Crackers<br />4 oz 1% Milk (8 oz for ages 6-12)</p>
DTSTART:20211130T000000Z
DTEND:20211130T235959Z
SUMMARY:Tuesday
URL:https://www.denbighchristianacademy.com/index.php/school-calendar/lunch
 -menu/10-school-menu/736-tuesday
X-ALT-DESC;FMTTYPE=TEXT/HTML:<p><span style='text-decoration: underline\;'>
 <strong>Breakfast</strong></span></p>\n<p>1/2 - 1 Bagel w/Cream Cheese<br 
 />1/4-1/2 cup Pineapple<br />1/4-1/2 cup Cereal (optional)<br />6 oz. 1% M
 ilk (8 oz for ages 6-12)</p>\n<p><br /><span style='text-decoration: under
 line\;'><strong>AM Snack</strong></span></p>\n<p>1/4-1/2 cup Animal Cracke
 rs<br />4 oz 1% Milk (8 oz for ages 6-12)</p>\n<p><br /><span style='text-
 decoration: underline\;'><strong>Lunch</strong></span></p>\n<p>1 1/2 - 2 o
 z Chicken &amp\; Dumplings<br />1/4-1/2 cup California Vegetable Blend<br 
 />1/4 cup Pineapple<br />1 WW Roll<br />6 oz.1% Milk (ages 6-12 8 oz)</p>
 \n<p><br /><span style='text-decoration: underline\;'><strong>PM Snack</st
 rong></span></p>\n<p>1 - 2 oz Graham Crackers<br />4 oz 1% Milk (8 oz for 
 ages 6-12)</p>
END:VEVENT
BEGIN:VEVENT
UID:20211201T150000UTC-1303GUOfuI@http://www.denbighchristianacademy.com/
DTSTAMP:20260425T124252Z
CATEGORIES:School Menu
DESCRIPTION:<p><span style='text-decoration: underline\;'><strong>Breakfast
 </strong></span></p>\n<p>1 1/2 oz Biscuit w/Gravy<br />1/4-1/2 cup Fruit C
 ocktail<br />1/4-1/2 cup Cereal (optional)<br />6 oz. 1% Milk (8 oz for ag
 es 6-12)</p>\n<p><br /><span style='text-decoration: underline\;'><strong>
 AM Snack</strong></span></p>\n<p>1/4-1/2 cup WG Cheez-it Crackers<br />4 o
 z 1% Milk (8 oz for ages 6-12)</p>\n<p><br /><span style='text-decoration:
  underline\;'><strong>Lunch</strong></span></p>\n<p>1 1/2 - 2 oz Spaghetti
 <br />1/2-1 Garlic Bread Stick<br />1/4-1/2 cp Salad Mix w/Dressing<br />1
 /4 cup Fruit Cocktail<br />6 oz.1% Milk (ages 6-12 8 oz)</p>\n<p><br /><sp
 an style='text-decoration: underline\;'><strong>PM Snack</strong></span></
 p>\n<p>1/4-1/2 cup Pretzels<br />4 oz 100% Apple Juice (8 oz for ages 6-12
 )</p>
DTSTART:20211201T000000Z
DTEND:20211201T235959Z
SUMMARY:Wednesday
URL:https://www.denbighchristianacademy.com/index.php/school-calendar/lunch
 -menu/10-school-menu/737-wednesday
X-ALT-DESC;FMTTYPE=TEXT/HTML:<p><span style='text-decoration: underline\;'>
 <strong>Breakfast</strong></span></p>\n<p>1 1/2 oz Biscuit w/Gravy<br />1/
 4-1/2 cup Fruit Cocktail<br />1/4-1/2 cup Cereal (optional)<br />6 oz. 1% 
 Milk (8 oz for ages 6-12)</p>\n<p><br /><span style='text-decoration: unde
 rline\;'><strong>AM Snack</strong></span></p>\n<p>1/4-1/2 cup WG Cheez-it 
 Crackers<br />4 oz 1% Milk (8 oz for ages 6-12)</p>\n<p><br /><span style=
 'text-decoration: underline\;'><strong>Lunch</strong></span></p>\n<p>1 1/2
  - 2 oz Spaghetti<br />1/2-1 Garlic Bread Stick<br />1/4-1/2 cp Salad Mix 
 w/Dressing<br />1/4 cup Fruit Cocktail<br />6 oz.1% Milk (ages 6-12 8 oz)<
 /p>\n<p><br /><span style='text-decoration: underline\;'><strong>PM Snack<
 /strong></span></p>\n<p>1/4-1/2 cup Pretzels<br />4 oz 100% Apple Juice (8
  oz for ages 6-12)</p>
END:VEVENT
BEGIN:VEVENT
UID:20211202T150000UTC-1549nBxAgg@http://www.denbighchristianacademy.com/
DTSTAMP:20260425T124252Z
CATEGORIES:School Menu
DESCRIPTION:<p><span style='text-decoration: underline\;'><strong>Breakfast
 </strong></span></p>\n<p>1 1/2 oz (2) Pancakes<br />1/4-1/2 cup Peaches<br
  />1/4-1/2 cup Cereal (optional)<br />6 oz. 1% Milk (8 oz for ages 6-12)</
 p>\n<p><br /><span style='text-decoration: underline\;'><strong>AM Snack</
 strong></span></p>\n<p>1/4-1/2 cup Teddy Graham Crackers<br />4 oz 1% Milk
  (8 oz for ages 6-12)</p>\n<p><br /><span style='text-decoration: underlin
 e\;'><strong>Lunch</strong></span></p>\n<p>1 1/2 - 2 oz Chicken Tenders<br
  />1/4-1/2 cup Veggie Fried Rice<br />1/4 cup Peaches<br />6 oz.1% Milk (a
 ges 6-12 8 oz)</p>\n<p><br /><span style='text-decoration: underline\;'><s
 trong>PM Snack</strong></span></p>\n<p>1 pack Lorne Doone Cookies 1.5 oz<b
 r />4 oz 1% Milk (8 oz for ages 6-12)</p>
DTSTART:20211202T000000Z
DTEND:20211202T235959Z
SUMMARY:Thursday
URL:https://www.denbighchristianacademy.com/index.php/school-calendar/lunch
 -menu/10-school-menu/738-thursday
X-ALT-DESC;FMTTYPE=TEXT/HTML:<p><span style='text-decoration: underline\;'>
 <strong>Breakfast</strong></span></p>\n<p>1 1/2 oz (2) Pancakes<br />1/4-1
 /2 cup Peaches<br />1/4-1/2 cup Cereal (optional)<br />6 oz. 1% Milk (8 oz
  for ages 6-12)</p>\n<p><br /><span style='text-decoration: underline\;'><
 strong>AM Snack</strong></span></p>\n<p>1/4-1/2 cup Teddy Graham Crackers<
 br />4 oz 1% Milk (8 oz for ages 6-12)</p>\n<p><br /><span style='text-dec
 oration: underline\;'><strong>Lunch</strong></span></p>\n<p>1 1/2 - 2 oz C
 hicken Tenders<br />1/4-1/2 cup Veggie Fried Rice<br />1/4 cup Peaches<br 
 />6 oz.1% Milk (ages 6-12 8 oz)</p>\n<p><br /><span style='text-decoration
 : underline\;'><strong>PM Snack</strong></span></p>\n<p>1 pack Lorne Doone
  Cookies 1.5 oz<br />4 oz 1% Milk (8 oz for ages 6-12)</p>
END:VEVENT
BEGIN:VEVENT
UID:20211203T150000UTC-6258bNFlf6@http://www.denbighchristianacademy.com/
DTSTAMP:20260425T124252Z
CATEGORIES:School Menu
DESCRIPTION:<p><span style='text-decoration: underline\;'><strong>Breakfast
 </strong></span></p>\n<p>1/4-1/2 cup Oatmeal<br />1/4-1/2 cup Tropical Fru
 it<br />1/4-1/2 cup Cereal (optional)<br />6 oz. 1% Milk (8 oz for ages 6-
 12)</p>\n<p><br /><span style='text-decoration: underline\;'><strong>AM Sn
 ack</strong></span></p>\n<p>1/4-1/2 cup Chex Mix<br />4 oz 1% Milk (8 oz f
 or ages 6-12)</p>\n<p><br /><span style='text-decoration: underline\;'><st
 rong>Lunch</strong></span></p>\n<p>1 1/2 - 2 oz Pizza<br />1/4-1/2 cup Suc
 cotash<br />1/4 cup Tropical Fruit<br />6 oz.1% Milk (ages 6-12 8 oz)</p>
 \n<p><br /><span style='text-decoration: underline\;'><strong>PM Snack</st
 rong></span></p>\n<p>1/4-1/2 cup Chocolate Chip Cookies<br />4 oz 1% Milk 
 (8 oz for ages 6-12)</p>
DTSTART:20211203T000000Z
DTEND:20211203T235959Z
SUMMARY:Friday
URL:https://www.denbighchristianacademy.com/index.php/school-calendar/lunch
 -menu/10-school-menu/739-friday
X-ALT-DESC;FMTTYPE=TEXT/HTML:<p><span style='text-decoration: underline\;'>
 <strong>Breakfast</strong></span></p>\n<p>1/4-1/2 cup Oatmeal<br />1/4-1/2
  cup Tropical Fruit<br />1/4-1/2 cup Cereal (optional)<br />6 oz. 1% Milk 
 (8 oz for ages 6-12)</p>\n<p><br /><span style='text-decoration: underline
 \;'><strong>AM Snack</strong></span></p>\n<p>1/4-1/2 cup Chex Mix<br />4 o
 z 1% Milk (8 oz for ages 6-12)</p>\n<p><br /><span style='text-decoration:
  underline\;'><strong>Lunch</strong></span></p>\n<p>1 1/2 - 2 oz Pizza<br 
 />1/4-1/2 cup Succotash<br />1/4 cup Tropical Fruit<br />6 oz.1% Milk (age
 s 6-12 8 oz)</p>\n<p><br /><span style='text-decoration: underline\;'><str
 ong>PM Snack</strong></span></p>\n<p>1/4-1/2 cup Chocolate Chip Cookies<br
  />4 oz 1% Milk (8 oz for ages 6-12)</p>
END:VEVENT
END:VCALENDAR
