BEGIN:VCALENDAR
VERSION:2.0
PRODID:-//https://www.denbighchristianacademy.com//NONSGML kigkonsult.se iC
 alcreator 2.29.29//
CALSCALE:GREGORIAN
METHOD:PUBLISH
UID:88a12971-1240-44f0-8878-682622b8c918
X-WR-CALNAME:JCal Pro Calendar
X-WR-CALDESC:Your online events calendar
X-WR-TIMEZONE:UTC
BEGIN:VTIMEZONE
TZID:UTC
END:VTIMEZONE
BEGIN:VEVENT
UID:20210426T190000UTC-4273jbgdb3@http://www.denbighchristianacademy.com/
DTSTAMP:20260425T014108Z
CATEGORIES:School Menu
DESCRIPTION:<p><span style='text-decoration: underline\;'><strong>Breakfast
 </strong></span></p>\n<p>1 1/2 oz Belgian Waffle<br />1/4-1/2 cup Pineappl
 e<br />1/4-1/2 cup Cereal (optional)<br />6 oz. 1% Milk (8 oz for ages 6-1
 2)</p>\n<p><br /><span style='text-decoration: underline\;'><strong>AM Sna
 ck</strong></span></p>\n<p>1/4-1/2 cup Pretzels<br />4 oz 1% Milk (8 oz fo
 r ages 6-12)</p>\n<p><br /><span style='text-decoration: underline\;'><str
 ong>Lunch</strong></span></p>\n<p>1 1/2 - 2 oz Chicken Nuggets<br />1 WW B
 read<br />1/4-1/2 cup Mixed Vegetables<br />1/4 cup Tropical Fruit<br />6 
 oz.1% Milk (ages 6-12 8 oz)</p>\n<p><br /><span style='text-decoration: un
 derline\;'><strong>PM Snack</strong></span></p>\n<p>1/4-1/2 cup Animal Cra
 ckers<br />4 oz 1% Milk (8 oz for ages 6-12)</p>
DTSTART:20210426T000000Z
DTEND:20210426T235959Z
SUMMARY:Monday
URL:https://www.denbighchristianacademy.com/index.php/school-calendar/lunch
 -menu/10-school-menu/541-monday
X-ALT-DESC;FMTTYPE=TEXT/HTML:<p><span style='text-decoration: underline\;'>
 <strong>Breakfast</strong></span></p>\n<p>1 1/2 oz Belgian Waffle<br />1/4
 -1/2 cup Pineapple<br />1/4-1/2 cup Cereal (optional)<br />6 oz. 1% Milk (
 8 oz for ages 6-12)</p>\n<p><br /><span style='text-decoration: underline\
 ;'><strong>AM Snack</strong></span></p>\n<p>1/4-1/2 cup Pretzels<br />4 oz
  1% Milk (8 oz for ages 6-12)</p>\n<p><br /><span style='text-decoration: 
 underline\;'><strong>Lunch</strong></span></p>\n<p>1 1/2 - 2 oz Chicken Nu
 ggets<br />1 WW Bread<br />1/4-1/2 cup Mixed Vegetables<br />1/4 cup Tropi
 cal Fruit<br />6 oz.1% Milk (ages 6-12 8 oz)</p>\n<p><br /><span style='te
 xt-decoration: underline\;'><strong>PM Snack</strong></span></p>\n<p>1/4-1
 /2 cup Animal Crackers<br />4 oz 1% Milk (8 oz for ages 6-12)</p>
END:VEVENT
BEGIN:VEVENT
UID:20210427T190000UTC-0690SAOBgI@http://www.denbighchristianacademy.com/
DTSTAMP:20260425T014108Z
CATEGORIES:School Menu
DESCRIPTION:<p><span style='text-decoration: underline\;'><strong>Breakfast
 </strong></span></p>\n<p>1/2-1 Bagel w/Cream Cheese<br />1/4-1/2 cup Peach
 es<br />1/4-1/2 cup Cereal (optional)<br />6 oz. 1% Milk (8 oz for ages 6-
 12)</p>\n<p><br /><span style='text-decoration: underline\;'><strong>AM Sn
 ack</strong></span></p>\n<p>1/4-1/2 cup Orange Slices<br />4 oz Water (8 o
 z for ages 6-12)</p>\n<p><br /><span style='text-decoration: underline\;'>
 <strong>Lunch</strong></span></p>\n<p>1 1/2 oz Beef Frank w/WW Bun<br />1/
 4-1/2 cup Baked Beans<br />1/4 cup Peaches<br />6 oz.1% Milk (ages 6-12 8 
 oz)</p>\n<p><br /><span style='text-decoration: underline\;'><strong>PM Sn
 ack</strong></span></p>\n<p>1 pack Lorne Doone Cookies (1.5 oz)<br />4 oz 
 1% Milk (8 oz for ages 6-12)</p>
DTSTART:20210427T000000Z
DTEND:20210427T235959Z
SUMMARY:Tuesday
URL:https://www.denbighchristianacademy.com/index.php/school-calendar/lunch
 -menu/10-school-menu/542-tuesday
X-ALT-DESC;FMTTYPE=TEXT/HTML:<p><span style='text-decoration: underline\;'>
 <strong>Breakfast</strong></span></p>\n<p>1/2-1 Bagel w/Cream Cheese<br />
 1/4-1/2 cup Peaches<br />1/4-1/2 cup Cereal (optional)<br />6 oz. 1% Milk 
 (8 oz for ages 6-12)</p>\n<p><br /><span style='text-decoration: underline
 \;'><strong>AM Snack</strong></span></p>\n<p>1/4-1/2 cup Orange Slices<br 
 />4 oz Water (8 oz for ages 6-12)</p>\n<p><br /><span style='text-decorati
 on: underline\;'><strong>Lunch</strong></span></p>\n<p>1 1/2 oz Beef Frank
  w/WW Bun<br />1/4-1/2 cup Baked Beans<br />1/4 cup Peaches<br />6 oz.1% M
 ilk (ages 6-12 8 oz)</p>\n<p><br /><span style='text-decoration: underline
 \;'><strong>PM Snack</strong></span></p>\n<p>1 pack Lorne Doone Cookies (1
 .5 oz)<br />4 oz 1% Milk (8 oz for ages 6-12)</p>
END:VEVENT
BEGIN:VEVENT
UID:20210428T190000UTC-4970g0Uhde@http://www.denbighchristianacademy.com/
DTSTAMP:20260425T014108Z
CATEGORIES:School Menu
DESCRIPTION:<p><span style='text-decoration: underline\;'><strong>Breakfast
 </strong></span></p>\n<p>2 - 4 Freach Toast Sticks<br />1/4-1/2 cup Fruit 
 Cocktail<br />1/4-1/2 cup Cereal (optional)<br />6 oz. 1% Milk (8 oz for a
 ges 6-12)</p>\n<p><br /><span style='text-decoration: underline\;'><strong
 >AM Snack</strong></span></p>\n<p>1/4-1/2 cup WG Fig Newtons<br />4 oz 1% 
 Milk (8 oz for ages 6-12)</p>\n<p><br /><span style='text-decoration: unde
 rline\;'><strong>Lunch</strong></span></p>\n<p>1 1/2 - 2 oz Meat &amp\; Sa
 uce Nachos<br />w/1-2 oz Tortillas<br />1/4-1/2 cup Seasoned Corn<br />1/4
  cup Fruit Cocktail&nbsp\;<br />6 oz.1% Milk (ages 6-12 8 oz)</p>\n<p><br 
 /><span style='text-decoration: underline\;'><strong>PM Snack</strong></sp
 an></p>\n<p>1/4 cup Oatmeal Cookie<br />4 oz 1% Milk (8 oz for ages 6-12)<
 /p>
DTSTART:20210428T000000Z
DTEND:20210428T235959Z
SUMMARY:Wednesday
URL:https://www.denbighchristianacademy.com/index.php/school-calendar/lunch
 -menu/10-school-menu/543-wednesday
X-ALT-DESC;FMTTYPE=TEXT/HTML:<p><span style='text-decoration: underline\;'>
 <strong>Breakfast</strong></span></p>\n<p>2 - 4 Freach Toast Sticks<br />1
 /4-1/2 cup Fruit Cocktail<br />1/4-1/2 cup Cereal (optional)<br />6 oz. 1%
  Milk (8 oz for ages 6-12)</p>\n<p><br /><span style='text-decoration: und
 erline\;'><strong>AM Snack</strong></span></p>\n<p>1/4-1/2 cup WG Fig Newt
 ons<br />4 oz 1% Milk (8 oz for ages 6-12)</p>\n<p><br /><span style='text
 -decoration: underline\;'><strong>Lunch</strong></span></p>\n<p>1 1/2 - 2 
 oz Meat &amp\; Sauce Nachos<br />w/1-2 oz Tortillas<br />1/4-1/2 cup Seaso
 ned Corn<br />1/4 cup Fruit Cocktail&nbsp\;<br />6 oz.1% Milk (ages 6-12 8
  oz)</p>\n<p><br /><span style='text-decoration: underline\;'><strong>PM S
 nack</strong></span></p>\n<p>1/4 cup Oatmeal Cookie<br />4 oz 1% Milk (8 o
 z for ages 6-12)</p>
END:VEVENT
BEGIN:VEVENT
UID:20210429T190000UTC-2620CNTg9T@http://www.denbighchristianacademy.com/
DTSTAMP:20260425T014108Z
CATEGORIES:School Menu
DESCRIPTION:<p><span style='text-decoration: underline\;'><strong>Breakfast
 </strong></span></p>\n<p>1/4-1/2 cup Oatmeal<br />1/4-1/2 cup Pineapple<br
  />1/4-1/2 cup Cereal (optional)<br />6 oz. 1% Milk (8 oz for ages 6-12)</
 p>\n<p><br /><span style='text-decoration: underline\;'><strong>AM Snack</
 strong></span></p>\n<p>1 WG Nutri Grain Bar (1.3 oz)<br />4 oz 1% Milk (8 
 oz for ages 6-12)</p>\n<p><br /><span style='text-decoration: underline\;'
 ><strong>Lunch</strong></span></p>\n<p>1 1/2 - 2 oz Lazagna<br />1/4-1/2 c
 up Salad Mix &amp\; Dressing<br />1/2 - 1 Garlic Breadstick<br />1/4 cup P
 ineapples<br />6 oz.1% Milk (ages 6-12 8 oz)</p>\n<p><br /><span style='te
 xt-decoration: underline\;'><strong>PM Snack</strong></span></p>\n<p>1 pac
 k Teddy Graham Crackers (.75 oz)<br />4 oz 100% Apple Juice (8 oz for ages
  6-12)</p>
DTSTART:20210429T000000Z
DTEND:20210429T235959Z
SUMMARY:Thursday
URL:https://www.denbighchristianacademy.com/index.php/school-calendar/lunch
 -menu/10-school-menu/544-thursday
X-ALT-DESC;FMTTYPE=TEXT/HTML:<p><span style='text-decoration: underline\;'>
 <strong>Breakfast</strong></span></p>\n<p>1/4-1/2 cup Oatmeal<br />1/4-1/2
  cup Pineapple<br />1/4-1/2 cup Cereal (optional)<br />6 oz. 1% Milk (8 oz
  for ages 6-12)</p>\n<p><br /><span style='text-decoration: underline\;'><
 strong>AM Snack</strong></span></p>\n<p>1 WG Nutri Grain Bar (1.3 oz)<br /
 >4 oz 1% Milk (8 oz for ages 6-12)</p>\n<p><br /><span style='text-decorat
 ion: underline\;'><strong>Lunch</strong></span></p>\n<p>1 1/2 - 2 oz Lazag
 na<br />1/4-1/2 cup Salad Mix &amp\; Dressing<br />1/2 - 1 Garlic Breadsti
 ck<br />1/4 cup Pineapples<br />6 oz.1% Milk (ages 6-12 8 oz)</p>\n<p><br 
 /><span style='text-decoration: underline\;'><strong>PM Snack</strong></sp
 an></p>\n<p>1 pack Teddy Graham Crackers (.75 oz)<br />4 oz 100% Apple Jui
 ce (8 oz for ages 6-12)</p>
END:VEVENT
BEGIN:VEVENT
UID:20210430T190000UTC-9987cDHTiI@http://www.denbighchristianacademy.com/
DTSTAMP:20260425T014108Z
CATEGORIES:School Menu
DESCRIPTION:<p><span style='text-decoration: underline\;'><strong>Breakfast
 </strong></span></p>\n<p>1 - 2 Pancakes<br />1/4-1/2 cup Mixed Fruit<br />
 1/4-1/2 cup Cereal (optional)<br />6 oz. 1% Milk (8 oz for ages 6-12)</p>
 \n<p><br /><span style='text-decoration: underline\;'><strong>AM Snack</st
 rong></span></p>\n<p>1/4-1/2 cup WG Cheez-it Crackers<br />4 oz 1% Milk (8
  oz for ages 6-12)</p>\n<p><br /><span style='text-decoration: underline\;
 '><strong>Lunch</strong></span></p>\n<p>1 1/2 - 2 oz Breaded Fish<br />1/4
 -1/2 cup Mashed Potatoes<br />1/4-1/2 cup California Vegetable Blend<br />
 1/4 cup Sugar Free Jello Fruit Cocktail<br />6 oz.1% Milk (ages 6-12 8 oz)
 </p>\n<p><br /><span style='text-decoration: underline\;'><strong>PM Snack
 </strong></span></p>\n<p>1/4-1/2 cup Chocolate Chip Cookies<br />4 oz 1% M
 ilk (8 oz for ages 6-12)</p>
DTSTART:20210430T000000Z
DTEND:20210430T235959Z
SUMMARY:Friday
URL:https://www.denbighchristianacademy.com/index.php/school-calendar/lunch
 -menu/10-school-menu/545-friday
X-ALT-DESC;FMTTYPE=TEXT/HTML:<p><span style='text-decoration: underline\;'>
 <strong>Breakfast</strong></span></p>\n<p>1 - 2 Pancakes<br />1/4-1/2 cup 
 Mixed Fruit<br />1/4-1/2 cup Cereal (optional)<br />6 oz. 1% Milk (8 oz fo
 r ages 6-12)</p>\n<p><br /><span style='text-decoration: underline\;'><str
 ong>AM Snack</strong></span></p>\n<p>1/4-1/2 cup WG Cheez-it Crackers<br /
 >4 oz 1% Milk (8 oz for ages 6-12)</p>\n<p><br /><span style='text-decorat
 ion: underline\;'><strong>Lunch</strong></span></p>\n<p>1 1/2 - 2 oz Bread
 ed Fish<br />1/4-1/2 cup Mashed Potatoes<br />1/4-1/2 cup California Veget
 able Blend<br />1/4 cup Sugar Free Jello Fruit Cocktail<br />6 oz.1% Milk 
 (ages 6-12 8 oz)</p>\n<p><br /><span style='text-decoration: underline\;'>
 <strong>PM Snack</strong></span></p>\n<p>1/4-1/2 cup Chocolate Chip Cookie
 s<br />4 oz 1% Milk (8 oz for ages 6-12)</p>
END:VEVENT
END:VCALENDAR
