BEGIN:VCALENDAR
VERSION:2.0
PRODID:-//https://www.denbighchristianacademy.com//NONSGML kigkonsult.se iC
 alcreator 2.29.29//
CALSCALE:GREGORIAN
METHOD:PUBLISH
UID:74c21e1a-6b70-4f25-a2e5-4904a04e1cd6
X-WR-CALNAME:JCal Pro Calendar
X-WR-CALDESC:Your online events calendar
X-WR-TIMEZONE:UTC
BEGIN:VTIMEZONE
TZID:UTC
END:VTIMEZONE
BEGIN:VEVENT
UID:20210222T170000UTC-64239XcoVX@http://www.denbighchristianacademy.com/
DTSTAMP:20260424T220801Z
CATEGORIES:School Menu
DESCRIPTION:<p><span style='text-decoration: underline\; font-size: 12pt\;'
 ><strong><span style='font-size: 10pt\;'>Breakfast</span><br /></strong></
 span></p>\n<p><span style='text-decoration: underline\;'></span>2-4 French
  Sticks<br />1/4-1/2 cup Pears<br />1/4-1/2 cup Cereal (optional)<br />6 o
 z 1% Milk (8 oz for ages 6-12)</p>\n<p><span style='text-decoration: under
 line\;'><strong>A.M. Snack</strong></span></p>\n<p>1 pack WG Fig Newtons (
 2 oz)<br />4 oz 1% Milk (8 oz for ages 6-12)</p>\n<p><span style='text-dec
 oration: underline\;'><strong>Lunch</strong></span></p>\n<p>1 1/2-2 oz Sal
 isbury Steak w/Gravy<br />1/4-1/2 cup WG Brown Rice<br />1/4-1/2 cup Peas 
 &amp\; Carrots<br />1/4 cup Pears<br />6 oz 1% Milk (ages 6-12 8 oz)</p>\n
 <p><span style='text-decoration: underline\;'><strong>PM Snack</strong></s
 pan></p>\n<p>1 Rice Krispy Treat Bar (.78 oz)<br />4 oz 1% Milk (8 oz for 
 ages 6-12)</p>\n<p>&nbsp\;</p>
DTSTART:20210222T000000Z
DTEND:20210222T235959Z
SUMMARY:Monday
URL:https://www.denbighchristianacademy.com/index.php/school-calendar/lunch
 -menu/10-school-menu/497-monday
X-ALT-DESC;FMTTYPE=TEXT/HTML:<p><span style='text-decoration: underline\; f
 ont-size: 12pt\;'><strong><span style='font-size: 10pt\;'>Breakfast</span>
 <br /></strong></span></p>\n<p><span style='text-decoration: underline\;'>
 </span>2-4 French Sticks<br />1/4-1/2 cup Pears<br />1/4-1/2 cup Cereal (o
 ptional)<br />6 oz 1% Milk (8 oz for ages 6-12)</p>\n<p><span style='text-
 decoration: underline\;'><strong>A.M. Snack</strong></span></p>\n<p>1 pack
  WG Fig Newtons (2 oz)<br />4 oz 1% Milk (8 oz for ages 6-12)</p>\n<p><spa
 n style='text-decoration: underline\;'><strong>Lunch</strong></span></p>\n
 <p>1 1/2-2 oz Salisbury Steak w/Gravy<br />1/4-1/2 cup WG Brown Rice<br />
 1/4-1/2 cup Peas &amp\; Carrots<br />1/4 cup Pears<br />6 oz 1% Milk (ages
  6-12 8 oz)</p>\n<p><span style='text-decoration: underline\;'><strong>PM 
 Snack</strong></span></p>\n<p>1 Rice Krispy Treat Bar (.78 oz)<br />4 oz 1
 % Milk (8 oz for ages 6-12)</p>\n<p>&nbsp\;</p>
END:VEVENT
BEGIN:VEVENT
UID:20210223T180000UTC-1825pzUph8@http://www.denbighchristianacademy.com/
DTSTAMP:20260424T220801Z
CATEGORIES:School Menu
DESCRIPTION:<p><span style='text-decoration: underline\; font-size: 10pt\;'
 ><strong>Breakfast</strong></span></p>\n<p>1/2-1 Bagel w/Cream Cheese<br /
 >1/4-1/2 cup Pineapple<br />1/4-1/2 cup Cereal (opotional)<br />6 oz 1% Mi
 lk (8 oz for ages 6-12)</p>\n<p><strong><span style='text-decoration: unde
 rline\;'>AM Snack</span></strong><span style='text-decoration: underline\;
 '></span></p>\n<p>1/4-1/2 cup Ritz Crackers<br />1/2 oz Cheese Cubes<br />
 4 oz Water (8 oz for ages 6-12)</p>\n<p><strong><span style='text-decorati
 on: underline\;'>Lunch</span></strong><span style='text-decoration: underl
 ine\;'></span></p>\n<p>1 1/2-2 oz Chicken &amp\; Dumplings<br />1/4-1/2 cu
 p Mixed Vegetables<br />1 WW Roll<br />1/4 cup Pineapple<br />6 oz 1% Milk
  (8 oz for ages 6-12)</p>\n<p><strong><span style='text-decoration: underl
 ine\;'>PM Snack</span></strong><span style='text-decoration: underline\;'>
 </span></p>\n<p>1-2 oz Graham Crackers<br />4 oz 1% Milk (8 oz for ages 6-
 12)</p>
DTSTART:20210223T000000Z
DTEND:20210223T235959Z
SUMMARY:Tuesday
URL:https://www.denbighchristianacademy.com/index.php/school-calendar/lunch
 -menu/10-school-menu/498-tuesday
X-ALT-DESC;FMTTYPE=TEXT/HTML:<p><span style='text-decoration: underline\; f
 ont-size: 10pt\;'><strong>Breakfast</strong></span></p>\n<p>1/2-1 Bagel w/
 Cream Cheese<br />1/4-1/2 cup Pineapple<br />1/4-1/2 cup Cereal (opotional
 )<br />6 oz 1% Milk (8 oz for ages 6-12)</p>\n<p><strong><span style='text
 -decoration: underline\;'>AM Snack</span></strong><span style='text-decora
 tion: underline\;'></span></p>\n<p>1/4-1/2 cup Ritz Crackers<br />1/2 oz C
 heese Cubes<br />4 oz Water (8 oz for ages 6-12)</p>\n<p><strong><span sty
 le='text-decoration: underline\;'>Lunch</span></strong><span style='text-d
 ecoration: underline\;'></span></p>\n<p>1 1/2-2 oz Chicken &amp\; Dumpling
 s<br />1/4-1/2 cup Mixed Vegetables<br />1 WW Roll<br />1/4 cup Pineapple<
 br />6 oz 1% Milk (8 oz for ages 6-12)</p>\n<p><strong><span style='text-d
 ecoration: underline\;'>PM Snack</span></strong><span style='text-decorati
 on: underline\;'></span></p>\n<p>1-2 oz Graham Crackers<br />4 oz 1% Milk 
 (8 oz for ages 6-12)</p>
END:VEVENT
BEGIN:VEVENT
UID:20210224T180000UTC-2054tLGWck@http://www.denbighchristianacademy.com/
DTSTAMP:20260424T220801Z
CATEGORIES:School Menu
DESCRIPTION:<p><span style='text-decoration: underline\; font-size: 10pt\;'
 ><strong>Breakfast</strong></span></p>\n<p>1 1/2 oz Biscuit w/Gravy<br />1
 /4-1/2 cup Fruit Cocktail<br />1/4-1/2 cup Cereal (optional)<br />6 oz 1% 
 Milk (8 oz for ages 6-12)</p>\n<p><span style='text-decoration: underline\
 ;'><strong>AM Snack</strong></span></p>\n<p>1/3-1/2 cup WG Cheez-it Cracke
 rs<br />4 oz 1% Milk (8 oz for ages 6-12)</p>\n<p><span style='text-decora
 tion: underline\;'><strong>Lunch</strong></span></p>\n<p>1 1/2-2 oz Spaghe
 tti<br />1/4-1/2 cup Salad Mix w/Dressing<br />1/2-1 Garlic Bread Stick<br
  />1/4 cup Fruit Cocktail<br />6 oz 1% Milk (8 oz for ages 6-12)</p>\n<p><
 span style='text-decoration: underline\;'><strong>PM Snack</strong></span>
 </p>\n<p><strong></strong>1/4-1/2 cup Pretzels<br />4 oz 100% Apple Juice<
 br />(8 oz for ages 6-12)</p>
DTSTART:20210224T000000Z
DTEND:20210224T235959Z
SUMMARY:Wednesday
URL:https://www.denbighchristianacademy.com/index.php/school-calendar/lunch
 -menu/10-school-menu/499-wednesday
X-ALT-DESC;FMTTYPE=TEXT/HTML:<p><span style='text-decoration: underline\; f
 ont-size: 10pt\;'><strong>Breakfast</strong></span></p>\n<p>1 1/2 oz Biscu
 it w/Gravy<br />1/4-1/2 cup Fruit Cocktail<br />1/4-1/2 cup Cereal (option
 al)<br />6 oz 1% Milk (8 oz for ages 6-12)</p>\n<p><span style='text-decor
 ation: underline\;'><strong>AM Snack</strong></span></p>\n<p>1/3-1/2 cup W
 G Cheez-it Crackers<br />4 oz 1% Milk (8 oz for ages 6-12)</p>\n<p><span s
 tyle='text-decoration: underline\;'><strong>Lunch</strong></span></p>\n<p>
 1 1/2-2 oz Spaghetti<br />1/4-1/2 cup Salad Mix w/Dressing<br />1/2-1 Garl
 ic Bread Stick<br />1/4 cup Fruit Cocktail<br />6 oz 1% Milk (8 oz for age
 s 6-12)</p>\n<p><span style='text-decoration: underline\;'><strong>PM Snac
 k</strong></span></p>\n<p><strong></strong>1/4-1/2 cup Pretzels<br />4 oz 
 100% Apple Juice<br />(8 oz for ages 6-12)</p>
END:VEVENT
BEGIN:VEVENT
UID:20210225T180000UTC-2099uNVuCu@http://www.denbighchristianacademy.com/
DTSTAMP:20260424T220801Z
CATEGORIES:School Menu
DESCRIPTION:<p><span style='text-decoration: underline\; font-size: 10pt\;'
 ><strong>Breakfast</strong></span></p>\n<p>1-2 Pancakes<br />1/4-1/2 cup P
 eaches<br />1/4-1/2 cup Cereal (optional)<br />6 oz 1% Milk (8 oz for ages
  6-12)</p>\n<p><span style='text-decoration: underline\;'><strong>AM Snack
 </strong></span></p>\n<p>1/4-1/2 cp Teddy Graham Crackers<br />4 oz 1% Mil
 k (8 oz for ages 6-12)</p>\n<p><span style='text-decoration: underline\;'>
 <strong>Lunch</strong></span></p>\n<p>1 1/2-2 oz Fried WG Brown Rice w/Chi
 cken<br />1/4-1/2 cup Green Peas<br />1/4 cup Peaches<br />6 oz 1% Milk (8
  oz for ages 6-12)</p>\n<p><span style='text-decoration: underline\;'><str
 ong>PM Snack</strong></span></p>\n<p>1 package Lorne Doone Cookies (1.5 oz
 )<br />4 oz 1% Milk (8 oz for ages 6-12)</p>
DTSTART:20210225T000000Z
DTEND:20210225T235959Z
SUMMARY:Thursday
URL:https://www.denbighchristianacademy.com/index.php/school-calendar/lunch
 -menu/10-school-menu/500-thursday
X-ALT-DESC;FMTTYPE=TEXT/HTML:<p><span style='text-decoration: underline\; f
 ont-size: 10pt\;'><strong>Breakfast</strong></span></p>\n<p>1-2 Pancakes<b
 r />1/4-1/2 cup Peaches<br />1/4-1/2 cup Cereal (optional)<br />6 oz 1% Mi
 lk (8 oz for ages 6-12)</p>\n<p><span style='text-decoration: underline\;'
 ><strong>AM Snack</strong></span></p>\n<p>1/4-1/2 cp Teddy Graham Crackers
 <br />4 oz 1% Milk (8 oz for ages 6-12)</p>\n<p><span style='text-decorati
 on: underline\;'><strong>Lunch</strong></span></p>\n<p>1 1/2-2 oz Fried WG
  Brown Rice w/Chicken<br />1/4-1/2 cup Green Peas<br />1/4 cup Peaches<br 
 />6 oz 1% Milk (8 oz for ages 6-12)</p>\n<p><span style='text-decoration: 
 underline\;'><strong>PM Snack</strong></span></p>\n<p>1 package Lorne Doon
 e Cookies (1.5 oz)<br />4 oz 1% Milk (8 oz for ages 6-12)</p>
END:VEVENT
BEGIN:VEVENT
UID:20210226T180000UTC-7268bRiSS8@http://www.denbighchristianacademy.com/
DTSTAMP:20260424T220801Z
CATEGORIES:School Menu
DESCRIPTION:<p><span style='text-decoration: underline\; font-size: 10pt\;'
 ><strong>Breakfast</strong></span></p>\n<p>1/4-1/2 cup Oatmeal<br />1/4-1/
 2 cup Apple Sauce<br />1/4-1/2 cup Cereal (optional)<br />6 oz 1% Milk (8 
 oz for ages 6-12)</p>\n<p><strong><span style='text-decoration: underline\
 ;'>AM Snack</span></strong><span style='text-decoration: underline\;'></sp
 an></p>\n<p>1-2 packages 1.5 oz Veggie Sticks<br />4 oz 1% Milk (8 oz for 
 ages 6-12)</p>\n<p><strong><span style='text-decoration: underline\;'>Lunc
 h</span></strong><span style='text-decoration: underline\;'></span></p>\n<
 p>1 1/2-2 oz Beef &amp\; Maccaroni<br />1/4-1/2 cup Broccoli<br />1 WW Rol
 l<br />1/4 cup Tropical Fruit<br />6 oz 1% Milk (8 oz for ages 6-12)</p>\n
 <p><span style='text-decoration: underline\;'><strong>PM Snack</strong></s
 pan></p>\n<p>1/4-1/2 cup Goldfish Crackers<br />4 oz 100% Apple Juice (8 o
 z for ages 6-12)</p>
DTSTART:20210226T000000Z
DTEND:20210226T235959Z
SUMMARY:Friday
URL:https://www.denbighchristianacademy.com/index.php/school-calendar/lunch
 -menu/10-school-menu/501-friday
X-ALT-DESC;FMTTYPE=TEXT/HTML:<p><span style='text-decoration: underline\; f
 ont-size: 10pt\;'><strong>Breakfast</strong></span></p>\n<p>1/4-1/2 cup Oa
 tmeal<br />1/4-1/2 cup Apple Sauce<br />1/4-1/2 cup Cereal (optional)<br /
 >6 oz 1% Milk (8 oz for ages 6-12)</p>\n<p><strong><span style='text-decor
 ation: underline\;'>AM Snack</span></strong><span style='text-decoration: 
 underline\;'></span></p>\n<p>1-2 packages 1.5 oz Veggie Sticks<br />4 oz 1
 % Milk (8 oz for ages 6-12)</p>\n<p><strong><span style='text-decoration: 
 underline\;'>Lunch</span></strong><span style='text-decoration: underline\
 ;'></span></p>\n<p>1 1/2-2 oz Beef &amp\; Maccaroni<br />1/4-1/2 cup Brocc
 oli<br />1 WW Roll<br />1/4 cup Tropical Fruit<br />6 oz 1% Milk (8 oz for
  ages 6-12)</p>\n<p><span style='text-decoration: underline\;'><strong>PM 
 Snack</strong></span></p>\n<p>1/4-1/2 cup Goldfish Crackers<br />4 oz 100%
  Apple Juice (8 oz for ages 6-12)</p>
END:VEVENT
END:VCALENDAR
