BEGIN:VCALENDAR
VERSION:2.0
PRODID:-//https://www.denbighchristianacademy.com//NONSGML kigkonsult.se iC
 alcreator 2.29.29//
CALSCALE:GREGORIAN
METHOD:PUBLISH
UID:7e6fd618-1276-4eaf-8110-04008d5da6f5
X-WR-CALNAME:JCal Pro Calendar
X-WR-CALDESC:Your online events calendar
X-WR-TIMEZONE:UTC
BEGIN:VTIMEZONE
TZID:UTC
END:VTIMEZONE
BEGIN:VEVENT
UID:20210201T150000UTC-2445H6paC8@http://www.denbighchristianacademy.com/
DTSTAMP:20260424T204759Z
CATEGORIES:School Menu
DESCRIPTION:<p><span style='text-decoration: underline\;'><strong>Breakfast
 </strong></span></p>\n<p>1/2-1 Bagel w/Cream Cheese<br />1/4-1/2 cup Pinea
 pple<br />1/4-1/2 cup Cereal (optional)<br />6 oz. 1% Milk (8 oz for ages 
 6-12)</p>\n<p><br /><span style='text-decoration: underline\;'><strong>AM 
 Snack</strong></span></p>\n<p>1/4-1/2 cup Pretzels<br />4 oz 1% Milk (8 oz
  for ages 6-12)</p>\n<p><br /><span style='text-decoration: underline\;'><
 strong>Lunch</strong></span></p>\n<p>1 1/2 - 2oz Chicken Nuggets<br />1/4-
 1/2 cup Vegetable Spring Blend<br />1/4 cup Tropical Fruit<br />6 oz.1% Mi
 lk (ages 6-12 8 oz)</p>\n<p><br /><span style='text-decoration: underline\
 ;'><strong>PM Snack</strong></span></p>\n<p>1/4-1/2 cup Nilla Wafers<br />
 4 oz 1% Milk (8 oz for ages 6-12)</p>
DTSTART:20210201T000000Z
DTEND:20210201T235959Z
SUMMARY:Monday
URL:https://www.denbighchristianacademy.com/index.php/school-calendar/lunch
 -menu/10-school-menu/477-monday
X-ALT-DESC;FMTTYPE=TEXT/HTML:<p><span style='text-decoration: underline\;'>
 <strong>Breakfast</strong></span></p>\n<p>1/2-1 Bagel w/Cream Cheese<br />
 1/4-1/2 cup Pineapple<br />1/4-1/2 cup Cereal (optional)<br />6 oz. 1% Mil
 k (8 oz for ages 6-12)</p>\n<p><br /><span style='text-decoration: underli
 ne\;'><strong>AM Snack</strong></span></p>\n<p>1/4-1/2 cup Pretzels<br />4
  oz 1% Milk (8 oz for ages 6-12)</p>\n<p><br /><span style='text-decoratio
 n: underline\;'><strong>Lunch</strong></span></p>\n<p>1 1/2 - 2oz Chicken 
 Nuggets<br />1/4-1/2 cup Vegetable Spring Blend<br />1/4 cup Tropical Frui
 t<br />6 oz.1% Milk (ages 6-12 8 oz)</p>\n<p><br /><span style='text-decor
 ation: underline\;'><strong>PM Snack</strong></span></p>\n<p>1/4-1/2 cup N
 illa Wafers<br />4 oz 1% Milk (8 oz for ages 6-12)</p>
END:VEVENT
BEGIN:VEVENT
UID:20210202T160000UTC-3622UI1GVr@http://www.denbighchristianacademy.com/
DTSTAMP:20260424T204759Z
CATEGORIES:School Menu
DESCRIPTION:<p><span style='text-decoration: underline\;'><strong>Breakfast
 </strong></span></p>\n<p>1/4-1/2 cup Beef Gravy &amp\; 1/2-1 Biscuit<br />
 1/4-1/2 cup Peaches<br />1/4-1/2 cup Cereal (optional)<br />6 oz. 1% Milk 
 (8 oz for ages 6-12)</p>\n<p><br /><span style='text-decoration: underline
 \;'><strong>AM Snack</strong></span></p>\n<p>1/4-1/2 cup Ritz Crackers\, 1
 /2 oz Cheese Cubes<br />4 oz Water (8 oz for ages 6-12)</p>\n<p><br /><spa
 n style='text-decoration: underline\;'><strong>Lunch</strong></span></p>\n
 <p>1 1/2 - 2 oz Meat &amp\; Sauce Nachos<br />w/1-2 oz Tortillas<br />1/4-
 1/2 cup Seasoned Corn<br />1/4 cup Peaches<br />6 oz.1% Milk (ages 6-12 8 
 oz)</p>\n<p><br /><span style='text-decoration: underline\;'><strong>PM Sn
 ack</strong></span></p>\n<p>1 Nutri Grain Bar (1.3 oz)<br />4 oz 1% Milk (
 8 oz for ages 6-12)</p>
DTSTART:20210202T000000Z
DTEND:20210202T235959Z
SUMMARY:Tuesday
URL:https://www.denbighchristianacademy.com/index.php/school-calendar/lunch
 -menu/10-school-menu/478-tuesday
X-ALT-DESC;FMTTYPE=TEXT/HTML:<p><span style='text-decoration: underline\;'>
 <strong>Breakfast</strong></span></p>\n<p>1/4-1/2 cup Beef Gravy &amp\; 1/
 2-1 Biscuit<br />1/4-1/2 cup Peaches<br />1/4-1/2 cup Cereal (optional)<br
  />6 oz. 1% Milk (8 oz for ages 6-12)</p>\n<p><br /><span style='text-deco
 ration: underline\;'><strong>AM Snack</strong></span></p>\n<p>1/4-1/2 cup 
 Ritz Crackers\, 1/2 oz Cheese Cubes<br />4 oz Water (8 oz for ages 6-12)</
 p>\n<p><br /><span style='text-decoration: underline\;'><strong>Lunch</str
 ong></span></p>\n<p>1 1/2 - 2 oz Meat &amp\; Sauce Nachos<br />w/1-2 oz To
 rtillas<br />1/4-1/2 cup Seasoned Corn<br />1/4 cup Peaches<br />6 oz.1% M
 ilk (ages 6-12 8 oz)</p>\n<p><br /><span style='text-decoration: underline
 \;'><strong>PM Snack</strong></span></p>\n<p>1 Nutri Grain Bar (1.3 oz)<br
  />4 oz 1% Milk (8 oz for ages 6-12)</p>
END:VEVENT
BEGIN:VEVENT
UID:20210203T160000UTC-7305BPxT6A@http://www.denbighchristianacademy.com/
DTSTAMP:20260424T204759Z
CATEGORIES:School Menu
DESCRIPTION:<p><span style='text-decoration: underline\;'><strong>Breakfast
 </strong></span></p>\n<p>2 - 4 French Toast Sticks<br />1/4-1/2 cup Fruit 
 Cocktail<br />1/4-1/2 cup Cereal (optional)<br />6 oz. 1% Milk (8 oz for a
 ges 6-12)</p>\n<p><br /><span style='text-decoration: underline\;'><strong
 >AM Snack</strong></span></p>\n<p>1/4-1/2 cup Goldfish<br />4 oz 1% Milk (
 8 oz for ages 6-12)</p>\n<p><br /><span style='text-decoration: underline\
 ;'><strong>Lunch</strong></span></p>\n<p>1 1/2 - 2 oz Breaded Fish<br />1/
 4-1/2 cup Mashed Potatoes<br />1/4-1/2&nbsp\; cup Mixed Vegetables<br />1/
 4 cup Mixed Fruit<br />6 oz.1% Milk (ages 6-12 8 oz)</p>\n<p><br /><span s
 tyle='text-decoration: underline\;'><strong>PM Snack</strong></span></p>\n
 <p>1/4-1/2 cup Oatmeal Cookie<br />4 oz 1% Milk (8 oz for ages 6-12)</p>
DTSTART:20210203T000000Z
DTEND:20210203T235959Z
SUMMARY:Wednesday
URL:https://www.denbighchristianacademy.com/index.php/school-calendar/lunch
 -menu/10-school-menu/479-wednesday
X-ALT-DESC;FMTTYPE=TEXT/HTML:<p><span style='text-decoration: underline\;'>
 <strong>Breakfast</strong></span></p>\n<p>2 - 4 French Toast Sticks<br />1
 /4-1/2 cup Fruit Cocktail<br />1/4-1/2 cup Cereal (optional)<br />6 oz. 1%
  Milk (8 oz for ages 6-12)</p>\n<p><br /><span style='text-decoration: und
 erline\;'><strong>AM Snack</strong></span></p>\n<p>1/4-1/2 cup Goldfish<br
  />4 oz 1% Milk (8 oz for ages 6-12)</p>\n<p><br /><span style='text-decor
 ation: underline\;'><strong>Lunch</strong></span></p>\n<p>1 1/2 - 2 oz Bre
 aded Fish<br />1/4-1/2 cup Mashed Potatoes<br />1/4-1/2&nbsp\; cup Mixed V
 egetables<br />1/4 cup Mixed Fruit<br />6 oz.1% Milk (ages 6-12 8 oz)</p>
 \n<p><br /><span style='text-decoration: underline\;'><strong>PM Snack</st
 rong></span></p>\n<p>1/4-1/2 cup Oatmeal Cookie<br />4 oz 1% Milk (8 oz fo
 r ages 6-12)</p>
END:VEVENT
BEGIN:VEVENT
UID:20210204T160000UTC-1028ujT3pU@http://www.denbighchristianacademy.com/
DTSTAMP:20260424T204759Z
CATEGORIES:School Menu
DESCRIPTION:<p><span style='text-decoration: underline\;'><strong>Breakfast
 </strong></span></p>\n<p>1/4-1/2 cup Oatmeal<br />1/4-1/2 cup Pineapple<br
  />1/4-1/2 cup Cereal (optional)<br />6 oz. 1% Milk (8 oz for ages 6-12)</
 p>\n<p><br /><span style='text-decoration: underline\;'><strong>AM Snack</
 strong></span></p>\n<p>1/4-1/2 cup Teddy Grahams<br />4 oz 1% Milk (8 oz f
 or ages 6-12)</p>\n<p><br /><span style='text-decoration: underline\;'><st
 rong>Lunch</strong></span></p>\n<p>1 1/2 - 2 oz Lasagna<br />1 - 2 Garlic 
 Breadsticks<br />1/4-1/2 cup Salad Mix &amp\; Dressing<br />1/4 cup Pineap
 ple<br />6 oz.1% Milk (ages 6-12 8 oz)</p>\n<p><br /><span style='text-dec
 oration: underline\;'><strong>PM Snack</strong></span></p>\n<p>1/4-1/2 cup
  Cheez-it Crackers<br />4 oz 100% Apple Juice (8 oz for ages 6-12)</p>
DTSTART:20210204T000000Z
DTEND:20210204T235959Z
SUMMARY:Thursday
URL:https://www.denbighchristianacademy.com/index.php/school-calendar/lunch
 -menu/10-school-menu/480-thursday
X-ALT-DESC;FMTTYPE=TEXT/HTML:<p><span style='text-decoration: underline\;'>
 <strong>Breakfast</strong></span></p>\n<p>1/4-1/2 cup Oatmeal<br />1/4-1/2
  cup Pineapple<br />1/4-1/2 cup Cereal (optional)<br />6 oz. 1% Milk (8 oz
  for ages 6-12)</p>\n<p><br /><span style='text-decoration: underline\;'><
 strong>AM Snack</strong></span></p>\n<p>1/4-1/2 cup Teddy Grahams<br />4 o
 z 1% Milk (8 oz for ages 6-12)</p>\n<p><br /><span style='text-decoration:
  underline\;'><strong>Lunch</strong></span></p>\n<p>1 1/2 - 2 oz Lasagna<b
 r />1 - 2 Garlic Breadsticks<br />1/4-1/2 cup Salad Mix &amp\; Dressing<br
  />1/4 cup Pineapple<br />6 oz.1% Milk (ages 6-12 8 oz)</p>\n<p><br /><spa
 n style='text-decoration: underline\;'><strong>PM Snack</strong></span></p
 >\n<p>1/4-1/2 cup Cheez-it Crackers<br />4 oz 100% Apple Juice (8 oz for a
 ges 6-12)</p>
END:VEVENT
BEGIN:VEVENT
UID:20210205T160000UTC-4921EU5OPP@http://www.denbighchristianacademy.com/
DTSTAMP:20260424T204759Z
CATEGORIES:School Menu
DESCRIPTION:<p><span style='text-decoration: underline\;'><strong>Breakfast
 </strong></span></p>\n<p>1 - 2 Pancakes<br />1/4-1/2 cup Mixed Fruit<br />
 1/4-1/2 cup Cereal (optional)<br />6 oz. 1% Milk (8 oz for ages 6-12)</p>
 \n<p><br /><span style='text-decoration: underline\;'><strong>AM Snack</st
 rong></span></p>\n<p>1/4-1/2 cup Mixed Fruit<br />1 oz Graham Cracker<br /
 >4 oz 1% Milk (8 oz for ages 6-12)</p>\n<p><br /><span style='text-decorat
 ion: underline\;'><strong>Lunch</strong></span></p>\n<p>2.75 - 5.5 oz Pizz
 a<br />1/4-1/2 cup Green Beans<br />1/4 cup Sugar Free Jello Fruit Cocktai
 l<br />6 oz.1% Milk (ages 6-12 8 oz)</p>\n<p><br /><span style='text-decor
 ation: underline\;'><strong>PM Snack</strong></span></p>\n<p>1/4-1/2 cup C
 hocolate Chip Cookies<br />4 oz 1% Milk (8 oz for ages 6-12)</p>
DTSTART:20210205T000000Z
DTEND:20210205T235959Z
SUMMARY:Friday
URL:https://www.denbighchristianacademy.com/index.php/school-calendar/lunch
 -menu/10-school-menu/481-friday
X-ALT-DESC;FMTTYPE=TEXT/HTML:<p><span style='text-decoration: underline\;'>
 <strong>Breakfast</strong></span></p>\n<p>1 - 2 Pancakes<br />1/4-1/2 cup 
 Mixed Fruit<br />1/4-1/2 cup Cereal (optional)<br />6 oz. 1% Milk (8 oz fo
 r ages 6-12)</p>\n<p><br /><span style='text-decoration: underline\;'><str
 ong>AM Snack</strong></span></p>\n<p>1/4-1/2 cup Mixed Fruit<br />1 oz Gra
 ham Cracker<br />4 oz 1% Milk (8 oz for ages 6-12)</p>\n<p><br /><span sty
 le='text-decoration: underline\;'><strong>Lunch</strong></span></p>\n<p>2.
 75 - 5.5 oz Pizza<br />1/4-1/2 cup Green Beans<br />1/4 cup Sugar Free Jel
 lo Fruit Cocktail<br />6 oz.1% Milk (ages 6-12 8 oz)</p>\n<p><br /><span s
 tyle='text-decoration: underline\;'><strong>PM Snack</strong></span></p>\n
 <p>1/4-1/2 cup Chocolate Chip Cookies<br />4 oz 1% Milk (8 oz for ages 6-1
 2)</p>
END:VEVENT
END:VCALENDAR
