BEGIN:VCALENDAR
VERSION:2.0
PRODID:-//https://www.denbighchristianacademy.com//NONSGML kigkonsult.se iC
 alcreator 2.29.29//
CALSCALE:GREGORIAN
METHOD:PUBLISH
UID:556d6d98-913a-4a6f-a0ad-5b06f0641e37
X-WR-CALNAME:JCal Pro Calendar
X-WR-CALDESC:Your online events calendar
X-WR-TIMEZONE:UTC
BEGIN:VTIMEZONE
TZID:UTC
END:VTIMEZONE
BEGIN:VEVENT
UID:20200610T140000UTC-4088v20cu9@http://www.denbighchristianacademy.com/
DTSTAMP:20260424T192252Z
CATEGORIES:School Menu
DESCRIPTION:<p><span style='text-decoration: underline\;'><strong>Breakfast
 </strong></span></p>\n<p>Cream of Wheat<br />1/4-1/2 cup Pears<br />Cereal
  (optional)<br />6 oz. 1% Milk (8 oz for ages 6-12)</p>\n<p><br /><span st
 yle='text-decoration: underline\;'><strong>AM Snack</strong></span></p>\n<
 p>1/4 cup Cheez-it Crackers<br />4 oz 1% Milk (8 oz for ages 6-12)</p>\n<p
 ><br /><span style='text-decoration: underline\;'><strong>Lunch</strong></
 span></p>\n<p>1 1/2 oz Pollack Fish Sticks<br />1/4 cup Sweet Peas<br />1/
 4 cup Jello<br />6 oz.1% Milk (ages 6-12 8 oz)</p>\n<p><br /><span style='
 text-decoration: underline\;'><strong>PM Snack</strong></span></p>\n<p>1/4
  cup Pretzels<br />4 oz 100% Apple Juice (8 oz for ages 6-12)</p>
DTSTART:20200610T000000Z
DTEND:20200610T235959Z
SUMMARY:Wednesday
URL:https://www.denbighchristianacademy.com/index.php/school-calendar/lunch
 -menu/10-school-menu/311-wednesday
X-ALT-DESC;FMTTYPE=TEXT/HTML:<p><span style='text-decoration: underline\;'>
 <strong>Breakfast</strong></span></p>\n<p>Cream of Wheat<br />1/4-1/2 cup 
 Pears<br />Cereal (optional)<br />6 oz. 1% Milk (8 oz for ages 6-12)</p>\n
 <p><br /><span style='text-decoration: underline\;'><strong>AM Snack</stro
 ng></span></p>\n<p>1/4 cup Cheez-it Crackers<br />4 oz 1% Milk (8 oz for a
 ges 6-12)</p>\n<p><br /><span style='text-decoration: underline\;'><strong
 >Lunch</strong></span></p>\n<p>1 1/2 oz Pollack Fish Sticks<br />1/4 cup S
 weet Peas<br />1/4 cup Jello<br />6 oz.1% Milk (ages 6-12 8 oz)</p>\n<p><b
 r /><span style='text-decoration: underline\;'><strong>PM Snack</strong></
 span></p>\n<p>1/4 cup Pretzels<br />4 oz 100% Apple Juice (8 oz for ages 6
 -12)</p>
END:VEVENT
BEGIN:VEVENT
UID:20200611T150000UTC-7058vwtfkT@http://www.denbighchristianacademy.com/
DTSTAMP:20260424T192252Z
CATEGORIES:School Menu
DESCRIPTION:<p><span style='text-decoration: underline\;'><strong>Breakfast
 </strong></span></p>\n<p>Pancakes<br />1/4-1/2 cup Peaches<br />Cereal (op
 tional)<br />6 oz. 1% Milk (8 oz for ages 6-12)</p>\n<p><br /><span style=
 'text-decoration: underline\;'><strong>AM Snack</strong></span></p>\n<p>1/
 4 cup Fresh Carrots w/1 tsp. Ranch Dip<br />4 oz 1% Milk (8 oz for ages 6-
 12)</p>\n<p><br /><span style='text-decoration: underline\;'><strong>Lunch
 </strong></span></p>\n<p>1 1/2 oz Spaghetti w/Meat Sauce<br />Garlic Bread
  Stick<br />1/4 cup Salad Mix &amp\; Dressing<br />1/4 cup Peaches<br />6 
 oz.1% Milk (ages 6-12 8 oz)</p>\n<p><br /><span style='text-decoration: un
 derline\;'><strong>PM Snack</strong></span></p>\n<p>Lorna Doone Cookies<br
  />4 oz 1% Milk (8 oz for ages 6-12)</p>
DTSTART:20200611T000000Z
DTEND:20200611T235959Z
SUMMARY:Thursday
URL:https://www.denbighchristianacademy.com/index.php/school-calendar/lunch
 -menu/10-school-menu/312-thursday
X-ALT-DESC;FMTTYPE=TEXT/HTML:<p><span style='text-decoration: underline\;'>
 <strong>Breakfast</strong></span></p>\n<p>Pancakes<br />1/4-1/2 cup Peache
 s<br />Cereal (optional)<br />6 oz. 1% Milk (8 oz for ages 6-12)</p>\n<p><
 br /><span style='text-decoration: underline\;'><strong>AM Snack</strong><
 /span></p>\n<p>1/4 cup Fresh Carrots w/1 tsp. Ranch Dip<br />4 oz 1% Milk 
 (8 oz for ages 6-12)</p>\n<p><br /><span style='text-decoration: underline
 \;'><strong>Lunch</strong></span></p>\n<p>1 1/2 oz Spaghetti w/Meat Sauce<
 br />Garlic Bread Stick<br />1/4 cup Salad Mix &amp\; Dressing<br />1/4 cu
 p Peaches<br />6 oz.1% Milk (ages 6-12 8 oz)</p>\n<p><br /><span style='te
 xt-decoration: underline\;'><strong>PM Snack</strong></span></p>\n<p>Lorna
  Doone Cookies<br />4 oz 1% Milk (8 oz for ages 6-12)</p>
END:VEVENT
BEGIN:VEVENT
UID:20200612T150000UTC-89426aCOEJ@http://www.denbighchristianacademy.com/
DTSTAMP:20260424T192252Z
CATEGORIES:School Menu
DESCRIPTION:<p><span style='text-decoration: underline\;'><strong>Breakfast
 </strong></span></p>\n<p>1/4-1/2 cup Oatmeal<br />1/4-1/2 cup Apple Sauce<
 br />Cereal (optional)<br />6 oz. 1% Milk (8 oz for ages 6-12)</p>\n<p><br
  /><span style='text-decoration: underline\;'><strong>AM Snack</strong></s
 pan></p>\n<p>Banana<br />4 oz 1% Milk (8 oz for ages 6-12)</p>\n<p><br /><
 span style='text-decoration: underline\;'><strong>Lunch</strong></span></p
 >\n<p>1 1/2 oz Turkey/Cheese<br />Whole Wheat Bread<br />1/4 cup Tater Tot
 s<br />1/4 cup Applesauce<br />6 oz.1% Milk (ages 6-12 8 oz)</p>\n<p><br /
 ><span style='text-decoration: underline\;'><strong>PM Snack</strong></spa
 n></p>\n<p>1/4 cup Goldfish<br />4 oz 100% Apple Juice (8 oz for ages 6-12
 )</p>
DTSTART:20200612T000000Z
DTEND:20200612T235959Z
SUMMARY:Friday
URL:https://www.denbighchristianacademy.com/index.php/school-calendar/lunch
 -menu/10-school-menu/313-friday
X-ALT-DESC;FMTTYPE=TEXT/HTML:<p><span style='text-decoration: underline\;'>
 <strong>Breakfast</strong></span></p>\n<p>1/4-1/2 cup Oatmeal<br />1/4-1/2
  cup Apple Sauce<br />Cereal (optional)<br />6 oz. 1% Milk (8 oz for ages 
 6-12)</p>\n<p><br /><span style='text-decoration: underline\;'><strong>AM 
 Snack</strong></span></p>\n<p>Banana<br />4 oz 1% Milk (8 oz for ages 6-12
 )</p>\n<p><br /><span style='text-decoration: underline\;'><strong>Lunch</
 strong></span></p>\n<p>1 1/2 oz Turkey/Cheese<br />Whole Wheat Bread<br />
 1/4 cup Tater Tots<br />1/4 cup Applesauce<br />6 oz.1% Milk (ages 6-12 8 
 oz)</p>\n<p><br /><span style='text-decoration: underline\;'><strong>PM Sn
 ack</strong></span></p>\n<p>1/4 cup Goldfish<br />4 oz 100% Apple Juice (8
  oz for ages 6-12)</p>
END:VEVENT
END:VCALENDAR
