BEGIN:VCALENDAR
VERSION:2.0
PRODID:-//https://www.denbighchristianacademy.com//NONSGML kigkonsult.se iC
 alcreator 2.29.29//
CALSCALE:GREGORIAN
METHOD:PUBLISH
UID:a6b3f25a-68ad-4a0c-b3ad-87841621c02f
X-WR-CALNAME:JCal Pro Calendar
X-WR-CALDESC:Your online events calendar
X-WR-TIMEZONE:UTC
BEGIN:VTIMEZONE
TZID:UTC
END:VTIMEZONE
BEGIN:VEVENT
UID:20200217T180000UTC-1467uKFUkW@http://www.denbighchristianacademy.com/
DTSTAMP:20260424T132542Z
CATEGORIES:School Menu
DESCRIPTION:<p><span style='text-decoration: underline\;'><strong>Breakfast
 </strong></span></p>\n<p>&nbsp\;</p>\n<p><br /><span style='text-decoratio
 n: underline\;'><strong>AM Snack</strong></span></p>\n<p>&nbsp\;</p>\n<p><
 br /><span style='text-decoration: underline\;'><strong>Lunch</strong></sp
 an></p>\n<p>&nbsp\;</p>\n<p><br /><span style='text-decoration: underline\
 ;'><strong>PM Snack</strong></span></p>\n<p>&nbsp\;</p>
DTSTART:20200217T000000Z
DTEND:20200217T235959Z
SUMMARY:Monday - Closed for Presidents Day
URL:https://www.denbighchristianacademy.com/index.php/school-calendar/lunch
 -menu/10-school-menu/178-monday
X-ALT-DESC;FMTTYPE=TEXT/HTML:<p><span style='text-decoration: underline\;'>
 <strong>Breakfast</strong></span></p>\n<p>&nbsp\;</p>\n<p><br /><span styl
 e='text-decoration: underline\;'><strong>AM Snack</strong></span></p>\n<p>
 &nbsp\;</p>\n<p><br /><span style='text-decoration: underline\;'><strong>L
 unch</strong></span></p>\n<p>&nbsp\;</p>\n<p><br /><span style='text-decor
 ation: underline\;'><strong>PM Snack</strong></span></p>\n<p>&nbsp\;</p>
END:VEVENT
BEGIN:VEVENT
UID:20200218T180000UTC-30656GUUJX@http://www.denbighchristianacademy.com/
DTSTAMP:20260424T132542Z
CATEGORIES:School Menu
DESCRIPTION:<p><span style='text-decoration: underline\;'><strong>Breakfast
 </strong></span></p>\n<p>Bagels &amp\; Cream Cheese<br />1/4-1/2 cup Peach
 es<br />Cereal (optional)<br />6 oz. 1% Milk (8 oz for ages 6-12)</p>\n<p>
 <br /><span style='text-decoration: underline\;'><strong>AM Snack</strong>
 </span></p>\n<p>Cracker &amp\; 1/2 oz Cheese Cubes<br />4 oz Water (8 oz f
 or ages 6-12)</p>\n<p><br /><span style='text-decoration: underline\;'><st
 rong>Lunch</strong></span></p>\n<p>1 1/2 oz Chicken &amp\; Dumplings<br />
 1/4 cup Butter Beans<br />1/4 cup Pineapple<br />6 oz.1% Milk (ages 6-12 8
  oz)</p>\n<p><br /><span style='text-decoration: underline\;'><strong>PM S
 nack</strong></span></p>\n<p>Graham Cracker<br />4 oz 1% Milk (8 oz for ag
 es 6-12)</p>
DTSTART:20200218T000000Z
DTEND:20200218T235959Z
SUMMARY:Tuesday
URL:https://www.denbighchristianacademy.com/index.php/school-calendar/lunch
 -menu/10-school-menu/179-tuesday
X-ALT-DESC;FMTTYPE=TEXT/HTML:<p><span style='text-decoration: underline\;'>
 <strong>Breakfast</strong></span></p>\n<p>Bagels &amp\; Cream Cheese<br />
 1/4-1/2 cup Peaches<br />Cereal (optional)<br />6 oz. 1% Milk (8 oz for ag
 es 6-12)</p>\n<p><br /><span style='text-decoration: underline\;'><strong>
 AM Snack</strong></span></p>\n<p>Cracker &amp\; 1/2 oz Cheese Cubes<br />4
  oz Water (8 oz for ages 6-12)</p>\n<p><br /><span style='text-decoration:
  underline\;'><strong>Lunch</strong></span></p>\n<p>1 1/2 oz Chicken &amp\
 ; Dumplings<br />1/4 cup Butter Beans<br />1/4 cup Pineapple<br />6 oz.1% 
 Milk (ages 6-12 8 oz)</p>\n<p><br /><span style='text-decoration: underlin
 e\;'><strong>PM Snack</strong></span></p>\n<p>Graham Cracker<br />4 oz 1% 
 Milk (8 oz for ages 6-12)</p>
END:VEVENT
BEGIN:VEVENT
UID:20200219T180000UTC-2420i1lHVO@http://www.denbighchristianacademy.com/
DTSTAMP:20260424T132542Z
CATEGORIES:School Menu
DESCRIPTION:<p><span style='text-decoration: underline\;'><strong>Breakfast
 </strong></span></p>\n<p>Cream of Wheat<br />1/4-1/2 cup Pears<br />Cereal
  (optional)<br />6 oz. 1% Milk (8 oz for ages 6-12)</p>\n<p><br /><span st
 yle='text-decoration: underline\;'><strong>AM Snack</strong></span></p>\n<
 p>1/4 cup Chex Mix<br />4 oz 1% Milk (8 oz for ages 6-12)</p>\n<p><br /><s
 pan style='text-decoration: underline\;'><strong>Lunch</strong></span></p>
 \n<p>1 1/2 oz Pollack Fish Sticks<br />1/4 cup Corn<br />1/4 cup Applesauc
 e<br />6 oz.1% Milk (ages 6-12 8 oz)</p>\n<p><br /><span style='text-decor
 ation: underline\;'><strong>PM Snack</strong></span></p>\n<p>Nutri Grain B
 ar<br />4 oz 1% Milk (8 oz for ages 6-12)</p>
DTSTART:20200219T000000Z
DTEND:20200219T235959Z
SUMMARY:Wednesday
URL:https://www.denbighchristianacademy.com/index.php/school-calendar/lunch
 -menu/10-school-menu/180-wednesday
X-ALT-DESC;FMTTYPE=TEXT/HTML:<p><span style='text-decoration: underline\;'>
 <strong>Breakfast</strong></span></p>\n<p>Cream of Wheat<br />1/4-1/2 cup 
 Pears<br />Cereal (optional)<br />6 oz. 1% Milk (8 oz for ages 6-12)</p>\n
 <p><br /><span style='text-decoration: underline\;'><strong>AM Snack</stro
 ng></span></p>\n<p>1/4 cup Chex Mix<br />4 oz 1% Milk (8 oz for ages 6-12)
 </p>\n<p><br /><span style='text-decoration: underline\;'><strong>Lunch</s
 trong></span></p>\n<p>1 1/2 oz Pollack Fish Sticks<br />1/4 cup Corn<br />
 1/4 cup Applesauce<br />6 oz.1% Milk (ages 6-12 8 oz)</p>\n<p><br /><span 
 style='text-decoration: underline\;'><strong>PM Snack</strong></span></p>
 \n<p>Nutri Grain Bar<br />4 oz 1% Milk (8 oz for ages 6-12)</p>
END:VEVENT
BEGIN:VEVENT
UID:20200220T180000UTC-7014PGhiFC@http://www.denbighchristianacademy.com/
DTSTAMP:20260424T132542Z
CATEGORIES:School Menu
DESCRIPTION:<p><span style='text-decoration: underline\;'><strong>Breakfast
 </strong></span></p>\n<p>Pancakes<br />1/4-1/2 cup Pineapple<br />Cereal (
 optional)<br />6 oz. 1% Milk (8 oz for ages 6-12)</p>\n<p><br /><span styl
 e='text-decoration: underline\;'><strong>AM Snack</strong></span></p>\n<p>
 1/4 cup Fresh Carrots w/1 tsp. Ranch Dip<br />4 oz 1% Milk (8 oz for ages 
 6-12)</p>\n<p><br /><span style='text-decoration: underline\;'><strong>Lun
 ch</strong></span></p>\n<p>1 1/2 oz Beef Ravioli<br />1/4 cup Broccoli<br 
 />1/4 cup Peaches<br />6 oz.1% Milk (ages 6-12 8 oz)</p>\n<p><br /><span s
 tyle='text-decoration: underline\;'><strong>PM Snack</strong></span></p>\n
 <p>Lorne Doone Cookies<br />4 oz 1% Milk (8 oz for ages 6-12)</p>
DTSTART:20200220T000000Z
DTEND:20200220T235959Z
SUMMARY:Thursday
URL:https://www.denbighchristianacademy.com/index.php/school-calendar/lunch
 -menu/10-school-menu/181-thursday
X-ALT-DESC;FMTTYPE=TEXT/HTML:<p><span style='text-decoration: underline\;'>
 <strong>Breakfast</strong></span></p>\n<p>Pancakes<br />1/4-1/2 cup Pineap
 ple<br />Cereal (optional)<br />6 oz. 1% Milk (8 oz for ages 6-12)</p>\n<p
 ><br /><span style='text-decoration: underline\;'><strong>AM Snack</strong
 ></span></p>\n<p>1/4 cup Fresh Carrots w/1 tsp. Ranch Dip<br />4 oz 1% Mil
 k (8 oz for ages 6-12)</p>\n<p><br /><span style='text-decoration: underli
 ne\;'><strong>Lunch</strong></span></p>\n<p>1 1/2 oz Beef Ravioli<br />1/4
  cup Broccoli<br />1/4 cup Peaches<br />6 oz.1% Milk (ages 6-12 8 oz)</p>
 \n<p><br /><span style='text-decoration: underline\;'><strong>PM Snack</st
 rong></span></p>\n<p>Lorne Doone Cookies<br />4 oz 1% Milk (8 oz for ages 
 6-12)</p>
END:VEVENT
BEGIN:VEVENT
UID:20200221T190000UTC-83719vhHV4@http://www.denbighchristianacademy.com/
DTSTAMP:20260424T132542Z
CATEGORIES:School Menu
DESCRIPTION:<p><span style='text-decoration: underline\;'><strong>Breakfast
 </strong></span></p>\n<p>1/4-1/2 cup Oatmeal<br />1/4-1/2 cup Applesauce<b
 r />Cereal (optional)<br />6 oz. 1% Milk (8 oz for ages 6-12)</p>\n<p><br 
 /><span style='text-decoration: underline\;'><strong>AM Snack</strong></sp
 an></p>\n<p>Banana<br />4 oz 1% Milk (8 oz for ages 6-12)</p>\n<p><br /><s
 pan style='text-decoration: underline\;'><strong>Lunch</strong></span></p>
 \n<p>1 1/2 oz Ham/Cheese<br />Whole Wheat Bread<br />1/4 cup Tater Tots<br
  />1/4 cup Tropical Fruit<br />6 oz.1% Milk (ages 6-12 8 oz)</p>\n<p><br /
 ><span style='text-decoration: underline\;'><strong>PM Snack</strong></spa
 n></p>\n<p>1/4 cup Pretzels<br />4 oz 100% Apple Juice (8 oz for ages 6-12
 )</p>
DTSTART:20200221T000000Z
DTEND:20200221T235959Z
SUMMARY:Friday
URL:https://www.denbighchristianacademy.com/index.php/school-calendar/lunch
 -menu/10-school-menu/182-friday
X-ALT-DESC;FMTTYPE=TEXT/HTML:<p><span style='text-decoration: underline\;'>
 <strong>Breakfast</strong></span></p>\n<p>1/4-1/2 cup Oatmeal<br />1/4-1/2
  cup Applesauce<br />Cereal (optional)<br />6 oz. 1% Milk (8 oz for ages 6
 -12)</p>\n<p><br /><span style='text-decoration: underline\;'><strong>AM S
 nack</strong></span></p>\n<p>Banana<br />4 oz 1% Milk (8 oz for ages 6-12)
 </p>\n<p><br /><span style='text-decoration: underline\;'><strong>Lunch</s
 trong></span></p>\n<p>1 1/2 oz Ham/Cheese<br />Whole Wheat Bread<br />1/4 
 cup Tater Tots<br />1/4 cup Tropical Fruit<br />6 oz.1% Milk (ages 6-12 8 
 oz)</p>\n<p><br /><span style='text-decoration: underline\;'><strong>PM Sn
 ack</strong></span></p>\n<p>1/4 cup Pretzels<br />4 oz 100% Apple Juice (8
  oz for ages 6-12)</p>
END:VEVENT
END:VCALENDAR
