BEGIN:VCALENDAR
VERSION:2.0
PRODID:-//https://www.denbighchristianacademy.com//NONSGML kigkonsult.se iC
 alcreator 2.29.29//
CALSCALE:GREGORIAN
METHOD:PUBLISH
UID:55de3d4c-a42c-44c1-bd60-bdc3498b2026
X-WR-CALNAME:JCal Pro Calendar
X-WR-CALDESC:Your online events calendar
X-WR-TIMEZONE:UTC
BEGIN:VTIMEZONE
TZID:UTC
END:VTIMEZONE
BEGIN:VEVENT
UID:20210104T140000UTC-46669eFMDx@http://www.denbighchristianacademy.com/
DTSTAMP:20260424T175744Z
CATEGORIES:School Menu
DESCRIPTION:<p><span style='text-decoration: underline\;'><strong>Breakfast
 </strong></span></p>\n<p>Bagels &amp\; Cream Cheese<br />1/4-1/2 cup Pinea
 pple<br />Cereal (optional)<br />6 oz. 1% Milk (8 oz for ages 6-12)</p>\n<
 p><br /><span style='text-decoration: underline\;'><strong>AM Snack</stron
 g></span></p>\n<p>1/4 cup Pretzels<br />4 oz 1% Milk (8 oz for ages 6-12)<
 /p>\n<p><br /><span style='text-decoration: underline\;'><strong>Lunch</st
 rong></span></p>\n<p>1 1/2 oz Chicken Nuggets<br />1/4 cup Vegetable Sprin
 g Blend<br />1/4 cup Tropical Fruit<br />6 oz.1% Milk (ages 6-12 8 oz)</p>
 \n<p><br /><span style='text-decoration: underline\;'><strong>PM Snack</st
 rong></span></p>\n<p>1/4 cup Nilla Wafers<br />4 oz 1% Milk (8 oz for ages
  6-12)</p>
DTSTART:20210104T000000Z
DTEND:20210104T235959Z
SUMMARY:Monday
URL:https://www.denbighchristianacademy.com/index.php/school-calendar/lunch
 -menu/10-school-menu/468-monday
X-ALT-DESC;FMTTYPE=TEXT/HTML:<p><span style='text-decoration: underline\;'>
 <strong>Breakfast</strong></span></p>\n<p>Bagels &amp\; Cream Cheese<br />
 1/4-1/2 cup Pineapple<br />Cereal (optional)<br />6 oz. 1% Milk (8 oz for 
 ages 6-12)</p>\n<p><br /><span style='text-decoration: underline\;'><stron
 g>AM Snack</strong></span></p>\n<p>1/4 cup Pretzels<br />4 oz 1% Milk (8 o
 z for ages 6-12)</p>\n<p><br /><span style='text-decoration: underline\;'>
 <strong>Lunch</strong></span></p>\n<p>1 1/2 oz Chicken Nuggets<br />1/4 cu
 p Vegetable Spring Blend<br />1/4 cup Tropical Fruit<br />6 oz.1% Milk (ag
 es 6-12 8 oz)</p>\n<p><br /><span style='text-decoration: underline\;'><st
 rong>PM Snack</strong></span></p>\n<p>1/4 cup Nilla Wafers<br />4 oz 1% Mi
 lk (8 oz for ages 6-12)</p>
END:VEVENT
BEGIN:VEVENT
UID:20210105T150000UTC-6957wV5J8z@http://www.denbighchristianacademy.com/
DTSTAMP:20260424T175744Z
CATEGORIES:School Menu
DESCRIPTION:<p><span style='text-decoration: underline\;'><strong>Breakfast
 </strong></span></p>\n<p>1/4-1/2 cup Beef Gravy &amp\; Biscuit<br />1/4-1/
 2 cup Peaches<br />Cereal (optional)<br />6 oz. 1% Milk (8 oz for ages 6-1
 2)</p>\n<p><br /><span style='text-decoration: underline\;'><strong>AM Sna
 ck</strong></span></p>\n<p>1/4 cup Ritz Crackers &amp\;<br />1/2 oz Cheese
  Cubes<br />4 oz Water (8 oz for ages 6-12)</p>\n<p><br /><span style='tex
 t-decoration: underline\;'><strong>Lunch</strong></span></p>\n<p>1 1/2 oz 
 Nachos with Tortilla Chips\,<br />Meat\, and Cheese<br />1/4 cup Seasoned 
 Corn<br />1/4 cup Peaches<br />6 oz.1% Milk (ages 6-12 8 oz)</p>\n<p><br /
 ><span style='text-decoration: underline\;'><strong>PM Snack</strong></spa
 n></p>\n<p>1 Nutri Grain Bar<br />4 oz 1% Milk (8 oz for ages 6-12)</p>
DTSTART:20210105T000000Z
DTEND:20210105T235959Z
SUMMARY:Tuesday
URL:https://www.denbighchristianacademy.com/index.php/school-calendar/lunch
 -menu/10-school-menu/464-tuesday
X-ALT-DESC;FMTTYPE=TEXT/HTML:<p><span style='text-decoration: underline\;'>
 <strong>Breakfast</strong></span></p>\n<p>1/4-1/2 cup Beef Gravy &amp\; Bi
 scuit<br />1/4-1/2 cup Peaches<br />Cereal (optional)<br />6 oz. 1% Milk (
 8 oz for ages 6-12)</p>\n<p><br /><span style='text-decoration: underline\
 ;'><strong>AM Snack</strong></span></p>\n<p>1/4 cup Ritz Crackers &amp\;<b
 r />1/2 oz Cheese Cubes<br />4 oz Water (8 oz for ages 6-12)</p>\n<p><br /
 ><span style='text-decoration: underline\;'><strong>Lunch</strong></span><
 /p>\n<p>1 1/2 oz Nachos with Tortilla Chips\,<br />Meat\, and Cheese<br />
 1/4 cup Seasoned Corn<br />1/4 cup Peaches<br />6 oz.1% Milk (ages 6-12 8 
 oz)</p>\n<p><br /><span style='text-decoration: underline\;'><strong>PM Sn
 ack</strong></span></p>\n<p>1 Nutri Grain Bar<br />4 oz 1% Milk (8 oz for 
 ages 6-12)</p>
END:VEVENT
BEGIN:VEVENT
UID:20210106T150000UTC-2942su4w2V@http://www.denbighchristianacademy.com/
DTSTAMP:20260424T175744Z
CATEGORIES:School Menu
DESCRIPTION:<p><span style='text-decoration: underline\;'><strong>Breakfast
 </strong></span></p>\n<p>French Toast<br />1/4-1/2 cup Fruit Cocktail<br /
 >Cereal (optional)<br />6 oz. 1% Milk (8 oz for ages 6-12)</p>\n<p><br /><
 span style='text-decoration: underline\;'><strong>AM Snack</strong></span>
 </p>\n<p>1/4 cup Goldfish<br />4 oz 1% Milk (8 oz for ages 6-12)</p>\n<p><
 br /><span style='text-decoration: underline\;'><strong>Lunch</strong></sp
 an></p>\n<p>1 1/2 oz Pizza<br />1/4 cup Green Beans<br />1/4 cup Fruit Coc
 ktail<br />6 oz.1% Milk (ages 6-12 8 oz)</p>\n<p><br /><span style='text-d
 ecoration: underline\;'><strong>PM Snack</strong></span></p>\n<p>1 Oatmeal
  Cookie<br />4 oz 1% Milk (8 oz for ages 6-12)</p>
DTSTART:20210106T000000Z
DTEND:20210106T235959Z
SUMMARY:Wednesday
URL:https://www.denbighchristianacademy.com/index.php/school-calendar/lunch
 -menu/10-school-menu/465-wednesday
X-ALT-DESC;FMTTYPE=TEXT/HTML:<p><span style='text-decoration: underline\;'>
 <strong>Breakfast</strong></span></p>\n<p>French Toast<br />1/4-1/2 cup Fr
 uit Cocktail<br />Cereal (optional)<br />6 oz. 1% Milk (8 oz for ages 6-12
 )</p>\n<p><br /><span style='text-decoration: underline\;'><strong>AM Snac
 k</strong></span></p>\n<p>1/4 cup Goldfish<br />4 oz 1% Milk (8 oz for age
 s 6-12)</p>\n<p><br /><span style='text-decoration: underline\;'><strong>L
 unch</strong></span></p>\n<p>1 1/2 oz Pizza<br />1/4 cup Green Beans<br />
 1/4 cup Fruit Cocktail<br />6 oz.1% Milk (ages 6-12 8 oz)</p>\n<p><br /><s
 pan style='text-decoration: underline\;'><strong>PM Snack</strong></span><
 /p>\n<p>1 Oatmeal Cookie<br />4 oz 1% Milk (8 oz for ages 6-12)</p>
END:VEVENT
BEGIN:VEVENT
UID:20210107T150000UTC-4106moVe6d@http://www.denbighchristianacademy.com/
DTSTAMP:20260424T175744Z
CATEGORIES:School Menu
DESCRIPTION:<p><span style='text-decoration: underline\;'><strong>Breakfast
 </strong></span></p>\n<p>1/4-1/2 cup Oatmeal<br />1/4-1/2 cup Pineapple<br
  />Cereal (optional)<br />6 oz. 1% Milk (8 oz for ages 6-12)</p>\n<p><br /
 ><span style='text-decoration: underline\;'><strong>AM Snack</strong></spa
 n></p>\n<p>1/4 cup Teddy Grahams<br />4 oz 1% Milk (8 oz for ages 6-12)</p
 >\n<p><br /><span style='text-decoration: underline\;'><strong>Lunch</stro
 ng></span></p>\n<p>1 1/2 oz Lasagna<br />1/4 cup Salad Mix &amp\; 1 tsp Dr
 essing<br />Garlic Breadstick<br />1/4 cup Pineapple<br />6 oz.1% Milk (ag
 es 6-12 8 oz)</p>\n<p><br /><span style='text-decoration: underline\;'><st
 rong>PM Snack</strong></span></p>\n<p>1/4 cup Cheez-it Crackers<br />4 oz 
 100% Apple Juice (8 oz for ages 6-12)</p>
DTSTART:20210107T000000Z
DTEND:20210107T235959Z
SUMMARY:Thursday
URL:https://www.denbighchristianacademy.com/index.php/school-calendar/lunch
 -menu/10-school-menu/466-thursday
X-ALT-DESC;FMTTYPE=TEXT/HTML:<p><span style='text-decoration: underline\;'>
 <strong>Breakfast</strong></span></p>\n<p>1/4-1/2 cup Oatmeal<br />1/4-1/2
  cup Pineapple<br />Cereal (optional)<br />6 oz. 1% Milk (8 oz for ages 6-
 12)</p>\n<p><br /><span style='text-decoration: underline\;'><strong>AM Sn
 ack</strong></span></p>\n<p>1/4 cup Teddy Grahams<br />4 oz 1% Milk (8 oz 
 for ages 6-12)</p>\n<p><br /><span style='text-decoration: underline\;'><s
 trong>Lunch</strong></span></p>\n<p>1 1/2 oz Lasagna<br />1/4 cup Salad Mi
 x &amp\; 1 tsp Dressing<br />Garlic Breadstick<br />1/4 cup Pineapple<br /
 >6 oz.1% Milk (ages 6-12 8 oz)</p>\n<p><br /><span style='text-decoration:
  underline\;'><strong>PM Snack</strong></span></p>\n<p>1/4 cup Cheez-it Cr
 ackers<br />4 oz 100% Apple Juice (8 oz for ages 6-12)</p>
END:VEVENT
BEGIN:VEVENT
UID:20210108T150000UTC-4104Ivm7uu@http://www.denbighchristianacademy.com/
DTSTAMP:20260424T175744Z
CATEGORIES:School Menu
DESCRIPTION:<p><span style='text-decoration: underline\;'><strong>Breakfast
 </strong></span></p>\n<p>Pancakes<br />1/4-1/2 cup Mixed Fruit<br />Cereal
  (optional)<br />6 oz. 1% Milk (8 oz for ages 6-12)</p>\n<p><br /><span st
 yle='text-decoration: underline\;'><strong>AM Snack</strong></span></p>\n<
 p>1/4-1/2 cup Mixed Fruit<br />Graham Cracker<br />4 oz 1% Milk (8 oz for 
 ages 6-12)</p>\n<p><br /><span style='text-decoration: underline\;'><stron
 g>Lunch</strong></span></p>\n<p>1 1/2 oz Breaded Fish<br />1/4 cup Mashed 
 Potatoes<br />1/4 cup Mixed Vegetables<br />1/4 cup Mixed Fruit<br />6 oz.
 1% Milk (ages 6-12 8 oz)</p>\n<p><br /><span style='text-decoration: under
 line\;'><strong>PM Snack</strong></span></p>\n<p>Chocolate Chip Cookies<br
  />4 oz 1% Milk (8 oz for ages 6-12)</p>
DTSTART:20210108T000000Z
DTEND:20210108T235959Z
SUMMARY:Friday
URL:https://www.denbighchristianacademy.com/index.php/school-calendar/lunch
 -menu/10-school-menu/467-friday
X-ALT-DESC;FMTTYPE=TEXT/HTML:<p><span style='text-decoration: underline\;'>
 <strong>Breakfast</strong></span></p>\n<p>Pancakes<br />1/4-1/2 cup Mixed 
 Fruit<br />Cereal (optional)<br />6 oz. 1% Milk (8 oz for ages 6-12)</p>\n
 <p><br /><span style='text-decoration: underline\;'><strong>AM Snack</stro
 ng></span></p>\n<p>1/4-1/2 cup Mixed Fruit<br />Graham Cracker<br />4 oz 1
 % Milk (8 oz for ages 6-12)</p>\n<p><br /><span style='text-decoration: un
 derline\;'><strong>Lunch</strong></span></p>\n<p>1 1/2 oz Breaded Fish<br 
 />1/4 cup Mashed Potatoes<br />1/4 cup Mixed Vegetables<br />1/4 cup Mixed
  Fruit<br />6 oz.1% Milk (ages 6-12 8 oz)</p>\n<p><br /><span style='text-
 decoration: underline\;'><strong>PM Snack</strong></span></p>\n<p>Chocolat
 e Chip Cookies<br />4 oz 1% Milk (8 oz for ages 6-12)</p>
END:VEVENT
BEGIN:VEVENT
UID:20210201T140000UTC-51097Os6c1@http://www.denbighchristianacademy.com/
DTSTAMP:20260424T175744Z
CATEGORIES:School Menu
DESCRIPTION:<p><span style='text-decoration: underline\;'><strong>Breakfast
 </strong></span></p>\n<p>1 1/2 oz French Toast<br />1/4-1/2 cup Pears<br /
 >Cereal (optional)<br />6 oz. 1% Milk (8 oz for ages 6-12)</p>\n<p><br /><
 span style='text-decoration: underline\;'><strong>AM Snack</strong></span>
 </p>\n<p>.91 oz Rice Crisps<br />4 oz 1% Milk (8 oz for ages 6-12)</p>\n<p
 ><br /><span style='text-decoration: underline\;'><strong>Lunch</strong></
 span></p>\n<p>1 1/2 oz Salisbury Steak w/Gravy<br />1/4 cup Brown Rice<br 
 />1/4 cup Peas &amp\; Carrots<br />1/4 cup Pears<br />6 oz.1% Milk (ages 6
 -12 8 oz)</p>\n<p><br /><span style='text-decoration: underline\;'><strong
 >PM Snack</strong></span></p>\n<p>1 Rice Krispie Treat Bar<br />4 oz 1% Mi
 lk (8 oz for ages 6-12)</p>
DTSTART:20210125T000000Z
DTEND:20210125T235959Z
SUMMARY:Monday
URL:https://www.denbighchristianacademy.com/index.php/school-calendar/lunch
 -menu/10-school-menu/472-monday
X-ALT-DESC;FMTTYPE=TEXT/HTML:<p><span style='text-decoration: underline\;'>
 <strong>Breakfast</strong></span></p>\n<p>1 1/2 oz French Toast<br />1/4-1
 /2 cup Pears<br />Cereal (optional)<br />6 oz. 1% Milk (8 oz for ages 6-12
 )</p>\n<p><br /><span style='text-decoration: underline\;'><strong>AM Snac
 k</strong></span></p>\n<p>.91 oz Rice Crisps<br />4 oz 1% Milk (8 oz for a
 ges 6-12)</p>\n<p><br /><span style='text-decoration: underline\;'><strong
 >Lunch</strong></span></p>\n<p>1 1/2 oz Salisbury Steak w/Gravy<br />1/4 c
 up Brown Rice<br />1/4 cup Peas &amp\; Carrots<br />1/4 cup Pears<br />6 o
 z.1% Milk (ages 6-12 8 oz)</p>\n<p><br /><span style='text-decoration: und
 erline\;'><strong>PM Snack</strong></span></p>\n<p>1 Rice Krispie Treat Ba
 r<br />4 oz 1% Milk (8 oz for ages 6-12)</p>
END:VEVENT
BEGIN:VEVENT
UID:20210126T140000UTC-8336E9tvhP@http://www.denbighchristianacademy.com/
DTSTAMP:20260424T175744Z
CATEGORIES:School Menu
DESCRIPTION:<p><span style='text-decoration: underline\;'><strong>Breakfast
 </strong></span></p>\n<p>1 1/2 oz Bagel &amp\; Cream Cheese<br />1/4-1/2 c
 up Pineapple<br />Cereal (optional)<br />6 oz. 1% Milk (8 oz for ages 6-12
 )</p>\n<p><br /><span style='text-decoration: underline\;'><strong>AM Snac
 k</strong></span></p>\n<p>1/4 cup Ritz Crackers\, 1/2 oz Cheese Cubes<br /
 >4 oz Water (8 oz for ages 6-12)</p>\n<p><br /><span style='text-decoratio
 n: underline\;'><strong>Lunch</strong></span></p>\n<p>1 1/2 oz Chicken &am
 p\; Dumplings<br />1/4 cup Mixed Vegetables<br />1/4 cup Pineapple<br />6 
 oz.1% Milk (ages 6-12 8 oz)</p>\n<p><br /><span style='text-decoration: un
 derline\;'><strong>PM Snack</strong></span></p>\n<p>1 1/2 oz Graham Cracke
 rs<br />4 oz 1% Milk (8 oz for ages 6-12)</p>
DTSTART:20210126T000000Z
DTEND:20210126T235959Z
SUMMARY:Tuesday
URL:https://www.denbighchristianacademy.com/index.php/school-calendar/lunch
 -menu/10-school-menu/473-tuesday
X-ALT-DESC;FMTTYPE=TEXT/HTML:<p><span style='text-decoration: underline\;'>
 <strong>Breakfast</strong></span></p>\n<p>1 1/2 oz Bagel &amp\; Cream Chee
 se<br />1/4-1/2 cup Pineapple<br />Cereal (optional)<br />6 oz. 1% Milk (8
  oz for ages 6-12)</p>\n<p><br /><span style='text-decoration: underline\;
 '><strong>AM Snack</strong></span></p>\n<p>1/4 cup Ritz Crackers\, 1/2 oz 
 Cheese Cubes<br />4 oz Water (8 oz for ages 6-12)</p>\n<p><br /><span styl
 e='text-decoration: underline\;'><strong>Lunch</strong></span></p>\n<p>1 1
 /2 oz Chicken &amp\; Dumplings<br />1/4 cup Mixed Vegetables<br />1/4 cup 
 Pineapple<br />6 oz.1% Milk (ages 6-12 8 oz)</p>\n<p><br /><span style='te
 xt-decoration: underline\;'><strong>PM Snack</strong></span></p>\n<p>1 1/2
  oz Graham Crackers<br />4 oz 1% Milk (8 oz for ages 6-12)</p>
END:VEVENT
BEGIN:VEVENT
UID:20210127T140000UTC-88099cxGWv@http://www.denbighchristianacademy.com/
DTSTAMP:20260424T175744Z
CATEGORIES:School Menu
DESCRIPTION:<p><span style='text-decoration: underline\;'><strong>Breakfast
 </strong></span></p>\n<p>1 1/2 oz Biscuit w/Gravy<br />1/4-1/2 cup Fruit C
 ocktail<br />Cereal (optional)<br />6 oz. 1% Milk (8 oz for ages 6-12)</p>
 \n<p><br /><span style='text-decoration: underline\;'><strong>AM Snack</st
 rong></span></p>\n<p>1/4 cup Cheez-it Crackers<br />4 oz 1% Milk (8 oz for
  ages 6-12)</p>\n<p><br /><span style='text-decoration: underline\;'><stro
 ng>Lunch</strong></span></p>\n<p>1/2 cup Vegetable Fried Brown Rice w/Beef
 <br />1/4 cup Fruit Cocktail<br />6 oz.1% Milk (ages 6-12 8 oz)</p>\n<p><b
 r /><span style='text-decoration: underline\;'><strong>PM Snack</strong></
 span></p>\n<p>1/4 cup Pretzels<br />4 oz 100% Apple Juice (8 oz for ages 6
 -12)</p>
DTSTART:20210127T000000Z
DTEND:20210127T235959Z
SUMMARY:Wednesday
URL:https://www.denbighchristianacademy.com/index.php/school-calendar/lunch
 -menu/10-school-menu/474-wednesday
X-ALT-DESC;FMTTYPE=TEXT/HTML:<p><span style='text-decoration: underline\;'>
 <strong>Breakfast</strong></span></p>\n<p>1 1/2 oz Biscuit w/Gravy<br />1/
 4-1/2 cup Fruit Cocktail<br />Cereal (optional)<br />6 oz. 1% Milk (8 oz f
 or ages 6-12)</p>\n<p><br /><span style='text-decoration: underline\;'><st
 rong>AM Snack</strong></span></p>\n<p>1/4 cup Cheez-it Crackers<br />4 oz 
 1% Milk (8 oz for ages 6-12)</p>\n<p><br /><span style='text-decoration: u
 nderline\;'><strong>Lunch</strong></span></p>\n<p>1/2 cup Vegetable Fried 
 Brown Rice w/Beef<br />1/4 cup Fruit Cocktail<br />6 oz.1% Milk (ages 6-12
  8 oz)</p>\n<p><br /><span style='text-decoration: underline\;'><strong>PM
  Snack</strong></span></p>\n<p>1/4 cup Pretzels<br />4 oz 100% Apple Juice
  (8 oz for ages 6-12)</p>
END:VEVENT
BEGIN:VEVENT
UID:20210128T140000UTC-29167IfGek@http://www.denbighchristianacademy.com/
DTSTAMP:20260424T175744Z
CATEGORIES:School Menu
DESCRIPTION:<p><span style='text-decoration: underline\;'><strong>Breakfast
 </strong></span></p>\n<p>1 1/2 oz (2) Pancakes<br />1/4-1/2 cup Peaches<br
  />Cereal (optional)<br />6 oz. 1% Milk (8 oz for ages 6-12)</p>\n<p><br /
 ><span style='text-decoration: underline\;'><strong>AM Snack</strong></spa
 n></p>\n<p>1/4 cup Teddy Grahams<br />4 oz 1% Milk (8 oz for ages 6-12)</p
 >\n<p><br /><span style='text-decoration: underline\;'><strong>Lunch</stro
 ng></span></p>\n<p>1 1/2 oz Spaghetti w/Meat Sauce<br />1/4 cup Salad Mix 
 &amp\; 1 tsp Dressing<br />Garlic Bread Stick<br />1/4 cup Peaches<br />6 
 oz.1% Milk (ages 6-12 8 oz)</p>\n<p><br /><span style='text-decoration: un
 derline\;'><strong>PM Snack</strong></span></p>\n<p>1 pack 1 1/2 oz Lorna 
 Doone Cookies<br />4 oz 1% Milk (8 oz for ages 6-12)</p>
DTSTART:20210128T000000Z
DTEND:20210128T235959Z
SUMMARY:Thursday
URL:https://www.denbighchristianacademy.com/index.php/school-calendar/lunch
 -menu/10-school-menu/475-thursday
X-ALT-DESC;FMTTYPE=TEXT/HTML:<p><span style='text-decoration: underline\;'>
 <strong>Breakfast</strong></span></p>\n<p>1 1/2 oz (2) Pancakes<br />1/4-1
 /2 cup Peaches<br />Cereal (optional)<br />6 oz. 1% Milk (8 oz for ages 6-
 12)</p>\n<p><br /><span style='text-decoration: underline\;'><strong>AM Sn
 ack</strong></span></p>\n<p>1/4 cup Teddy Grahams<br />4 oz 1% Milk (8 oz 
 for ages 6-12)</p>\n<p><br /><span style='text-decoration: underline\;'><s
 trong>Lunch</strong></span></p>\n<p>1 1/2 oz Spaghetti w/Meat Sauce<br />1
 /4 cup Salad Mix &amp\; 1 tsp Dressing<br />Garlic Bread Stick<br />1/4 cu
 p Peaches<br />6 oz.1% Milk (ages 6-12 8 oz)</p>\n<p><br /><span style='te
 xt-decoration: underline\;'><strong>PM Snack</strong></span></p>\n<p>1 pac
 k 1 1/2 oz Lorna Doone Cookies<br />4 oz 1% Milk (8 oz for ages 6-12)</p>
END:VEVENT
BEGIN:VEVENT
UID:20210129T140000UTC-4571FdrzZt@http://www.denbighchristianacademy.com/
DTSTAMP:20260424T175744Z
CATEGORIES:School Menu
DESCRIPTION:<p><span style='text-decoration: underline\;'><strong>Breakfast
 </strong></span></p>\n<p>1/4-1/2 cup Oatmeal<br />1/4-1/2 cup Apple Sauce<
 br />Cereal (optional)<br />6 oz. 1% Milk (8 oz for ages 6-12)</p>\n<p><br
  /><span style='text-decoration: underline\;'><strong>AM Snack</strong></s
 pan></p>\n<p>1 pack 1 1/2 oz Veggie Sticks<br />4 oz 1% Milk (8 oz for age
 s 6-12)</p>\n<p><br /><span style='text-decoration: underline\;'><strong>L
 unch</strong></span></p>\n<p>1 1/2 oz Chicken Tenders<br />1/4 cup Peas an
 d Carrots<br />1/4 cup Tropical Fruit<br />6 oz.1% Milk (ages 6-12 8 oz)</
 p>\n<p><br /><span style='text-decoration: underline\;'><strong>PM Snack</
 strong></span></p>\n<p>1/4 cup Goldfish Crackers<br />4 oz 1% Milk (8 oz f
 or ages 6-12)</p>
DTSTART:20210129T000000Z
DTEND:20210129T235959Z
SUMMARY:Friday
URL:https://www.denbighchristianacademy.com/index.php/school-calendar/lunch
 -menu/10-school-menu/476-friday
X-ALT-DESC;FMTTYPE=TEXT/HTML:<p><span style='text-decoration: underline\;'>
 <strong>Breakfast</strong></span></p>\n<p>1/4-1/2 cup Oatmeal<br />1/4-1/2
  cup Apple Sauce<br />Cereal (optional)<br />6 oz. 1% Milk (8 oz for ages 
 6-12)</p>\n<p><br /><span style='text-decoration: underline\;'><strong>AM 
 Snack</strong></span></p>\n<p>1 pack 1 1/2 oz Veggie Sticks<br />4 oz 1% M
 ilk (8 oz for ages 6-12)</p>\n<p><br /><span style='text-decoration: under
 line\;'><strong>Lunch</strong></span></p>\n<p>1 1/2 oz Chicken Tenders<br 
 />1/4 cup Peas and Carrots<br />1/4 cup Tropical Fruit<br />6 oz.1% Milk (
 ages 6-12 8 oz)</p>\n<p><br /><span style='text-decoration: underline\;'><
 strong>PM Snack</strong></span></p>\n<p>1/4 cup Goldfish Crackers<br />4 o
 z 1% Milk (8 oz for ages 6-12)</p>
END:VEVENT
END:VCALENDAR
