BEGIN:VCALENDAR
VERSION:2.0
PRODID:-//https://www.denbighchristianacademy.com//NONSGML kigkonsult.se iC
 alcreator 2.29.29//
CALSCALE:GREGORIAN
METHOD:PUBLISH
UID:0c23c0c4-83b0-4613-9ae7-b02c9e355f2f
X-WR-CALNAME:JCal Pro Calendar
X-WR-CALDESC:Your online events calendar
X-WR-TIMEZONE:UTC
BEGIN:VTIMEZONE
TZID:UTC
END:VTIMEZONE
BEGIN:VEVENT
UID:20251106T180000UTC-420517F8PS@https://www.denbighchristianacademy.com/
DTSTAMP:20260424T181227Z
CATEGORIES:School Menu
DESCRIPTION:<p><span style='text-decoration: underline\;'><strong>Breakfast
 </strong></span></p>\n<p><br />1 1/2 oz Pancakes<br />1/4-1/2 cup Fruit<br
  />1/4-1/2 cup Cereal (optional)<br />6 oz. 1% Milk (8 oz for ages 6-12)</
 p>\n<p><br /><span style='text-decoration: underline\;'><strong>AM Snack</
 strong></span></p>\n<p>3.9 oz Applesauce<br />2 oz Graham Crackers<br />4 
 oz Water (8 oz for ages 6-12)</p>\n<p><br /><span style='text-decoration: 
 underline\;'><strong>Lunch</strong></span></p>\n<p>2 - 4 oz Meat Balls<br 
 />WW Bread<br />1/4-1/2 cup Brown Rice<br />1/4 cup Fruit<br />6 oz.1% Mil
 k (ages 6-12 8 oz)</p>\n<p><br /><span style='text-decoration: underline\;
 '><strong>PM Snack</strong></span></p>\n<p>2 oz pk Lorna Doone Cookies<br 
 />4 oz 1% Milk (8 oz for ages 6-12)</p>
DTSTART:20251106T000000Z
DTEND:20251106T235959Z
SUMMARY:Thursday
URL:https://www.denbighchristianacademy.com/index.php/school-calendar/lunch
 -menu/10-school-menu/1930-thursday
X-ALT-DESC;FMTTYPE=TEXT/HTML:<p><span style='text-decoration: underline\;'>
 <strong>Breakfast</strong></span></p>\n<p><br />1 1/2 oz Pancakes<br />1/4
 -1/2 cup Fruit<br />1/4-1/2 cup Cereal (optional)<br />6 oz. 1% Milk (8 oz
  for ages 6-12)</p>\n<p><br /><span style='text-decoration: underline\;'><
 strong>AM Snack</strong></span></p>\n<p>3.9 oz Applesauce<br />2 oz Graham
  Crackers<br />4 oz Water (8 oz for ages 6-12)</p>\n<p><br /><span style='
 text-decoration: underline\;'><strong>Lunch</strong></span></p>\n<p>2 - 4 
 oz Meat Balls<br />WW Bread<br />1/4-1/2 cup Brown Rice<br />1/4 cup Fruit
 <br />6 oz.1% Milk (ages 6-12 8 oz)</p>\n<p><br /><span style='text-decora
 tion: underline\;'><strong>PM Snack</strong></span></p>\n<p>2 oz pk Lorna 
 Doone Cookies<br />4 oz 1% Milk (8 oz for ages 6-12)</p>
END:VEVENT
END:VCALENDAR
