BEGIN:VCALENDAR
VERSION:2.0
PRODID:-//https://www.denbighchristianacademy.com//NONSGML kigkonsult.se iC
 alcreator 2.29.29//
CALSCALE:GREGORIAN
METHOD:PUBLISH
UID:45fe010d-3d2d-4e8a-8ef1-fe84a45508a2
X-WR-CALNAME:JCal Pro Calendar
X-WR-CALDESC:Your online events calendar
X-WR-TIMEZONE:UTC
BEGIN:VTIMEZONE
TZID:UTC
END:VTIMEZONE
BEGIN:VEVENT
UID:20251001T140000UTC-2170cRghsV@https://www.denbighchristianacademy.com/
DTSTAMP:20260424T163028Z
CATEGORIES:School Menu
DESCRIPTION:<p><span style='text-decoration: underline\;'><strong>Breakfast
 </strong></span></p>\n<p><br />1/4-1/2 cup Cream of Wheat<br />1/4-1/2 cup
  Mixed Fruit<br />1/4-1/2 cup Cereal (optional)<br />6 oz. 1% Milk (8 oz f
 or ages 6-12)</p>\n<p><br /><span style='text-decoration: underline\;'><st
 rong>AM Snack</strong></span></p>\n<p>1 Cheese Sticks<br />2 oz Ritz Crack
 ers<br />4 oz Water (8 oz for ages 6-12)</p>\n<p><br /><span style='text-d
 ecoration: underline\;'><strong>Lunch</strong></span></p>\n<p>1 1/2 - 3 oz
  Chicken Nuggets&nbsp\;<br />WW Bread<br />1/4-1/2 cup Mixed Vegetables<br
  />1/4 cup Fruit<br />6 oz.1% Milk (ages 6-12 8 oz)</p>\n<p><br /><span st
 yle='text-decoration: underline\;'><strong>PM Snack</strong></span></p>\n<
 p>1 oz WG Oatmeal Cookie<br />4 oz 1% Milk (8 oz for ages 6-12)</p>
DTSTART:20251001T000000Z
DTEND:20251001T235959Z
SUMMARY:Wednesday
URL:https://www.denbighchristianacademy.com/index.php/school-calendar/lunch
 -menu/10-school-menu/1904-wednesday
X-ALT-DESC;FMTTYPE=TEXT/HTML:<p><span style='text-decoration: underline\;'>
 <strong>Breakfast</strong></span></p>\n<p><br />1/4-1/2 cup Cream of Wheat
 <br />1/4-1/2 cup Mixed Fruit<br />1/4-1/2 cup Cereal (optional)<br />6 oz
 . 1% Milk (8 oz for ages 6-12)</p>\n<p><br /><span style='text-decoration:
  underline\;'><strong>AM Snack</strong></span></p>\n<p>1 Cheese Sticks<br 
 />2 oz Ritz Crackers<br />4 oz Water (8 oz for ages 6-12)</p>\n<p><br /><s
 pan style='text-decoration: underline\;'><strong>Lunch</strong></span></p>
 \n<p>1 1/2 - 3 oz Chicken Nuggets&nbsp\;<br />WW Bread<br />1/4-1/2 cup Mi
 xed Vegetables<br />1/4 cup Fruit<br />6 oz.1% Milk (ages 6-12 8 oz)</p>\n
 <p><br /><span style='text-decoration: underline\;'><strong>PM Snack</stro
 ng></span></p>\n<p>1 oz WG Oatmeal Cookie<br />4 oz 1% Milk (8 oz for ages
  6-12)</p>
END:VEVENT
END:VCALENDAR
