BEGIN:VCALENDAR
VERSION:2.0
PRODID:-//https://www.denbighchristianacademy.com//NONSGML kigkonsult.se iC
 alcreator 2.29.29//
CALSCALE:GREGORIAN
METHOD:PUBLISH
UID:bcb62959-9421-4743-aba9-74f4b2c8b723
X-WR-CALNAME:JCal Pro Calendar
X-WR-CALDESC:Your online events calendar
X-WR-TIMEZONE:UTC
BEGIN:VTIMEZONE
TZID:UTC
END:VTIMEZONE
BEGIN:VEVENT
UID:20250828T130000UTC-1839bTvglU@https://www.denbighchristianacademy.com/
DTSTAMP:20260424T150636Z
CATEGORIES:School Menu
DESCRIPTION:<p><span style='text-decoration: underline\;'><strong>Breakfast
 </strong></span></p>\n<p><br />1/4-1/2 cup Cream of Wheat<br />1/4-1/2 cup
  Fruit<br />1/4-1/2 cup Cereal (optional)<br />6 oz. 1% Milk (8 oz for age
 s 6-12)</p>\n<p><br /><span style='text-decoration: underline\;'><strong>A
 M Snack</strong></span></p>\n<p>1/2 - 1 whole Apple<br />2 oz Ritz Cracker
 s<br />4 oz Water (8 oz for ages 6-12)</p>\n<p><br /><span style='text-dec
 oration: underline\;'><strong>Lunch</strong></span></p>\n<p>3 oz Nacho Chi
 ps w/Ground Beef &amp\;<br />Cheese<br />1/4-1/2 cup Corn<br />1/4 cup Fru
 it<br />6 oz.1% Milk (ages 6-12 8 oz)</p>\n<p><br /><span style='text-deco
 ration: underline\;'><strong>PM Snack</strong></span></p>\n<p>1.3 oz Lorna
  Doone Cookies<br />4 oz 1% Milk (8 oz for ages 6-12)</p>
DTSTART:20250828T000000Z
DTEND:20250828T235959Z
SUMMARY:Thursday
URL:https://www.denbighchristianacademy.com/index.php/school-calendar/lunch
 -menu/10-school-menu/1879-thursday
X-ALT-DESC;FMTTYPE=TEXT/HTML:<p><span style='text-decoration: underline\;'>
 <strong>Breakfast</strong></span></p>\n<p><br />1/4-1/2 cup Cream of Wheat
 <br />1/4-1/2 cup Fruit<br />1/4-1/2 cup Cereal (optional)<br />6 oz. 1% M
 ilk (8 oz for ages 6-12)</p>\n<p><br /><span style='text-decoration: under
 line\;'><strong>AM Snack</strong></span></p>\n<p>1/2 - 1 whole Apple<br />
 2 oz Ritz Crackers<br />4 oz Water (8 oz for ages 6-12)</p>\n<p><br /><spa
 n style='text-decoration: underline\;'><strong>Lunch</strong></span></p>\n
 <p>3 oz Nacho Chips w/Ground Beef &amp\;<br />Cheese<br />1/4-1/2 cup Corn
 <br />1/4 cup Fruit<br />6 oz.1% Milk (ages 6-12 8 oz)</p>\n<p><br /><span
  style='text-decoration: underline\;'><strong>PM Snack</strong></span></p>
 \n<p>1.3 oz Lorna Doone Cookies<br />4 oz 1% Milk (8 oz for ages 6-12)</p>
END:VEVENT
END:VCALENDAR
