BEGIN:VCALENDAR
VERSION:2.0
PRODID:-//https://www.denbighchristianacademy.com//NONSGML kigkonsult.se iC
 alcreator 2.29.29//
CALSCALE:GREGORIAN
METHOD:PUBLISH
UID:be6da3cb-f6bc-435c-a0b3-38f75476c05a
X-WR-CALNAME:JCal Pro Calendar
X-WR-CALDESC:Your online events calendar
X-WR-TIMEZONE:UTC
BEGIN:VTIMEZONE
TZID:UTC
END:VTIMEZONE
BEGIN:VEVENT
UID:20250826T130000UTC-0257ufJNZV@https://www.denbighchristianacademy.com/
DTSTAMP:20260424T163035Z
CATEGORIES:School Menu
DESCRIPTION:<p><span style='text-decoration: underline\;'><strong>Breakfast
 </strong></span></p>\n<p><br />1/4-1/2 cup&nbsp\;Oatmeal<br />1/4-1/2 cup 
 Fruit<br />1/4-1/2 cup Cereal (optional)<br />6 oz. 1% Milk (8 oz for ages
  6-12)</p>\n<p><br /><span style='text-decoration: underline\;'><strong>AM
  Snack</strong></span></p>\n<p>2 oz Seedless Grapes<br />2 oz Graham Crack
 ers<br />4 oz Water (8 oz for ages 6-12)</p>\n<p><br /><span style='text-d
 ecoration: underline\;'><strong>Lunch</strong></span></p>\n<p>2 - 4 oz BBQ
  Chicken<br />WW Roll<br />1/4-1/2 cup Green Beans<br />1/4 cup Fruit<br /
 >6 oz.1% Milk (ages 6-12 8 oz)</p>\n<p><br /><span style='text-decoration:
  underline\;'><strong>PM Snack</strong></span></p>\n<p>1 oz bag of Pretzel
 s<br />4 oz 1% Milk (8 oz for ages 6-12)</p>
DTSTART:20250826T000000Z
DTEND:20250826T235959Z
SUMMARY:Tuesday
URL:https://www.denbighchristianacademy.com/index.php/school-calendar/lunch
 -menu/10-school-menu/1877-tuesday
X-ALT-DESC;FMTTYPE=TEXT/HTML:<p><span style='text-decoration: underline\;'>
 <strong>Breakfast</strong></span></p>\n<p><br />1/4-1/2 cup&nbsp\;Oatmeal<
 br />1/4-1/2 cup Fruit<br />1/4-1/2 cup Cereal (optional)<br />6 oz. 1% Mi
 lk (8 oz for ages 6-12)</p>\n<p><br /><span style='text-decoration: underl
 ine\;'><strong>AM Snack</strong></span></p>\n<p>2 oz Seedless Grapes<br />
 2 oz Graham Crackers<br />4 oz Water (8 oz for ages 6-12)</p>\n<p><br /><s
 pan style='text-decoration: underline\;'><strong>Lunch</strong></span></p>
 \n<p>2 - 4 oz BBQ Chicken<br />WW Roll<br />1/4-1/2 cup Green Beans<br />1
 /4 cup Fruit<br />6 oz.1% Milk (ages 6-12 8 oz)</p>\n<p><br /><span style=
 'text-decoration: underline\;'><strong>PM Snack</strong></span></p>\n<p>1 
 oz bag of Pretzels<br />4 oz 1% Milk (8 oz for ages 6-12)</p>
END:VEVENT
END:VCALENDAR
