BEGIN:VCALENDAR
VERSION:2.0
PRODID:-//https://www.denbighchristianacademy.com//NONSGML kigkonsult.se iC
 alcreator 2.29.29//
CALSCALE:GREGORIAN
METHOD:PUBLISH
UID:a288b03b-b2fa-4b0d-9deb-1327e9129d86
X-WR-CALNAME:JCal Pro Calendar
X-WR-CALDESC:Your online events calendar
X-WR-TIMEZONE:UTC
BEGIN:VTIMEZONE
TZID:UTC
END:VTIMEZONE
BEGIN:VEVENT
UID:20250812T140000UTC-3370LeP7Ef@https://www.denbighchristianacademy.com/
DTSTAMP:20260424T163951Z
CATEGORIES:School Menu
DESCRIPTION:<p><span style='text-decoration: underline\;'><strong>Breakfast
 </strong></span></p>\n<p><br />1/4-1/2 cup&nbsp\;Oatmeal<br />1/4-1/2 cup 
 Fruit<br />1/4-1/2 cup Cereal (optional)<br />6 oz. 1% Milk (8 oz for ages
  6-12)</p>\n<p><br /><span style='text-decoration: underline\;'><strong>AM
  Snack</strong></span></p>\n<p>1 oz Cheese Stick<br />2 oz Ritz Crackers<b
 r />4 oz Water (8 oz for ages 6-12)</p>\n<p><br /><span style='text-decora
 tion: underline\;'><strong>Lunch</strong></span></p>\n<p>1 1/2 - 3 oz Hamb
 urger Steak in Gravy<br />WW Roll<br />1/4-1/2 cup Mashed Potatoes<br />1/
 4-1/2 cup Green Beans<br />1/4 cup Fruit<br />6 oz.1% Milk (ages 6-12 8 oz
 )</p>\n<p><br /><span style='text-decoration: underline\;'><strong>PM Snac
 k</strong></span></p>\n<p>1 oz Ritz Bits Crackers w/Cheese<br />4 oz 1% Mi
 lk (8 oz for ages 6-12)</p>
DTSTART:20250812T000000Z
DTEND:20250812T235959Z
SUMMARY:Tuesday
URL:https://www.denbighchristianacademy.com/index.php/school-calendar/lunch
 -menu/10-school-menu/1866-tuesday
X-ALT-DESC;FMTTYPE=TEXT/HTML:<p><span style='text-decoration: underline\;'>
 <strong>Breakfast</strong></span></p>\n<p><br />1/4-1/2 cup&nbsp\;Oatmeal<
 br />1/4-1/2 cup Fruit<br />1/4-1/2 cup Cereal (optional)<br />6 oz. 1% Mi
 lk (8 oz for ages 6-12)</p>\n<p><br /><span style='text-decoration: underl
 ine\;'><strong>AM Snack</strong></span></p>\n<p>1 oz Cheese Stick<br />2 o
 z Ritz Crackers<br />4 oz Water (8 oz for ages 6-12)</p>\n<p><br /><span s
 tyle='text-decoration: underline\;'><strong>Lunch</strong></span></p>\n<p>
 1 1/2 - 3 oz Hamburger Steak in Gravy<br />WW Roll<br />1/4-1/2 cup Mashed
  Potatoes<br />1/4-1/2 cup Green Beans<br />1/4 cup Fruit<br />6 oz.1% Mil
 k (ages 6-12 8 oz)</p>\n<p><br /><span style='text-decoration: underline\;
 '><strong>PM Snack</strong></span></p>\n<p>1 oz Ritz Bits Crackers w/Chees
 e<br />4 oz 1% Milk (8 oz for ages 6-12)</p>
END:VEVENT
END:VCALENDAR
