BEGIN:VCALENDAR
VERSION:2.0
PRODID:-//https://www.denbighchristianacademy.com//NONSGML kigkonsult.se iC
 alcreator 2.29.29//
CALSCALE:GREGORIAN
METHOD:PUBLISH
UID:b3979923-62f4-4cfe-a8d6-f618c54f67f2
X-WR-CALNAME:JCal Pro Calendar
X-WR-CALDESC:Your online events calendar
X-WR-TIMEZONE:UTC
BEGIN:VTIMEZONE
TZID:UTC
END:VTIMEZONE
BEGIN:VEVENT
UID:20250704T190000UTC-0591cHleAr@https://www.denbighchristianacademy.com/
DTSTAMP:20260424T200534Z
CATEGORIES:School Menu
DESCRIPTION:<p>All of DCA is closed in observance of the 4th of July.</p>
DTSTART:20250704T000000Z
DTEND:20250704T235959Z
SUMMARY:Friday - All of DCA CLOSED for 4th of July
URL:https://www.denbighchristianacademy.com/index.php/school-calendar/lunch
 -menu/10-school-menu/1839-friday-all-of-dca-closed-for-4th-of-july
X-ALT-DESC;FMTTYPE=TEXT/HTML:<p>All of DCA is closed in observance of the 4
 th of July.</p>
END:VEVENT
END:VCALENDAR
