BEGIN:VCALENDAR
VERSION:2.0
PRODID:-//https://www.denbighchristianacademy.com//NONSGML kigkonsult.se iC
 alcreator 2.29.29//
CALSCALE:GREGORIAN
METHOD:PUBLISH
UID:0c6ce8f5-27fd-42ca-9719-f2a272f5967a
X-WR-CALNAME:JCal Pro Calendar
X-WR-CALDESC:Your online events calendar
X-WR-TIMEZONE:UTC
BEGIN:VTIMEZONE
TZID:UTC
END:VTIMEZONE
BEGIN:VEVENT
UID:20250703T180000UTC-9404TVDF5Z@https://www.denbighchristianacademy.com/
DTSTAMP:20260424T163102Z
CATEGORIES:School Menu
DESCRIPTION:<p><span style='text-decoration: underline\;'><strong>Breakfast
 </strong></span></p>\n<p><br />2 oz Biscuit with<br />2 oz Turkey Sausage 
 Patty<br />1/4-1/2 cup Fruit<br />1/4-1/2 cup Cereal (optional)<br />6 oz.
  1% Milk (8 oz for ages 6-12)</p>\n<p><br /><span style='text-decoration: 
 underline\;'><strong>AM Snack</strong></span></p>\n<p>2 oz Seedless Grapes
 <br />2 oz Graham Crackers<br />4 oz Water (8 oz for ages 6-12)</p>\n<p><b
 r /><span style='text-decoration: underline\;'><strong>Lunch</strong></spa
 n></p>\n<p>2 - 4 oz Hot Dog<br />WW Bun<br />1 bag Potato Chips<br />1/4 c
 up Fruit<br />6 oz.1% Milk (ages 6-12 8 oz)</p>\n<p><br /><span style='tex
 t-decoration: underline\;'><strong>PM Snack</strong></span></p>\n<p>1 oz b
 ag Cookies<br />4 oz 1% Milk (8 oz for ages 6-12)</p>
DTSTART:20250703T000000Z
DTEND:20250703T235959Z
SUMMARY:Thursday
URL:https://www.denbighchristianacademy.com/index.php/school-calendar/lunch
 -menu/10-school-menu/1838-thursday
X-ALT-DESC;FMTTYPE=TEXT/HTML:<p><span style='text-decoration: underline\;'>
 <strong>Breakfast</strong></span></p>\n<p><br />2 oz Biscuit with<br />2 o
 z Turkey Sausage Patty<br />1/4-1/2 cup Fruit<br />1/4-1/2 cup Cereal (opt
 ional)<br />6 oz. 1% Milk (8 oz for ages 6-12)</p>\n<p><br /><span style='
 text-decoration: underline\;'><strong>AM Snack</strong></span></p>\n<p>2 o
 z Seedless Grapes<br />2 oz Graham Crackers<br />4 oz Water (8 oz for ages
  6-12)</p>\n<p><br /><span style='text-decoration: underline\;'><strong>Lu
 nch</strong></span></p>\n<p>2 - 4 oz Hot Dog<br />WW Bun<br />1 bag Potato
  Chips<br />1/4 cup Fruit<br />6 oz.1% Milk (ages 6-12 8 oz)</p>\n<p><br /
 ><span style='text-decoration: underline\;'><strong>PM Snack</strong></spa
 n></p>\n<p>1 oz bag Cookies<br />4 oz 1% Milk (8 oz for ages 6-12)</p>
END:VEVENT
END:VCALENDAR
