BEGIN:VCALENDAR
VERSION:2.0
PRODID:-//https://www.denbighchristianacademy.com//NONSGML kigkonsult.se iC
 alcreator 2.29.29//
CALSCALE:GREGORIAN
METHOD:PUBLISH
UID:3ac6a9f5-d152-4f48-b7da-d5e91fec4718
X-WR-CALNAME:JCal Pro Calendar
X-WR-CALDESC:Your online events calendar
X-WR-TIMEZONE:UTC
BEGIN:VTIMEZONE
TZID:UTC
END:VTIMEZONE
BEGIN:VEVENT
UID:20250513T150000UTC-1830jctv9w@https://www.denbighchristianacademy.com/
DTSTAMP:20260424T164721Z
CATEGORIES:School Menu
DESCRIPTION:<p><span style='text-decoration: underline\;'><strong>Breakfast
 </strong></span></p>\n<p><br />2 oz Waffles<br />1/4-1/2 cup Peaches<br />
 1/4-1/2 cup Cereal (optional)<br />6 oz. 1% Milk (8 oz for ages 6-12)</p>
 \n<p><br /><span style='text-decoration: underline\;'><strong>AM Snack</st
 rong></span></p>\n<p>1/2 - 1 Orange<br />2 oz Saltine Crackers<br />4 oz W
 ater (8 oz for ages 6-12)</p>\n<p><br /><span style='text-decoration: unde
 rline\;'><strong>Lunch</strong></span></p>\n<p>1 1/2 - 3 oz Chicken Nugget
 s<br />WW Bread<br />1/4-1/2 cup Broccoli<br />1/4 cup Fruit<br />6 oz.1% 
 Milk (ages 6-12 8 oz)</p>\n<p><br /><span style='text-decoration: underlin
 e\;'><strong>PM Snack</strong></span></p>\n<p>3.9 oz cup Applesauce<br />2
  oz Saltine Crackers<br />4 oz Water (8 oz for ages 6-12)</p>
DTSTART:20250513T000000Z
DTEND:20250513T235959Z
SUMMARY:Tuesday
URL:https://www.denbighchristianacademy.com/index.php/school-calendar/lunch
 -menu/10-school-menu/1752-tuesday
X-ALT-DESC;FMTTYPE=TEXT/HTML:<p><span style='text-decoration: underline\;'>
 <strong>Breakfast</strong></span></p>\n<p><br />2 oz Waffles<br />1/4-1/2 
 cup Peaches<br />1/4-1/2 cup Cereal (optional)<br />6 oz. 1% Milk (8 oz fo
 r ages 6-12)</p>\n<p><br /><span style='text-decoration: underline\;'><str
 ong>AM Snack</strong></span></p>\n<p>1/2 - 1 Orange<br />2 oz Saltine Crac
 kers<br />4 oz Water (8 oz for ages 6-12)</p>\n<p><br /><span style='text-
 decoration: underline\;'><strong>Lunch</strong></span></p>\n<p>1 1/2 - 3 o
 z Chicken Nuggets<br />WW Bread<br />1/4-1/2 cup Broccoli<br />1/4 cup Fru
 it<br />6 oz.1% Milk (ages 6-12 8 oz)</p>\n<p><br /><span style='text-deco
 ration: underline\;'><strong>PM Snack</strong></span></p>\n<p>3.9 oz cup A
 pplesauce<br />2 oz Saltine Crackers<br />4 oz Water (8 oz for ages 6-12)<
 /p>
END:VEVENT
END:VCALENDAR
