BEGIN:VCALENDAR
VERSION:2.0
PRODID:-//https://www.denbighchristianacademy.com//NONSGML kigkonsult.se iC
 alcreator 2.29.29//
CALSCALE:GREGORIAN
METHOD:PUBLISH
UID:6bd92aa9-3536-4218-99c5-0d17a60fb68d
X-WR-CALNAME:JCal Pro Calendar
X-WR-CALDESC:Your online events calendar
X-WR-TIMEZONE:UTC
BEGIN:VTIMEZONE
TZID:UTC
END:VTIMEZONE
BEGIN:VEVENT
UID:20250421T180000UTC-5912V9vgfu@https://www.denbighchristianacademy.com/
DTSTAMP:20260424T175600Z
CATEGORIES:School Menu
DESCRIPTION:<p>All of DCA is closed for Resurrection Monday.</p>
DTSTART:20250421T000000Z
DTEND:20250421T235959Z
SUMMARY:Monday - Closed for Resurrection Monday
URL:https://www.denbighchristianacademy.com/index.php/school-calendar/lunch
 -menu/10-school-menu/1736-monday-closed-for-resurrection-monday
X-ALT-DESC;FMTTYPE=TEXT/HTML:<p>All of DCA is closed for Resurrection Monda
 y.</p>
END:VEVENT
END:VCALENDAR
