BEGIN:VCALENDAR
VERSION:2.0
PRODID:-//https://www.denbighchristianacademy.com//NONSGML kigkonsult.se iC
 alcreator 2.29.29//
CALSCALE:GREGORIAN
METHOD:PUBLISH
UID:75eb9c92-7811-406b-8cca-dd453e26c72e
X-WR-CALNAME:JCal Pro Calendar
X-WR-CALDESC:Your online events calendar
X-WR-TIMEZONE:UTC
BEGIN:VTIMEZONE
TZID:UTC
END:VTIMEZONE
BEGIN:VEVENT
UID:20241220T200000UTC-5718usuOEW@https://www.denbighchristianacademy.com/
DTSTAMP:20260424T211519Z
CATEGORIES:School Menu
DESCRIPTION:<p><span style='text-decoration: underline\;'><strong>Breakfast
 </strong></span></p>\n<p>1/4-1/2 cup Cream of Wheat<br />1/4-1/2 cup Mixed
  Fruit<br />1/4-1/2 cup Cereal (optional)<br />6 oz. 1% Milk (8 oz for age
 s 6-12)</p>\n<p><br /><span style='text-decoration: underline\;'><strong>A
 M Snack</strong></span></p>\n<p>1/2 Apple<br />1 oz Pretzels<br />4 oz Wat
 er (8 oz for ages 6-12)</p>\n<p><br /><span style='text-decoration: underl
 ine\;'><strong>Lunch</strong></span></p>\n<p>2 oz Beef Hotdog on WW Bun<br
  />1/4-1/2 cup Baked Beans<br />1/4 cup Fruit<br />6 oz.1% Milk (ages 6-12
  8 oz)</p>\n<p><br /><span style='text-decoration: underline\;'><strong>PM
  Snack</strong></span></p>\n<p>1 Fruit Pop Tart<br />4 oz 1% Milk (8 oz fo
 r ages 6-12)</p>
DTSTART:20241220T000000Z
DTEND:20241220T235959Z
SUMMARY:Friday
URL:https://www.denbighchristianacademy.com/index.php/school-calendar/lunch
 -menu/10-school-menu/1660-friday
X-ALT-DESC;FMTTYPE=TEXT/HTML:<p><span style='text-decoration: underline\;'>
 <strong>Breakfast</strong></span></p>\n<p>1/4-1/2 cup Cream of Wheat<br />
 1/4-1/2 cup Mixed Fruit<br />1/4-1/2 cup Cereal (optional)<br />6 oz. 1% M
 ilk (8 oz for ages 6-12)</p>\n<p><br /><span style='text-decoration: under
 line\;'><strong>AM Snack</strong></span></p>\n<p>1/2 Apple<br />1 oz Pretz
 els<br />4 oz Water (8 oz for ages 6-12)</p>\n<p><br /><span style='text-d
 ecoration: underline\;'><strong>Lunch</strong></span></p>\n<p>2 oz Beef Ho
 tdog on WW Bun<br />1/4-1/2 cup Baked Beans<br />1/4 cup Fruit<br />6 oz.1
 % Milk (ages 6-12 8 oz)</p>\n<p><br /><span style='text-decoration: underl
 ine\;'><strong>PM Snack</strong></span></p>\n<p>1 Fruit Pop Tart<br />4 oz
  1% Milk (8 oz for ages 6-12)</p>
END:VEVENT
END:VCALENDAR
