BEGIN:VCALENDAR
VERSION:2.0
PRODID:-//https://www.denbighchristianacademy.com//NONSGML kigkonsult.se iC
 alcreator 2.29.29//
CALSCALE:GREGORIAN
METHOD:PUBLISH
UID:92203a46-1409-43c7-a045-f14b09bfd67a
X-WR-CALNAME:JCal Pro Calendar
X-WR-CALDESC:Your online events calendar
X-WR-TIMEZONE:UTC
BEGIN:VTIMEZONE
TZID:UTC
END:VTIMEZONE
BEGIN:VEVENT
UID:20241025T140000UTC-1640mucwkX@https://www.denbighchristianacademy.com/
DTSTAMP:20260424T211027Z
CATEGORIES:School Menu
DESCRIPTION:<p><span style='text-decoration: underline\;'><strong>Breakfast
 </strong></span></p>\n<p>1/4-1/2 cup Cream of Wheat<br />1/4-1/2 cup Mixed
  Fruit<br />1/4-1/2 cup Cereal (optional)<br />6 oz. 1% Milk (8 oz for age
 s 6-12)</p>\n<p><br /><span style='text-decoration: underline\;'><strong>A
 M Snack</strong></span></p>\n<p>1 oz String Cheese<br />2 oz Ritz Crackers
 <br />Water</p>\n<p><br /><span style='text-decoration: underline\;'><stro
 ng>Lunch</strong></span></p>\n<p>1 1/2 - 2 oz Hamburger/Cheeseburger<br />
 on Bun<br />1/4-1/2 cup Corn<br />1/4 cup Fruit<br />6 oz.1% Milk (ages 6-
 12 8 oz)</p>\n<p><br /><span style='text-decoration: underline\;'><strong>
 PM Snack</strong></span></p>\n<p>1 oz bag Ritz Bits w/Cheese<br />4 oz 1% 
 Milk (8 oz for ages 6-12)</p>
DTSTART:20241025T000000Z
DTEND:20241025T235959Z
SUMMARY:Friday
URL:https://www.denbighchristianacademy.com/index.php/school-calendar/lunch
 -menu/10-school-menu/1625-friday
X-ALT-DESC;FMTTYPE=TEXT/HTML:<p><span style='text-decoration: underline\;'>
 <strong>Breakfast</strong></span></p>\n<p>1/4-1/2 cup Cream of Wheat<br />
 1/4-1/2 cup Mixed Fruit<br />1/4-1/2 cup Cereal (optional)<br />6 oz. 1% M
 ilk (8 oz for ages 6-12)</p>\n<p><br /><span style='text-decoration: under
 line\;'><strong>AM Snack</strong></span></p>\n<p>1 oz String Cheese<br />2
  oz Ritz Crackers<br />Water</p>\n<p><br /><span style='text-decoration: u
 nderline\;'><strong>Lunch</strong></span></p>\n<p>1 1/2 - 2 oz Hamburger/C
 heeseburger<br />on Bun<br />1/4-1/2 cup Corn<br />1/4 cup Fruit<br />6 oz
 .1% Milk (ages 6-12 8 oz)</p>\n<p><br /><span style='text-decoration: unde
 rline\;'><strong>PM Snack</strong></span></p>\n<p>1 oz bag Ritz Bits w/Che
 ese<br />4 oz 1% Milk (8 oz for ages 6-12)</p>
END:VEVENT
END:VCALENDAR
