BEGIN:VCALENDAR
VERSION:2.0
PRODID:-//https://www.denbighchristianacademy.com//NONSGML kigkonsult.se iC
 alcreator 2.29.29//
CALSCALE:GREGORIAN
METHOD:PUBLISH
UID:0cd1eee7-7f8b-4017-8b7c-62b49afb280e
X-WR-CALNAME:JCal Pro Calendar
X-WR-CALDESC:Your online events calendar
X-WR-TIMEZONE:UTC
BEGIN:VTIMEZONE
TZID:UTC
END:VTIMEZONE
BEGIN:VEVENT
UID:20241021T130000UTC-1000xBulRv@https://www.denbighchristianacademy.com/
DTSTAMP:20260424T194706Z
CATEGORIES:School Menu
DESCRIPTION:<p><span style='text-decoration: underline\;'><strong>Breakfast
 </strong></span></p>\n<p>1/4-1/2 cup Oatmeal<br />1/4-1/2 cup Pears<br />1
 /4-1/2 cup Cereal (optional)<br />6 oz 1% Mik (8 oz for ages 6-12)</p>\n<p
 ><br /><span style='text-decoration: underline\;'><strong>AM Snack</strong
 ></span></p>\n<p>2 oz Apple Slices<br />2 oz Ritz Crackers<br />Water</p>
 \n<p><br /><span style='text-decoration: underline\;'><strong>Lunch</stron
 g></span></p>\n<p>1 1/2 - 2 oz Chicken Nuggets<br />WW Roll<br />1/4-1/2 c
 up Mixed Vegetables<br />1/4 cup Applesauce<br />6 oz.1% Milk (ages 6-12 8
  oz)</p>\n<p><br /><span style='text-decoration: underline\;'><strong>PM S
 nack</strong></span></p>\n<p>1 oz bag Cheez-it Crackers<br />4 oz 1% Milk 
 (8 oz for ages 6-12)</p>
DTSTART:20241021T000000Z
DTEND:20241021T235959Z
SUMMARY:Monday
URL:https://www.denbighchristianacademy.com/index.php/school-calendar/lunch
 -menu/10-school-menu/1621-monday
X-ALT-DESC;FMTTYPE=TEXT/HTML:<p><span style='text-decoration: underline\;'>
 <strong>Breakfast</strong></span></p>\n<p>1/4-1/2 cup Oatmeal<br />1/4-1/2
  cup Pears<br />1/4-1/2 cup Cereal (optional)<br />6 oz 1% Mik (8 oz for a
 ges 6-12)</p>\n<p><br /><span style='text-decoration: underline\;'><strong
 >AM Snack</strong></span></p>\n<p>2 oz Apple Slices<br />2 oz Ritz Cracker
 s<br />Water</p>\n<p><br /><span style='text-decoration: underline\;'><str
 ong>Lunch</strong></span></p>\n<p>1 1/2 - 2 oz Chicken Nuggets<br />WW Rol
 l<br />1/4-1/2 cup Mixed Vegetables<br />1/4 cup Applesauce<br />6 oz.1% M
 ilk (ages 6-12 8 oz)</p>\n<p><br /><span style='text-decoration: underline
 \;'><strong>PM Snack</strong></span></p>\n<p>1 oz bag Cheez-it Crackers<br
  />4 oz 1% Milk (8 oz for ages 6-12)</p>
END:VEVENT
END:VCALENDAR
