BEGIN:VCALENDAR
VERSION:2.0
PRODID:-//https://www.denbighchristianacademy.com//NONSGML kigkonsult.se iC
 alcreator 2.29.29//
CALSCALE:GREGORIAN
METHOD:PUBLISH
UID:e2d16124-225b-4389-8691-24c99dd8752d
X-WR-CALNAME:JCal Pro Calendar
X-WR-CALDESC:Your online events calendar
X-WR-TIMEZONE:UTC
BEGIN:VTIMEZONE
TZID:UTC
END:VTIMEZONE
BEGIN:VEVENT
UID:20240814T160000UTC-13041CzWDX@https://www.denbighchristianacademy.com/
DTSTAMP:20260424T205119Z
CATEGORIES:School Menu
DESCRIPTION:<p><span style='text-decoration: underline\;'><strong>Breakfast
 </strong></span></p>\n<p>1 ½ - 2 oz Turkey Bacon Biscuit<br />1/4-1/2 cup 
 Mixed Fruit<br />1/4-1/2 cup Cereal (optional)<br />6 oz. 1% Milk (8 oz fo
 r ages 6-12)</p>\n<p><br /><span style='text-decoration: underline\;'><str
 ong>AM Snack</strong></span></p>\n<p>1/4-1/2 cup Cheese Cubes w/Ritz Crack
 ers<br />4 oz Water (8 oz for ages 6-12)</p>\n<p><br /><span style='text-d
 ecoration: underline\;'><strong>Lunch</strong></span></p>\n<p>1 1/2 - 2 oz
  Meat Sauce Nachos<br />w/1 - 2 oz Tortillas<br />1/4-1/2 cup Seasoned Cor
 n<br />1/4 cup Mixed Fruit<br />6 oz.1% Milk (ages 6-12 8 oz)</p>\n<p><br 
 /><span style='text-decoration: underline\;'><strong>PM Snack</strong></sp
 an></p>\n<p>1.62 oz Asst. Fruit Snacks (2 pks)<br />4 oz 1% Milk (8 oz for
  ages 6-12)</p>
DTSTART:20240814T000000Z
DTEND:20240814T235959Z
SUMMARY:Wednesday
URL:https://www.denbighchristianacademy.com/index.php/school-calendar/lunch
 -menu/10-school-menu/1525-wednesday
X-ALT-DESC;FMTTYPE=TEXT/HTML:<p><span style='text-decoration: underline\;'>
 <strong>Breakfast</strong></span></p>\n<p>1 ½ - 2 oz Turkey Bacon Biscuit<
 br />1/4-1/2 cup Mixed Fruit<br />1/4-1/2 cup Cereal (optional)<br />6 oz.
  1% Milk (8 oz for ages 6-12)</p>\n<p><br /><span style='text-decoration: 
 underline\;'><strong>AM Snack</strong></span></p>\n<p>1/4-1/2 cup Cheese C
 ubes w/Ritz Crackers<br />4 oz Water (8 oz for ages 6-12)</p>\n<p><br /><s
 pan style='text-decoration: underline\;'><strong>Lunch</strong></span></p>
 \n<p>1 1/2 - 2 oz Meat Sauce Nachos<br />w/1 - 2 oz Tortillas<br />1/4-1/2
  cup Seasoned Corn<br />1/4 cup Mixed Fruit<br />6 oz.1% Milk (ages 6-12 8
  oz)</p>\n<p><br /><span style='text-decoration: underline\;'><strong>PM S
 nack</strong></span></p>\n<p>1.62 oz Asst. Fruit Snacks (2 pks)<br />4 oz 
 1% Milk (8 oz for ages 6-12)</p>
END:VEVENT
END:VCALENDAR
