BEGIN:VCALENDAR
VERSION:2.0
PRODID:-//https://www.denbighchristianacademy.com//NONSGML kigkonsult.se iC
 alcreator 2.29.29//
CALSCALE:GREGORIAN
METHOD:PUBLISH
UID:45be95f8-93e2-469d-8659-0b7bf1824a66
X-WR-CALNAME:JCal Pro Calendar
X-WR-CALDESC:Your online events calendar
X-WR-TIMEZONE:UTC
BEGIN:VTIMEZONE
TZID:UTC
END:VTIMEZONE
BEGIN:VEVENT
UID:20240725T140000UTC-3217Vmu3M5@https://www.denbighchristianacademy.com/
DTSTAMP:20260424T221222Z
CATEGORIES:School Menu
DESCRIPTION:<p><span style='text-decoration: underline\;'><strong>Breakfast
 </strong></span></p>\n<p>1 ½ -2 oz Oatmeal<br />1/4-1/2 cup Peaches<br />1
 /4-1/2 cup Cereal (optional)<br />6 oz. 1% Milk (8 oz for ages 6-12)</p>\n
 <p><br /><span style='text-decoration: underline\;'><strong>AM Snack</stro
 ng></span></p>\n<p>2 - 3 oz WG Ritz Crackers w/Cheese Cubes<br />4 oz Wate
 r (8 oz for ages 6-12)</p>\n<p><br /><span style='text-decoration: underli
 ne\;'><strong>Lunch</strong></span></p>\n<p>1 1/2 - 2 oz Chicken Tenders<b
 r />WW Roll<br />1/4-1/2 cup Mixed Veggies<br />1/4 cup Fruit Cocktail<br 
 />6 oz.1% Milk (ages 6-12 8 oz)</p>\n<p><br /><span style='text-decoration
 : underline\;'><strong>PM Snack</strong></span></p>\n<p>1 pk Lorne Doone c
 ookies 1.5 oz<br />4 oz 1% Milk (8 oz for ages 6-12)</p>
DTSTART:20240725T000000Z
DTEND:20240725T235959Z
SUMMARY:Thursday
URL:https://www.denbighchristianacademy.com/index.php/school-calendar/lunch
 -menu/10-school-menu/1511-thursday
X-ALT-DESC;FMTTYPE=TEXT/HTML:<p><span style='text-decoration: underline\;'>
 <strong>Breakfast</strong></span></p>\n<p>1 ½ -2 oz Oatmeal<br />1/4-1/2 c
 up Peaches<br />1/4-1/2 cup Cereal (optional)<br />6 oz. 1% Milk (8 oz for
  ages 6-12)</p>\n<p><br /><span style='text-decoration: underline\;'><stro
 ng>AM Snack</strong></span></p>\n<p>2 - 3 oz WG Ritz Crackers w/Cheese Cub
 es<br />4 oz Water (8 oz for ages 6-12)</p>\n<p><br /><span style='text-de
 coration: underline\;'><strong>Lunch</strong></span></p>\n<p>1 1/2 - 2 oz 
 Chicken Tenders<br />WW Roll<br />1/4-1/2 cup Mixed Veggies<br />1/4 cup F
 ruit Cocktail<br />6 oz.1% Milk (ages 6-12 8 oz)</p>\n<p><br /><span style
 ='text-decoration: underline\;'><strong>PM Snack</strong></span></p>\n<p>1
  pk Lorne Doone cookies 1.5 oz<br />4 oz 1% Milk (8 oz for ages 6-12)</p>
END:VEVENT
END:VCALENDAR
