BEGIN:VCALENDAR
VERSION:2.0
PRODID:-//https://www.denbighchristianacademy.com//NONSGML kigkonsult.se iC
 alcreator 2.29.29//
CALSCALE:GREGORIAN
METHOD:PUBLISH
UID:dc9b49fb-b367-45a5-8f7e-c6c4ce1d046d
X-WR-CALNAME:JCal Pro Calendar
X-WR-CALDESC:Your online events calendar
X-WR-TIMEZONE:UTC
BEGIN:VTIMEZONE
TZID:UTC
END:VTIMEZONE
BEGIN:VEVENT
UID:20240702T190000UTC-0514bROSpD@https://www.denbighchristianacademy.com/
DTSTAMP:20260424T205043Z
CATEGORIES:School Menu
DESCRIPTION:<p><span style='text-decoration: underline\;'><strong>Breakfast
 </strong></span></p>\n<p>1 ½ - 2 oz Turkey Sausage<br />1/4-1/2 cup Peache
 s<br />1/4-1/2 cup Cereal (optional)<br />WW Toast<br />6 oz. 1% Milk (8 o
 z for ages 6-12)</p>\n<p><br /><span style='text-decoration: underline\;'>
 <strong>AM Snack</strong></span></p>\n<p>1/4-1/2 cup WG Fig Newtons<br />4
  oz 1% Milk (8 oz for ages 6-12)</p>\n<p><br /><span style='text-decoratio
 n: underline\;'><strong>Lunch</strong></span></p>\n<p>1 1/2 - 2 oz Meat Sa
 uce Nachos<br />w/1-2 oz Tortillas<br />1/4-1/2 cup Seasoned Corn<br />1/4
  cup Mixed Fruit<br />6 oz.1% Milk (ages 6-12 8 oz)</p>\n<p><br /><span st
 yle='text-decoration: underline\;'><strong>PM Snack</strong></span></p>\n<
 p>1.37 oz Captain's Wafers Sandwich Crackers<br />4 oz 1% Milk (8 oz for a
 ges 6-12)</p>
DTSTART:20240702T000000Z
DTEND:20240702T235959Z
SUMMARY:Tuesday
URL:https://www.denbighchristianacademy.com/index.php/school-calendar/lunch
 -menu/10-school-menu/1494-tuesday
X-ALT-DESC;FMTTYPE=TEXT/HTML:<p><span style='text-decoration: underline\;'>
 <strong>Breakfast</strong></span></p>\n<p>1 ½ - 2 oz Turkey Sausage<br />1
 /4-1/2 cup Peaches<br />1/4-1/2 cup Cereal (optional)<br />WW Toast<br />6
  oz. 1% Milk (8 oz for ages 6-12)</p>\n<p><br /><span style='text-decorati
 on: underline\;'><strong>AM Snack</strong></span></p>\n<p>1/4-1/2 cup WG F
 ig Newtons<br />4 oz 1% Milk (8 oz for ages 6-12)</p>\n<p><br /><span styl
 e='text-decoration: underline\;'><strong>Lunch</strong></span></p>\n<p>1 1
 /2 - 2 oz Meat Sauce Nachos<br />w/1-2 oz Tortillas<br />1/4-1/2 cup Seaso
 ned Corn<br />1/4 cup Mixed Fruit<br />6 oz.1% Milk (ages 6-12 8 oz)</p>\n
 <p><br /><span style='text-decoration: underline\;'><strong>PM Snack</stro
 ng></span></p>\n<p>1.37 oz Captain's Wafers Sandwich Crackers<br />4 oz 1%
  Milk (8 oz for ages 6-12)</p>
END:VEVENT
END:VCALENDAR
