BEGIN:VCALENDAR
VERSION:2.0
PRODID:-//https://www.denbighchristianacademy.com//NONSGML kigkonsult.se iC
 alcreator 2.29.29//
CALSCALE:GREGORIAN
METHOD:PUBLISH
UID:7e933412-6c3a-41e8-b698-ad7f5bcadfef
X-WR-CALNAME:JCal Pro Calendar
X-WR-CALDESC:Your online events calendar
X-WR-TIMEZONE:UTC
BEGIN:VTIMEZONE
TZID:UTC
END:VTIMEZONE
BEGIN:VEVENT
UID:20240627T180000UTC-59066Xho6U@https://www.denbighchristianacademy.com/
DTSTAMP:20260424T234825Z
CATEGORIES:School Menu
DESCRIPTION:<p><span style='text-decoration: underline\;'><strong>Breakfast
 </strong></span></p>\n<p>2 - 4 French Toast Sticks<br />1/4-1/2 cup Peache
 s<br />1/4-1/2 cup Cereal (optional)<br />6 oz. 1% Milk (8 oz for ages 6-1
 2)</p>\n<p><br /><span style='text-decoration: underline\;'><strong>AM Sna
 ck</strong></span></p>\n<p>2 oz Graham Crackers<br />4 oz 1% Milk (8 oz fo
 r ages 6-12)</p>\n<p><br /><span style='text-decoration: underline\;'><str
 ong>Lunch</strong></span></p>\n<p>1 1/2 - 2 oz Meat Balls<br />WW Roll<br 
 />1/4-1/2 cup WG Brown Rice&nbsp\;<br />1/4-1/2 cup Peas &amp\; Carrots<br
  />1/4 cup Fruit Cocktail<br />6 oz.1% Milk (ages 6-12 8 oz)</p>\n<p><br /
 ><span style='text-decoration: underline\;'><strong>PM Snack</strong></spa
 n></p>\n<p>1 pk Lorne Doone Cookies 1.5 oz<br />4 oz 1% Milk (8 oz for age
 s 6-12)</p>
DTSTART:20240627T000000Z
DTEND:20240627T235959Z
SUMMARY:Thursday
URL:https://www.denbighchristianacademy.com/index.php/school-calendar/lunch
 -menu/10-school-menu/1491-thursday
X-ALT-DESC;FMTTYPE=TEXT/HTML:<p><span style='text-decoration: underline\;'>
 <strong>Breakfast</strong></span></p>\n<p>2 - 4 French Toast Sticks<br />1
 /4-1/2 cup Peaches<br />1/4-1/2 cup Cereal (optional)<br />6 oz. 1% Milk (
 8 oz for ages 6-12)</p>\n<p><br /><span style='text-decoration: underline\
 ;'><strong>AM Snack</strong></span></p>\n<p>2 oz Graham Crackers<br />4 oz
  1% Milk (8 oz for ages 6-12)</p>\n<p><br /><span style='text-decoration: 
 underline\;'><strong>Lunch</strong></span></p>\n<p>1 1/2 - 2 oz Meat Balls
 <br />WW Roll<br />1/4-1/2 cup WG Brown Rice&nbsp\;<br />1/4-1/2 cup Peas 
 &amp\; Carrots<br />1/4 cup Fruit Cocktail<br />6 oz.1% Milk (ages 6-12 8 
 oz)</p>\n<p><br /><span style='text-decoration: underline\;'><strong>PM Sn
 ack</strong></span></p>\n<p>1 pk Lorne Doone Cookies 1.5 oz<br />4 oz 1% M
 ilk (8 oz for ages 6-12)</p>
END:VEVENT
END:VCALENDAR
