BEGIN:VCALENDAR
VERSION:2.0
PRODID:-//https://www.denbighchristianacademy.com//NONSGML kigkonsult.se iC
 alcreator 2.29.29//
CALSCALE:GREGORIAN
METHOD:PUBLISH
UID:3a6120db-dd09-42d9-a8ee-b38a182f1684
X-WR-CALNAME:JCal Pro Calendar
X-WR-CALDESC:Your online events calendar
X-WR-TIMEZONE:UTC
BEGIN:VTIMEZONE
TZID:UTC
END:VTIMEZONE
BEGIN:VEVENT
UID:20240104T140000UTC-3005awbeBv@https://www.denbighchristianacademy.com/
DTSTAMP:20260425T105321Z
CATEGORIES:School Menu
DESCRIPTION:<p><span style='text-decoration: underline\;'><strong>Breakfast
 </strong></span></p>\n<p>1 - 2 oz Turkey Sausage<br />1 1/2 - 2 oz WW Toas
 t<br />1/4-1/2 cup Frujit Cocktail<br />1/4-1/2 cup Cereal (optional)<br /
 >6 oz. 1% Milk (8 oz for ages 6-12)</p>\n<p><br /><span style='text-decora
 tion: underline\;'><strong>AM Snack</strong></span></p>\n<p>1/4-1/2 cup Fi
 g Newtons<br />4 oz 1% Milk (8 oz for ages 6-12)</p>\n<p><br /><span style
 ='text-decoration: underline\;'><strong>Lunch</strong></span></p>\n<p>1 1/
 2 - 2 oz Salisbury Steak<br />WW Roll<br />1/4-1/2 cup Mashed Potatoes<br 
 />1/4-1/2 cup Mixed Vegetables<br />1/4 cup Fruit Cocktail<br />6 oz.1% Mi
 lk (ages 6-12 8 oz)</p>\n<p><br /><span style='text-decoration: underline\
 ;'><strong>PM Snack</strong></span></p>\n<p>1 oz Graham Crackers<br />4 oz
  1% Milk (8 oz for ages 6-12)</p>
DTSTART:20240104T000000Z
DTEND:20240104T235959Z
SUMMARY:Thursday
URL:https://www.denbighchristianacademy.com/index.php/school-calendar/lunch
 -menu/10-school-menu/1356-thursday
X-ALT-DESC;FMTTYPE=TEXT/HTML:<p><span style='text-decoration: underline\;'>
 <strong>Breakfast</strong></span></p>\n<p>1 - 2 oz Turkey Sausage<br />1 1
 /2 - 2 oz WW Toast<br />1/4-1/2 cup Frujit Cocktail<br />1/4-1/2 cup Cerea
 l (optional)<br />6 oz. 1% Milk (8 oz for ages 6-12)</p>\n<p><br /><span s
 tyle='text-decoration: underline\;'><strong>AM Snack</strong></span></p>\n
 <p>1/4-1/2 cup Fig Newtons<br />4 oz 1% Milk (8 oz for ages 6-12)</p>\n<p>
 <br /><span style='text-decoration: underline\;'><strong>Lunch</strong></s
 pan></p>\n<p>1 1/2 - 2 oz Salisbury Steak<br />WW Roll<br />1/4-1/2 cup Ma
 shed Potatoes<br />1/4-1/2 cup Mixed Vegetables<br />1/4 cup Fruit Cocktai
 l<br />6 oz.1% Milk (ages 6-12 8 oz)</p>\n<p><br /><span style='text-decor
 ation: underline\;'><strong>PM Snack</strong></span></p>\n<p>1 oz Graham C
 rackers<br />4 oz 1% Milk (8 oz for ages 6-12)</p>
END:VEVENT
END:VCALENDAR
