BEGIN:VCALENDAR
VERSION:2.0
PRODID:-//https://www.denbighchristianacademy.com//NONSGML kigkonsult.se iC
 alcreator 2.29.29//
CALSCALE:GREGORIAN
METHOD:PUBLISH
UID:b90c3b2d-4906-481e-a1e4-d050770594b5
X-WR-CALNAME:JCal Pro Calendar
X-WR-CALDESC:Your online events calendar
X-WR-TIMEZONE:UTC
BEGIN:VTIMEZONE
TZID:UTC
END:VTIMEZONE
BEGIN:VEVENT
UID:20231228T160000UTC-1563IwvzZ0@https://www.denbighchristianacademy.com/
DTSTAMP:20260425T105413Z
CATEGORIES:School Menu
DTSTART:20231228T000000Z
DTEND:20231228T235959Z
SUMMARY:Thursday - Closed for Christmas Break
URL:https://www.denbighchristianacademy.com/index.php/school-calendar/lunch
 -menu/10-school-menu/1366-thursday-closed-for-christmas-break
END:VEVENT
END:VCALENDAR
